BEGIN:VCALENDAR
METHOD:REQUEST
PRODID:Microsoft Exchange Server 2010
VERSION:2.0
BEGIN:VTIMEZONE
TZID:UTC
BEGIN:STANDARD
DTSTART:16010101T000000
TZOFFSETFROM:+0000
TZOFFSETTO:+0000
END:STANDARD
BEGIN:DAYLIGHT
DTSTART:16010101T000000
TZOFFSETFROM:+0000
TZOFFSETTO:+0000
END:DAYLIGHT
END:VTIMEZONE
BEGIN:VEVENT
ORGANIZER;CN=ICANN Policy Calendar:MAILTO:PolicyCalendar@icann.org
ATTENDEE;ROLE=REQ-PARTICIPANT;PARTSTAT=NEEDS-ACTION;RSVP=FALSE;CN=accred-mo
 del@icann.org:MAILTO:accred-model@icann.org
ATTENDEE;ROLE=REQ-PARTICIPANT;PARTSTAT=NEEDS-ACTION;RSVP=FALSE;CN=Ozan Sahi
 n:MAILTO:ozan.sahin@icann.org
ATTACH:CID:01D41101A8338A4DA255B09F6DCE4DC2@pexch112.icann.org
DESCRIPTION;LANGUAGE=en-US:Meeting: Accreditation and Access Model for Non-
 Public WHOIS Data Call\n\nDate/time: Thursday\, 26 July 2018 at 16:30 UTC 
 for 90 minutes\n\n\n\n09:30 PDT\, 12:30 EDT\, 18:30 Paris CEST\, 21:30 Kar
 achi PKT\, (Friday) 01:30 Tokyo JST\, (Friday) 02:30 Melbourne AEST\n\n\nF
 or other times:   https://tinyurl.com/y9o2alc5\n\n\n\n\nLink to join Adobe
  Connect Room: https://participate.icann.org/gnso-welcome\n\n\n\nPlease al
 low yourself additional time before start of the meeting to log into Adobe
  Connect.\n\nIf you’re having trouble joining\, please check your plug i
 ns: http://tinyurl.com/icannactest\n\n\n\nFor the best audio quality\, we 
 recommend you join the audio bridge as well. Please see Dial in Numbers an
 d Participant Passcode below.\n\n\n\nIf you require a dial-out (do not sen
 d to full email group) please send an email request with your preferred co
 ntact number to ozan.sahin@icann.org<mailto:ozan.sahin@icann.org>\n\n\n\n\
 n\nPlease let me know if you have any questions.\n\n\n\nThank you.\n\nKind
  regards\,\n\n\n\nOzan Sahin\n\n\n\n______________________________________
 ________________________________\n\n\nParticipant passcode: ACCREDITATION\
 n\n\n\nDial in numbers:\n\nCountry\n                Toll Numbers\n        
 Freephone/\nToll Free Number\n\n\n\nARGENTINA\n                        080
 0-777-0519\n\nAUSTRALIA\n        ADELAIDE:\n        61-8-8121-4842\n      
   1-800-657-260\n\nAUSTRALIA\n        BRISBANE:\n        61-7-3102-0944\n 
        1-800-657-260\n\nAUSTRALIA\n        CANBERRA:\n        61-2-6100-19
 44\n        1-800-657-260\n\nAUSTRALIA\n        MELBOURNE:\n        61-3-9
 010-7713\n        1-800-657-260\n\nAUSTRALIA\n        PERTH:\n        61-8
 -9467-5223\n        1-800-657-260\n\nAUSTRALIA\n        SYDNEY:\n        6
 1-2-8205-8129\n        1-800-657-260\n\nAUSTRIA\n                43-1-92-8
 1-113\n        0800-005-259\n\nBELGIUM\n                32-2-400-9861\n   
      0800-3-8795\n\nBRAZIL\n        SAO PAULO:\n        55-11-3958-0779\n 
        0800-7610651\n\nCHILE\n                        1230-020-2863\n\nCHI
 NA\n        CHINA A:\n        86-400-810-4789\n        10800-712-1670\n\nC
 HINA\n        CHINA B:\n        86-400-810-4789\n        10800-120-1670\n\
 nCOLOMBIA\n                        01800-9-156474\n\nCROATIA\n            
             080-08-06-309\n\nCZECH REPUBLIC\n                420-2-25-98-5
 6-64\n        800-700-177\n\nDENMARK\n                45-7014-0284\n      
   8088-8324\n\nEGYPT\n                        0800000-9029\n\nESTONIA\n   
                      800-011-1093\n\nFINLAND\n                358-9-5424-7
 162\n        0-800-9-14610\n\nFRANCE\n        LYON:\n        33-4-26-69-12
 -85\n        080-511-1496\n\nFRANCE\n        MARSEILLE:\n        33-4-86-0
 6-00-85\n        080-511-1496\n\nFRANCE\n        PARIS:\n        33-1-70-7
 0-60-72\n        080-511-1496\n\nGERMANY\n                49-69-2222-20362
 \n        0800-664-4247\n\nGREECE\n                30-80-1-100-0687\n     
    00800-12-7312\n\nHONG KONG\n                852-3001-3863\n        800-
 962-856\n\nHUNGARY\n                36-1-700-8856\n        06-800-12755\n\
 nINDIA\n        INDIA A:\n                000-800-852-1268\n\nINDIA\n     
    INDIA B:\n                000-800-001-6305\n\nINDIA\n        INDIA C:\n
                 1800-300-00491\n\nINDONESIA\n                        001-8
 03-011-3982\n\nIRELAND\n                353-1-246-7646\n        1800-992-3
 68\n\nISRAEL\n                        1-80-9216162\n\nITALY\n        MILAN
 :\n        39-02-3600-6007\n        800-986-383\n\nITALY\n        ROME:\n 
        39-06-8751-6018\n        800-986-383\n\nITALY\n        TORINO:\n   
      39-011-510-0118\n        800-986-383\n\nJAPAN\n        OSAKA:\n      
   81-6-7878-2631\n        0066-33-132439\n\nJAPAN\n        TOKYO:\n       
  81-3-6868-2631\n        0066-33-132439\n\nLATVIA\n                       
  8000-3185\n\nLUXEMBOURG\n                352-27-000-1364\n        8002-92
 46\n\nMALAYSIA\n                        1-800-81-3065\n\nMEXICO\n        G
 UADALAJARA (JAL):\n        52-33-3208-7310\n        001-866-376-9696\n\nME
 XICO\n        MEXICO CITY:\n        52-55-5062-9110\n        001-866-376-9
 696\n\nMEXICO\n        MONTERREY:\n        52-81-2482-0610\n        001-86
 6-376-9696\n\nNETHERLANDS\n                31-20-718-8588\n        0800-02
 3-4378\n\nNEW ZEALAND\n                64-9-970-4771\n        0800-447-722
 \n\nNORWAY\n                47-21-590-062\n        800-15157\n\nPANAMA\n  
                       011-001-800-5072065\n\nPERU\n                       
  0800-53713\n\nPHILIPPINES\n                63-2-858-3716\n        1800-11
 1-42453\n\nPOLAND\n                        00-800-1212572\n\nPORTUGAL\n   
              351-2-10054705\n        8008-14052\n\nROMANIA\n              
   40-31-630-01-79\n\nRUSSIA\n                        8-10-8002-0144011\n\n
 SAUDI ARABIA\n                        800-8-110087\n\nSINGAPORE\n         
        65-6883-9230\n        800-120-4663\n\nSLOVAK REPUBLIC\n            
     421-2-322-422-25\n        0800-002066\n\nSOUTH AFRICA\n               
          080-09-80414\n\nSOUTH KOREA\n                82-2-6744-1083\n    
     00798-14800-7352\n\nSPAIN\n                34-91-414-25-33\n        80
 0-300-053\n\nSWEDEN\n                46-8-566-19-348\n        0200-884-622
 \n\nSWITZERLAND\n                41-44-580-6398\n        0800-120-032\n\nT
 AIWAN\n                886-2-2795-7379\n        00801-137-797\n\nTHAILAND\
 n                        001-800-1206-66056\n\nTURKEY\n                   
      00-800-151-0516\n\nUNITED ARAB EMIRATES\n                        8000
 -35702370\n\nUNITED KINGDOM\n        BIRMINGHAM:\n        44-121-210-9025\
 n        0808-238-6029\n\nUNITED KINGDOM\n        GLASGOW:\n        44-141
 -202-3225\n        0808-238-6029\n\nUNITED KINGDOM\n        LEEDS:\n      
   44-113-301-2125\n        0808-238-6029\n\nUNITED KINGDOM\n        LONDON
 :\n        44-20-7108-6370\n        0808-238-6029\n\nUNITED KINGDOM\n     
    MANCHESTER:\n        44-161-601-1425\n        0808-238-6029\n\nURUGUAY\
 n                        000-413-598-3421\n\nUSA\n                1-517-34
 5-9004\n        866-692-5726\n\nVENEZUELA\n                        0800-1-
 00-3702\n\nVIETNAM\n                        120-11751\n\n\n\n
SUMMARY;LANGUAGE=en-US:Accreditation and Access Model for Non-Public WHOIS 
 Data
DTSTART;TZID=UTC:20180726T163000
DTEND;TZID=UTC:20180726T180000
UID:3A0940EF-7151-425E-8793-4B1D06743AAD
CLASS:PUBLIC
PRIORITY:5
DTSTAMP:20180723T080731Z
TRANSP:OPAQUE
STATUS:CONFIRMED
SEQUENCE:2
LOCATION;LANGUAGE=en-US:16:30 UTC / https://participate.icann.org/gnso-welc
 ome
X-MICROSOFT-CDO-APPT-SEQUENCE:2
X-MICROSOFT-CDO-OWNERAPPTID:2116527972
X-MICROSOFT-CDO-BUSYSTATUS:TENTATIVE
X-MICROSOFT-CDO-INTENDEDSTATUS:BUSY
X-MICROSOFT-CDO-ALLDAYEVENT:FALSE
X-MICROSOFT-CDO-IMPORTANCE:1
X-MICROSOFT-CDO-INSTTYPE:0
X-MICROSOFT-DISALLOW-COUNTER:TRUE
BEGIN:VALARM
DESCRIPTION:REMINDER
TRIGGER;RELATED=START:-PT15M
ACTION:DISPLAY
END:VALARM
END:VEVENT
END:VCALENDAR
