BEGIN:VCALENDAR
METHOD:REQUEST
PRODID:Microsoft Exchange Server 2010
VERSION:2.0
BEGIN:VTIMEZONE
TZID:Greenwich Standard Time
BEGIN:STANDARD
DTSTART:16010101T000000
TZOFFSETFROM:+0000
TZOFFSETTO:+0000
END:STANDARD
BEGIN:DAYLIGHT
DTSTART:16010101T000000
TZOFFSETFROM:+0000
TZOFFSETTO:+0000
END:DAYLIGHT
END:VTIMEZONE
BEGIN:VEVENT
ORGANIZER;CN=Yubelkys Montalvo:MAILTO:Yubelkys_Montalvo@inter.edu
ATTENDEE;ROLE=REQ-PARTICIPANT;PARTSTAT=NEEDS-ACTION;RSVP=TRUE;CN=staff@atla
 rge.icann.org:MAILTO:staff@atlarge.icann.org
ATTENDEE;ROLE=REQ-PARTICIPANT;PARTSTAT=NEEDS-ACTION;RSVP=TRUE;CN=alac-sc-ou
 treach@atlarge-lists.icann.org:MAILTO:alac-sc-outreach@atlarge-lists.icann
 .org
DESCRIPTION;LANGUAGE=en-US:The ALAC Subcommittee on Outreach and Engagemen
 t Call is scheduled on Tuesday\, 21 February 2017 from 15:00 UTC for 60 
 minutes.
UID:040000008200E00074C5B7101A82E00800000000535099895789D201000000000000000
 01000000046E6DC4605C5A240B6AABCB9A5CB5079
SUMMARY;LANGUAGE=en-US:Call
DTSTART;TZID=Greenwich Standard Time:20170221T150000
DTEND;TZID=Greenwich Standard Time:20170221T153000
CLASS:PUBLIC
PRIORITY:5
DTSTAMP:20170217T195341Z
TRANSP:OPAQUE
STATUS:CONFIRMED
SEQUENCE:0
LOCATION;LANGUAGE=en-US:
X-MICROSOFT-CDO-APPT-SEQUENCE:0
X-MICROSOFT-CDO-OWNERAPPTID:2115145043
X-MICROSOFT-CDO-BUSYSTATUS:TENTATIVE
X-MICROSOFT-CDO-INTENDEDSTATUS:BUSY
X-MICROSOFT-CDO-ALLDAYEVENT:FALSE
X-MICROSOFT-CDO-IMPORTANCE:1
X-MICROSOFT-CDO-INSTTYPE:0
X-MICROSOFT-DISALLOW-COUNTER:FALSE
BEGIN:VALARM
DESCRIPTION:REMINDER
TRIGGER;RELATED=START:-PT15M
ACTION:DISPLAY
END:VALARM
END:VEVENT
END:VCALENDAR
