BEGIN:VCALENDAR
METHOD:REQUEST
PRODID:Microsoft Exchange Server 2010
VERSION:2.0
BEGIN:VTIMEZONE
TZID:SA Western Standard Time
BEGIN:STANDARD
DTSTART:16010101T000000
TZOFFSETFROM:-0400
TZOFFSETTO:-0400
END:STANDARD
BEGIN:DAYLIGHT
DTSTART:16010101T000000
TZOFFSETFROM:-0400
TZOFFSETTO:-0400
END:DAYLIGHT
END:VTIMEZONE
BEGIN:VEVENT
ORGANIZER;CN=Gisella Gruber:MAILTO:Gisella.Gruber@icann.org
ATTENDEE;ROLE=REQ-PARTICIPANT;PARTSTAT=NEEDS-ACTION;RSVP=TRUE;CN=ALAC Outre
 ach SC:MAILTO:alac-sc-outreach@atlarge-lists.icann.org
ATTENDEE;ROLE=REQ-PARTICIPANT;PARTSTAT=NEEDS-ACTION;RSVP=TRUE;CN=Deborah Es
 calera:MAILTO:deborah.escalera@icann.org
ATTENDEE;ROLE=REQ-PARTICIPANT;PARTSTAT=NEEDS-ACTION;RSVP=TRUE;CN=Siranush V
 ardanyan:MAILTO:siranush.vardanyan@icann.org
ATTENDEE;ROLE=REQ-PARTICIPANT;PARTSTAT=NEEDS-ACTION;RSVP=TRUE;CN=Mario Alem
 an:MAILTO:mario.aleman@icann.org
DESCRIPTION;LANGUAGE=en-US:\n
SUMMARY;LANGUAGE=en-US:Joint Outreach Session: NCUC & At-Large
DTSTART;TZID=SA Western Standard Time:20180310T151500
DTEND;TZID=SA Western Standard Time:20180310T164500
UID:2282E954-51E0-4E3A-8085-C5C3519C7125
CLASS:PUBLIC
PRIORITY:5
DTSTAMP:20180308T041544Z
TRANSP:OPAQUE
STATUS:CONFIRMED
SEQUENCE:0
LOCATION;LANGUAGE=en-US:15:15-16:45 | Room 208 BC
X-MICROSOFT-CDO-APPT-SEQUENCE:0
X-MICROSOFT-CDO-OWNERAPPTID:2116240574
X-MICROSOFT-CDO-BUSYSTATUS:TENTATIVE
X-MICROSOFT-CDO-INTENDEDSTATUS:BUSY
X-MICROSOFT-CDO-ALLDAYEVENT:FALSE
X-MICROSOFT-CDO-IMPORTANCE:1
X-MICROSOFT-CDO-INSTTYPE:0
X-MICROSOFT-DISALLOW-COUNTER:FALSE
BEGIN:VALARM
DESCRIPTION:REMINDER
TRIGGER;RELATED=START:-PT15M
ACTION:DISPLAY
END:VALARM
END:VEVENT
END:VCALENDAR
