BEGIN:VCALENDAR
METHOD:REQUEST
PRODID:Microsoft Exchange Server 2010
VERSION:2.0
BEGIN:VTIMEZONE
TZID:Tokyo Standard Time
BEGIN:STANDARD
DTSTART:16010101T000000
TZOFFSETFROM:+0900
TZOFFSETTO:+0900
END:STANDARD
BEGIN:DAYLIGHT
DTSTART:16010101T000000
TZOFFSETFROM:+0900
TZOFFSETTO:+0900
END:DAYLIGHT
END:VTIMEZONE
BEGIN:VEVENT
ORGANIZER;CN=Gisella Gruber:MAILTO:Gisella.Gruber@icann.org
ATTENDEE;ROLE=REQ-PARTICIPANT;PARTSTAT=NEEDS-ACTION;RSVP=TRUE;CN=ALAC Outre
 ach SC:MAILTO:alac-sc-outreach@atlarge-lists.icann.org
DESCRIPTION;LANGUAGE=en-US:\n\nDial-outs noted: Maritza Aguero\, Dev Anand 
 Teelucksingh\n\n\n\n**********\n\n\n\n\n\n                At-Large Outreac
 h and Engagement Subcommittee Meeting\n\n\nAdobe Connect: https://particip
 ate.icann.org/kix64-topaz\n\n\nAgenda:\n\n1.    1. Welcome and overview of
  the meeting (5 min)\n\n2.    2. Review of developing strategies\n\na.    
     A. Outreach and Engagement - Daniel Nanghaka (10 min)\n\nb.       B. C
 apacity Building - Joanna Kulesza (10 min)\n\n3.    3. Status report from 
 Global Stakeholder Engagement (GSE) Liaison to At-Large O&E - Adam Peake (
 10 min)\n\n4.    4. Regional O&E reports from Regional co-Chairs\n\na.    
     A. AFRALO - Sarah Kiden (6 min)\n\nb.       B. APRALO - Ali AlMeshal (
 6 min)\n\nc.        C. EURALO - Matthias Hudobnik (6 min)\n\nd.       D. L
 ACRALO - Maritza Aguero Minano (6 min)\n\ne.        E. NARALO - Glenn McKn
 ight (6 min)\n\n5.    5. O&E Working Group Updates\n\na.        A. Social 
 Media - John Laprise (10 min)\n\nb.       B. Capacity Building - Joanna Ku
 lesza (10min)\n\nc.        C. Technology Task Force (and the updated Stake
 holder Tool)- Judith Hellerstein and Dev Anand Teelucksingh (15 min)\n\n6.
     6. Closure - next meeting 20th April\, 2019 (5 min)\n\n\n
SUMMARY;LANGUAGE=en-US:At-Large Outreach and Engagement Subcommittee Meetin
 g
DTSTART;TZID=Tokyo Standard Time:20190312T083000
DTEND;TZID=Tokyo Standard Time:20190312T101500
UID:6F1DE385-AAFE-4BA9-A74B-EA05D2F9EBBE
CLASS:PUBLIC
PRIORITY:5
DTSTAMP:20190228T154729Z
TRANSP:OPAQUE
STATUS:CONFIRMED
SEQUENCE:0
LOCATION;LANGUAGE=en-US:08:30-10:15 | Topaz Meeting Room 
X-MICROSOFT-CDO-APPT-SEQUENCE:0
X-MICROSOFT-CDO-OWNERAPPTID:2117263765
X-MICROSOFT-CDO-BUSYSTATUS:TENTATIVE
X-MICROSOFT-CDO-INTENDEDSTATUS:BUSY
X-MICROSOFT-CDO-ALLDAYEVENT:FALSE
X-MICROSOFT-CDO-IMPORTANCE:1
X-MICROSOFT-CDO-INSTTYPE:0
X-MICROSOFT-DISALLOW-COUNTER:FALSE
BEGIN:VALARM
DESCRIPTION:REMINDER
TRIGGER;RELATED=START:-PT15M
ACTION:DISPLAY
END:VALARM
END:VEVENT
END:VCALENDAR
