BEGIN:VCALENDAR
METHOD:REQUEST
PRODID:Microsoft Exchange Server 2010
VERSION:2.0
BEGIN:VTIMEZONE
TZID:UTC
BEGIN:STANDARD
DTSTART:16010101T000000
TZOFFSETFROM:+0000
TZOFFSETTO:+0000
END:STANDARD
BEGIN:DAYLIGHT
DTSTART:16010101T000000
TZOFFSETFROM:+0000
TZOFFSETTO:+0000
END:DAYLIGHT
END:VTIMEZONE
BEGIN:VEVENT
ORGANIZER;CN=ICANN Policy Calendar:MAILTO:PolicyCalendar@icann.org
ATTENDEE;ROLE=REQ-PARTICIPANT;PARTSTAT=NEEDS-ACTION;RSVP=TRUE;CN=Heidi Ullr
 ich:MAILTO:Heidi.Ullrich@icann.org
ATTENDEE;ROLE=REQ-PARTICIPANT;PARTSTAT=NEEDS-ACTION;RSVP=TRUE;CN=Silvia Viv
 anco:MAILTO:silvia.vivanco@icann.org
ATTENDEE;ROLE=REQ-PARTICIPANT;PARTSTAT=NEEDS-ACTION;RSVP=TRUE;CN=Gisella Gr
 uber:MAILTO:Gisella.Gruber@icann.org
ATTENDEE;ROLE=REQ-PARTICIPANT;PARTSTAT=NEEDS-ACTION;RSVP=TRUE;CN=Evin Erdog
 du:MAILTO:evin.erdogdu@icann.org
ATTENDEE;ROLE=REQ-PARTICIPANT;PARTSTAT=NEEDS-ACTION;RSVP=TRUE;CN=Andrea Gla
 ndon:MAILTO:andrea.glandon@icann.org
ATTENDEE;ROLE=REQ-PARTICIPANT;PARTSTAT=NEEDS-ACTION;RSVP=TRUE;CN=Claudia Ru
 iz:MAILTO:claudia.ruiz@icann.org
ATTENDEE;ROLE=REQ-PARTICIPANT;PARTSTAT=NEEDS-ACTION;RSVP=TRUE;CN=Michelle D
 eSmyter:MAILTO:michelle.desmyter@icann.org
ATTENDEE;ROLE=REQ-PARTICIPANT;PARTSTAT=NEEDS-ACTION;RSVP=TRUE;CN=Yesim Nazl
 ar:MAILTO:yesim.nazlar@icann.org
ATTENDEE;ROLE=REQ-PARTICIPANT;PARTSTAT=NEEDS-ACTION;RSVP=TRUE;CN=Adam Peake
 :MAILTO:adam.peake@icann.org
ATTENDEE;ROLE=REQ-PARTICIPANT;PARTSTAT=NEEDS-ACTION;RSVP=TRUE;CN=Alac-sc-ou
 treach:MAILTO:alac-sc-outreach@atlarge-lists.icann.org
DESCRIPTION;LANGUAGE=en-US:Dear All\,\n\n\n\nFurther to the Doodle poll\, t
 he next ALAC Subcommittee on Outreach and Engagement Call is scheduled on 
 Thursday\, 25 April 2019 at 17:00 UTC for 90mins.\n\n\n\nFor other times: 
 http://tinyurl.com/yxqed3px\n\n\n\nThe agenda (to be updated) and call det
 ails can be found at: https://community.icann.org/x/3wJ1Bg\n\n\n\nWiki Wor
 kspace: https://community.icann.org/x/cqfbAQ\n\n\n\nAdobe Connect Link:  h
 ttps://participate.icann.org/alacso/\n\n\n\nConference ID:\n\nEN: 1638\n\n
 \n\nDial-in numbers:  http://adigo.com/icann\n\n\n\nIf you require a dial-
 out please contact At-Large staff at staff@atlarge.icann.org<mailto:staff@
 atlarge.icann.org> with your preferred number.\n\n\n\n\n\nThank you.\n\nKi
 nd regards\,\n\n\n\nAt-Large Staff\n\nICANN Policy Staff in support of the
  At-Large Community\n\nWebsite: atlarge.icann.org<https://atlarge.icann.or
 g/>\n\nFacebook: facebook.com/icann<https://www.facebook.com/icannatlarge>
 atlarge<https://www.facebook.com/icannatlarge>\n\nTwitter: @<https://twitt
 er.com/ICANNAtLarge>ICANNAtLarge<https://twitter.com/ICANNAtLarge>\n\n\n\n
 \n\n\n\n\n
SUMMARY;LANGUAGE=en-US:ALAC Subcommittee on Outreach and Engagement Call
DTSTART;TZID=UTC:20190425T170000
DTEND;TZID=UTC:20190425T183000
UID:96546CDC-82E7-4174-88C9-F433242775F5
CLASS:PUBLIC
PRIORITY:5
DTSTAMP:20190416T151314Z
TRANSP:OPAQUE
STATUS:CONFIRMED
SEQUENCE:0
LOCATION;LANGUAGE=en-US:17:00 UTC - ADIGO 1638 - https://participate.icann.
 org/alacso/
X-MICROSOFT-CDO-APPT-SEQUENCE:0
X-MICROSOFT-CDO-OWNERAPPTID:2117370222
X-MICROSOFT-CDO-BUSYSTATUS:TENTATIVE
X-MICROSOFT-CDO-INTENDEDSTATUS:BUSY
X-MICROSOFT-CDO-ALLDAYEVENT:FALSE
X-MICROSOFT-CDO-IMPORTANCE:1
X-MICROSOFT-CDO-INSTTYPE:0
X-MICROSOFT-DISALLOW-COUNTER:FALSE
END:VEVENT
END:VCALENDAR
