BEGIN:VCALENDAR
VERSION:2.0
PRODID:-//Microsoft Corporation//Outlook for Mac MIMEDIR//EN
METHOD:PUBLISH
BEGIN:VTIMEZONE
TZID:Coordinated Universal Time
X-ENTOURAGE-CFTIMEZONE:UTC
X-ENTOURAGE-TZID:93
BEGIN:STANDARD
TZOFFSETFROM:+0000
TZOFFSETTO:+0000
DTSTART:16010101T000000
END:STANDARD
END:VTIMEZONE
BEGIN:VEVENT
UID:87FBC52D-E59D-40DE-8A59-7D8358408A88
X-ENTOURAGE_UUID:87FBC52D-E59D-40DE-8A59-7D8358408A88
X-MICROSOFT-EXCHANGE-ID:AAMkADFlMDNlNjQ5LTNjNTUtNDJkMC04ZTI0LWFiMTFkOTgwND
 JhMQBGAAAAAAAdZPIZTDF9SJl4Q9bAl0gQBwAFskP3JLIoSYZSK2rNBQTXAIjV8WqdAAANV5p2
 g4V9S6g+Ry+Q0bRJAARdXPJnAAA=
X-MICROSOFT-EXCHANGE-CHANGEKEY:DwAAABYAAAANV5p2g4V9S6g+Ry+Q0bRJAARddKww
DTSTAMP:20190522T171134Z
DTSTART;TZID="Coordinated Universal Time":20190530T150000
DTEND;TZID="Coordinated Universal Time":20190530T163000
LAST-MODIFIED:20190522T171134Z
SUMMARY:ALAC Subcommittee on Outreach and Engagement Call
DESCRIPTION:Important: Fixed date & time is set as last Wednesday of every
  month at 17:00 UTC. \n\n\n\n*** Due to the availability of the guest
  speakers\, next week’s call is scheduled at a different
  time.***\n\n\n\n\n\nDear All\, \n\n\n\nFurther to the Doodle poll\, the
  next ALAC Subcommittee on Outreach and Engagement Call is scheduled on
  Thursday\, 30 May 2019 at 15:00 UTC for 90mins.\n\n\n\nFor other times:
  https://tinyurl.com/yxk2ugcp \n\n\n\nThe agenda (to be updated) and call
  details can be found at: https://community.icann.org/x/P4SjBg
  \n\n\n\nWiki Workspace: https://community.icann.org/x/cqfbAQ
  \n\n\n\nZoom Link: https://icann.zoom.us/j/378262490 \n\n\n\nConference
  ID: \n\nEN: 1638\n\n\n\nDial-in numbers:
  http://adigo.com/icann\n\n\n\nIf you require a dial-out please contact
  At-Large staff at staff@atlarge.icann.org with your preferred
  number.\n\n\n\n\n\nThank you.\n\nKind regards\,\n\n\n\nAt-Large
  Staff\n\nICANN Policy Staff in support of the At-Large
  Community\n\nWebsite: atlarge.icann.org \n\nFacebook:
  facebook.com/icannatlarge\n\nTwitter: @ICANNAtLarge\n\n\n
LOCATION:15:00 UTC - ADIGO 1638 - https://icann.zoom.us/j/378262490 
ORGANIZER:MAILTO:PolicyCalendar@icann.org
SEQUENCE:0
ATTENDEE;ROLE=REQ-PARTICIPANT;RSVP=FALSE;CN="Heidi
  Ullrich";PARTSTAT=NEEDS-ACTION:MAILTO:Heidi.Ullrich@icann.org
ATTENDEE;ROLE=REQ-PARTICIPANT;RSVP=FALSE;CN="Silvia
  Vivanco";PARTSTAT=NEEDS-ACTION:MAILTO:silvia.vivanco@icann.org
ATTENDEE;ROLE=REQ-PARTICIPANT;RSVP=FALSE;CN="Gisella
  Gruber";PARTSTAT=NEEDS-ACTION:MAILTO:Gisella.Gruber@icann.org
ATTENDEE;ROLE=REQ-PARTICIPANT;RSVP=FALSE;CN="Evin
  Erdogdu";PARTSTAT=NEEDS-ACTION:MAILTO:evin.erdogdu@icann.org
ATTENDEE;ROLE=REQ-PARTICIPANT;RSVP=FALSE;CN="Claudia
  Ruiz";PARTSTAT=NEEDS-ACTION:MAILTO:claudia.ruiz@icann.org
ATTENDEE;ROLE=REQ-PARTICIPANT;RSVP=FALSE;CN="Michelle
  DeSmyter";PARTSTAT=NEEDS-ACTION:MAILTO:michelle.desmyter@icann.org
ATTENDEE;ROLE=REQ-PARTICIPANT;RSVP=FALSE;CN="Yesim
  Nazlar";PARTSTAT=ACCEPTED:MAILTO:yesim.nazlar@icann.org
ATTENDEE;ROLE=REQ-PARTICIPANT;RSVP=FALSE;CN="Adam
  Peake";PARTSTAT=NEEDS-ACTION:MAILTO:adam.peake@icann.org
ATTENDEE;ROLE=REQ-PARTICIPANT;RSVP=FALSE;CN="Liana
  Teo";PARTSTAT=NEEDS-ACTION:MAILTO:liana.teo@icann.org
ATTENDEE;ROLE=REQ-PARTICIPANT;RSVP=FALSE;CN="Carlos
  Reyes";PARTSTAT=NEEDS-ACTION:MAILTO:carlos.reyes@icann.org
ATTENDEE;ROLE=REQ-PARTICIPANT;RSVP=FALSE;CN=Alac-sc-outreach;PARTSTAT=NEED
 S-ACTION:MAILTO:alac-sc-outreach@atlarge-lists.icann.org
X-MICROSOFT-CDO-BUSYSTATUS:BUSY
X-MICROSOFT-CDO-ALLDAYEVENT:FALSE
X-MICROSOFT-DISALLOW-COUNTER:FALSE
X-MICROSOFT-DONOTFORWARDMEETING:FALSE
X-MICROSOFT-CDO-INSTTYPE:0
END:VEVENT
END:VCALENDAR
