BEGIN:VCALENDAR
METHOD:REQUEST
PRODID:Microsoft Exchange Server 2010
VERSION:2.0
BEGIN:VTIMEZONE
TZID:UTC
BEGIN:STANDARD
DTSTART:16010101T000000
TZOFFSETFROM:+0000
TZOFFSETTO:+0000
END:STANDARD
BEGIN:DAYLIGHT
DTSTART:16010101T000000
TZOFFSETFROM:+0000
TZOFFSETTO:+0000
END:DAYLIGHT
END:VTIMEZONE
BEGIN:VEVENT
ORGANIZER;CN=ICANN Policy Calendar:MAILTO:PolicyCalendar@icann.org
ATTENDEE;ROLE=REQ-PARTICIPANT;PARTSTAT=NEEDS-ACTION;RSVP=TRUE;CN=Heidi Ullr
 ich:MAILTO:Heidi.Ullrich@icann.org
ATTENDEE;ROLE=REQ-PARTICIPANT;PARTSTAT=NEEDS-ACTION;RSVP=TRUE;CN=Silvia Viv
 anco:MAILTO:silvia.vivanco@icann.org
ATTENDEE;ROLE=REQ-PARTICIPANT;PARTSTAT=NEEDS-ACTION;RSVP=TRUE;CN=Gisella Gr
 uber:MAILTO:Gisella.Gruber@icann.org
ATTENDEE;ROLE=REQ-PARTICIPANT;PARTSTAT=NEEDS-ACTION;RSVP=TRUE;CN=Evin Erdog
 du:MAILTO:evin.erdogdu@icann.org
ATTENDEE;ROLE=REQ-PARTICIPANT;PARTSTAT=NEEDS-ACTION;RSVP=TRUE;CN=Claudia Ru
 iz:MAILTO:claudia.ruiz@icann.org
ATTENDEE;ROLE=REQ-PARTICIPANT;PARTSTAT=NEEDS-ACTION;RSVP=TRUE;CN=Michelle D
 eSmyter:MAILTO:michelle.desmyter@icann.org
ATTENDEE;ROLE=REQ-PARTICIPANT;PARTSTAT=NEEDS-ACTION;RSVP=TRUE;CN=Yesim Nazl
 ar:MAILTO:yesim.nazlar@icann.org
ATTENDEE;ROLE=REQ-PARTICIPANT;PARTSTAT=NEEDS-ACTION;RSVP=TRUE;CN=Adam Peake
 :MAILTO:adam.peake@icann.org
ATTENDEE;ROLE=REQ-PARTICIPANT;PARTSTAT=NEEDS-ACTION;RSVP=TRUE;CN=Alac-sc-ou
 treach:MAILTO:alac-sc-outreach@atlarge-lists.icann.org
DESCRIPTION;LANGUAGE=en-US:Dear All\,\n\n\n\nThe next ALAC Subcommittee on 
 Outreach and Engagement Call is scheduled on Wednesday\, 31 July 2019 at 1
 7:00 UTC for 90mins.\n\n\n\nFor other times:  https://tinyurl.com/yyu6mp8t
 \n\n\n\nThe agenda (to be updated) and call details can be found at:  http
 s://community.icann.org/x/V6qjBg\n\n\n\nWiki Workspace: https://community.
 icann.org/x/cqfbAQ\n\n\n\nZoom Link: https://icann.zoom.us/j/954548132\n\n
 \n\nConference ID:\n\nEN: 1638\n\n\n\nDial-in numbers:  http://adigo.com/i
 cann\n\n\n\nIf you require a dial-out please contact At-Large staff at sta
 ff@atlarge.icann.org<mailto:staff@atlarge.icann.org> with your preferred n
 umber.\n\n\n\n\n\nThank you.\n\nKind regards\,\n\n\n\nAt-Large Staff\n\nIC
 ANN Policy Staff in support of the At-Large Community\n\nWebsite: atlarge.
 icann.org<https://atlarge.icann.org/>\n\nFacebook: facebook.com/icann<http
 s://www.facebook.com/icannatlarge>atlarge<https://www.facebook.com/icannat
 large>\n\nTwitter: @<https://twitter.com/ICANNAtLarge>ICANNAtLarge<https:/
 /twitter.com/ICANNAtLarge>\n\n\n\n\n\n\n
SUMMARY;LANGUAGE=en-US:ALAC Subcommittee on Outreach and Engagement Call
DTSTART;TZID=UTC:20190731T170000
DTEND;TZID=UTC:20190731T183000
UID:B3720471-055E-4373-88C0-76456039D277
CLASS:PUBLIC
PRIORITY:5
DTSTAMP:20190711T141154Z
TRANSP:OPAQUE
STATUS:CONFIRMED
SEQUENCE:0
LOCATION;LANGUAGE=en-US:17:00 UTC - ADIGO 1638 - https://icann.zoom.us/j/95
 4548132
X-MICROSOFT-CDO-APPT-SEQUENCE:0
X-MICROSOFT-CDO-OWNERAPPTID:2117557243
X-MICROSOFT-CDO-BUSYSTATUS:TENTATIVE
X-MICROSOFT-CDO-INTENDEDSTATUS:BUSY
X-MICROSOFT-CDO-ALLDAYEVENT:FALSE
X-MICROSOFT-CDO-IMPORTANCE:1
X-MICROSOFT-CDO-INSTTYPE:0
X-MICROSOFT-DISALLOW-COUNTER:FALSE
END:VEVENT
END:VCALENDAR
