BEGIN:VCALENDAR
METHOD:REQUEST
PRODID:Microsoft Exchange Server 2010
VERSION:2.0
BEGIN:VTIMEZONE
TZID:UTC
BEGIN:STANDARD
DTSTART:16010101T000000
TZOFFSETFROM:+0000
TZOFFSETTO:+0000
END:STANDARD
BEGIN:DAYLIGHT
DTSTART:16010101T000000
TZOFFSETFROM:+0000
TZOFFSETTO:+0000
END:DAYLIGHT
END:VTIMEZONE
BEGIN:VEVENT
ORGANIZER;CN=ICANN Policy Calendar:MAILTO:PolicyCalendar@icann.org
ATTENDEE;ROLE=REQ-PARTICIPANT;PARTSTAT=NEEDS-ACTION;RSVP=FALSE;CN=Heidi Ull
 rich:MAILTO:Heidi.Ullrich@icann.org
ATTENDEE;ROLE=REQ-PARTICIPANT;PARTSTAT=NEEDS-ACTION;RSVP=FALSE;CN=Silvia Vi
 vanco:MAILTO:silvia.vivanco@icann.org
ATTENDEE;ROLE=REQ-PARTICIPANT;PARTSTAT=NEEDS-ACTION;RSVP=FALSE;CN=Adam Peak
 e:MAILTO:adam.peake@icann.org
ATTENDEE;ROLE=REQ-PARTICIPANT;PARTSTAT=NEEDS-ACTION;RSVP=FALSE;CN=Gisella G
 ruber:MAILTO:Gisella.Gruber@icann.org
ATTENDEE;ROLE=REQ-PARTICIPANT;PARTSTAT=NEEDS-ACTION;RSVP=FALSE;CN=Evin Erdo
 gdu:MAILTO:evin.erdogdu@icann.org
ATTENDEE;ROLE=REQ-PARTICIPANT;PARTSTAT=NEEDS-ACTION;RSVP=FALSE;CN=mcknight.
 glenn@gmail.com:MAILTO:mcknight.glenn@gmail.com
ATTENDEE;ROLE=REQ-PARTICIPANT;PARTSTAT=NEEDS-ACTION;RSVP=FALSE;CN=Claudia R
 uiz:MAILTO:claudia.ruiz@icann.org
ATTENDEE;ROLE=REQ-PARTICIPANT;PARTSTAT=NEEDS-ACTION;RSVP=FALSE;CN=Michelle 
 DeSmyter:MAILTO:michelle.desmyter@icann.org
ATTENDEE;ROLE=REQ-PARTICIPANT;PARTSTAT=NEEDS-ACTION;RSVP=FALSE;CN=vrikson.i
 .acosta.v@gmail.com:MAILTO:vrikson.i.acosta.v@gmail.com
ATTENDEE;ROLE=REQ-PARTICIPANT;PARTSTAT=NEEDS-ACTION;RSVP=FALSE;CN=peterking
 q@gmail.com:MAILTO:peterkingq@gmail.com
ATTENDEE;ROLE=REQ-PARTICIPANT;PARTSTAT=NEEDS-ACTION;RSVP=FALSE;CN=Yesim Naz
 lar:MAILTO:yesim.nazlar@icann.org
ATTENDEE;ROLE=REQ-PARTICIPANT;PARTSTAT=NEEDS-ACTION;RSVP=FALSE;CN=Alac-sc-o
 utreach:MAILTO:alac-sc-outreach@atlarge-lists.icann.org
ATTENDEE;ROLE=REQ-PARTICIPANT;PARTSTAT=NEEDS-ACTION;RSVP=FALSE;CN=John Lapr
 ise:MAILTO:jlaprise@gmail.com
ATTENDEE;ROLE=REQ-PARTICIPANT;PARTSTAT=NEEDS-ACTION;RSVP=FALSE;CN=rihogris@
 gmail.com:MAILTO:rihogris@gmail.com
ATTENDEE;ROLE=REQ-PARTICIPANT;PARTSTAT=NEEDS-ACTION;RSVP=FALSE;CN=Judith He
 llerstein:MAILTO:judith@jhellerstein.com
ATTENDEE;ROLE=REQ-PARTICIPANT;PARTSTAT=NEEDS-ACTION;RSVP=FALSE;CN=Maritza Y
 . Aguero Minano:MAILTO:myaguero@msn.com
ATTENDEE;ROLE=REQ-PARTICIPANT;PARTSTAT=NEEDS-ACTION;RSVP=FALSE;CN=maureen.h
 ilyard@gmail.com:MAILTO:maureen.hilyard@gmail.com
ATTENDEE;ROLE=REQ-PARTICIPANT;PARTSTAT=NEEDS-ACTION;RSVP=FALSE;CN=langdonor
 r@gmail.com:MAILTO:langdonorr@gmail.com
ATTENDEE;ROLE=REQ-PARTICIPANT;PARTSTAT=NEEDS-ACTION;RSVP=FALSE;CN=Bram Fudz
 ulani:MAILTO:beatblam@hotmail.com
ATTENDEE;ROLE=REQ-PARTICIPANT;PARTSTAT=NEEDS-ACTION;RSVP=FALSE;CN=weaker41@
 gmail.com:MAILTO:weaker41@gmail.com
ATTENDEE;ROLE=REQ-PARTICIPANT;PARTSTAT=NEEDS-ACTION;RSVP=FALSE;CN=Siranush 
 Vardanyan:MAILTO:siranush.vardanyan@icann.org
ATTENDEE;ROLE=REQ-PARTICIPANT;PARTSTAT=NEEDS-ACTION;RSVP=FALSE;CN=Vanda Sca
 rtezini:MAILTO:vanda@scartezini.org
ATTENDEE;ROLE=REQ-PARTICIPANT;PARTSTAT=NEEDS-ACTION;RSVP=FALSE;CN=admin@rob
 ertjacobi.com:MAILTO:admin@robertjacobi.com
ATTENDEE;ROLE=REQ-PARTICIPANT;PARTSTAT=NEEDS-ACTION;RSVP=FALSE;CN=devtee@gm
 ail.com:MAILTO:devtee@gmail.com
ATTENDEE;ROLE=REQ-PARTICIPANT;PARTSTAT=NEEDS-ACTION;RSVP=FALSE;CN=remmyn@gm
 ail.com:MAILTO:remmyn@gmail.com
ATTENDEE;ROLE=REQ-PARTICIPANT;PARTSTAT=NEEDS-ACTION;RSVP=FALSE;CN=dkissoond
 oyal@gmail.com:MAILTO:dkissoondoyal@gmail.com
ATTENDEE;ROLE=REQ-PARTICIPANT;PARTSTAT=NEEDS-ACTION;RSVP=FALSE;CN=Deborah E
 scalera:MAILTO:deborah.escalera@icann.org
ATTENDEE;ROLE=REQ-PARTICIPANT;PARTSTAT=NEEDS-ACTION;RSVP=FALSE;CN=petersomo
 ragbon@gmail.com:MAILTO:petersomoragbon@gmail.com
ATTENDEE;ROLE=REQ-PARTICIPANT;PARTSTAT=NEEDS-ACTION;RSVP=FALSE;CN=icann@isa
 acmaposa.com:MAILTO:icann@isaacmaposa.com
ATTENDEE;ROLE=REQ-PARTICIPANT;PARTSTAT=NEEDS-ACTION;RSVP=FALSE;CN=joanhopek
 @gmail.com:MAILTO:joanhopek@gmail.com
ATTENDEE;ROLE=REQ-PARTICIPANT;PARTSTAT=NEEDS-ACTION;RSVP=FALSE;CN=fsylla@gm
 ail.com:MAILTO:fsylla@gmail.com
ATTENDEE;ROLE=REQ-PARTICIPANT;PARTSTAT=NEEDS-ACTION;RSVP=FALSE;CN=Matthias 
 M. Hudobnik:MAILTO:matthias@hudobnik.at
DESCRIPTION;LANGUAGE=en-US:*** Please note this call will be on Zoom only\,
  without ADIGO phone bridge audio.***\n\n\n\nDear All\,\n\n\n\nThe next AL
 AC Subcommittee on Outreach and Engagement Call is scheduled on Wednesday\
 , 28 August 2019 at 17:00 UTC for 90mins.\n\n\n\nFor other times: https://
 tinyurl.com/y678kvkt\n\n\n\nThe agenda (to be updated) and call details ca
 n be found at: https://community.icann.org/x/oovkBg\n\n\n\nWiki Workspace:
  https://community.icann.org/x/cqfbAQ\n\n\n\nZoom Link: https://icann.zoom
 .us/j/470507044 /<https://icann.zoom.us/j/470507044%20/> Meeting ID: 470-5
 07-044\n\n\n\n\n\nIf you require a dial-out please contact At-Large staff 
 at staff@atlarge.icann.org<mailto:staff@atlarge.icann.org> with your prefe
 rred number.\n\n\n\n\n\nThank you.\n\nKind regards\,\n\n\n\nAt-Large Staff
 \n\nICANN Policy Staff in support of the At-Large Community\n\nWebsite: at
 large.icann.org<https://atlarge.icann.org/>\n\nFacebook: facebook.com/ican
 n<https://www.facebook.com/icannatlarge>atlarge<https://www.facebook.com/i
 cannatlarge>\n\nTwitter: @<https://twitter.com/ICANNAtLarge>ICANNAtLarge<h
 ttps://twitter.com/ICANNAtLarge>\n\n\n\n\n\n\n\n\n
SUMMARY;LANGUAGE=en-US:ALAC Subcommittee on Outreach and Engagement 
DTSTART;TZID=UTC:20190828T170000
DTEND;TZID=UTC:20190828T183000
UID:B802827A-D453-4F52-8F4A-F726F06487E6
CLASS:PUBLIC
PRIORITY:5
DTSTAMP:20190820T175454Z
TRANSP:OPAQUE
STATUS:CONFIRMED
SEQUENCE:0
LOCATION;LANGUAGE=en-US:17:00 UTC - https://icann.zoom.us/j/470507044 / 
X-MICROSOFT-CDO-APPT-SEQUENCE:0
X-MICROSOFT-CDO-OWNERAPPTID:2117642054
X-MICROSOFT-CDO-BUSYSTATUS:TENTATIVE
X-MICROSOFT-CDO-INTENDEDSTATUS:BUSY
X-MICROSOFT-CDO-ALLDAYEVENT:FALSE
X-MICROSOFT-CDO-IMPORTANCE:1
X-MICROSOFT-CDO-INSTTYPE:0
X-MICROSOFT-DISALLOW-COUNTER:FALSE
BEGIN:VALARM
DESCRIPTION:REMINDER
TRIGGER;RELATED=START:-PT15M
ACTION:DISPLAY
END:VALARM
END:VEVENT
END:VCALENDAR
