BEGIN:VCALENDAR
VERSION:2.0
PRODID:-//Microsoft Corporation//Outlook for Mac MIMEDIR//EN
METHOD:PUBLISH
BEGIN:VTIMEZONE
TZID:Coordinated Universal Time
X-ENTOURAGE-CFTIMEZONE:UTC
X-ENTOURAGE-TZID:93
BEGIN:STANDARD
TZOFFSETFROM:+0000
TZOFFSETTO:+0000
DTSTART:16010101T000000
END:STANDARD
END:VTIMEZONE
BEGIN:VEVENT
UID:BED0EB31-2901-4D1B-9C6B-14505331F5B2
X-ENTOURAGE_UUID:BED0EB31-2901-4D1B-9C6B-14505331F5B2
X-MICROSOFT-EXCHANGE-ID:AAMkADFlMDNlNjQ5LTNjNTUtNDJkMC04ZTI0LWFiMTFkOTgwND
 JhMQBGAAAAAAAdZPIZTDF9SJl4Q9bAl0gQBwAFskP3JLIoSYZSK2rNBQTXAIjV8WqdAAANV5p2
 g4V9S6g+Ry+Q0bRJAAT3o3qtAAA=
X-MICROSOFT-EXCHANGE-CHANGEKEY:DwAAABYAAAANV5p2g4V9S6g+Ry+Q0bRJAAT3vrCx
DTSTAMP:20191125T194332Z
DTSTART;TZID="Coordinated Universal Time":20191218T170000
DTEND;TZID="Coordinated Universal Time":20191218T183000
LAST-MODIFIED:20191125T194334Z
SUMMARY:ALAC Subcommittee on Outreach and Engagement 
DESCRIPTION:Dear All\, \n\n\n\nThe next ALAC Subcommittee on Outreach and
  Engagement Call is scheduled on Wednesday\, 18 December 2019 at 17:00
  UTC for 90mins.\n\n\n\nFor other times:
  https://tinyurl.com/tyg2d9g\n\n\n\nThe agenda (to be updated) and call
  details can be found at:
  https://community.icann.org/x/IZczBw\n\n\n\nWiki Workspace:
  https://community.icann.org/x/cqfbAQ \n\n\n\nZoom Link:
  https://icann.zoom.us/j/367458146  Meeting ID:
  367-458-146\n\n\n\n\n\nIf you require a dial-out please contact At-Large
  staff at staff@atlarge.icann.org with your preferred
  number.\n\n\n\n\n\nThank you.\n\nKind regards\,\n\n\n\nAt-Large
  Staff\n\nICANN Policy Staff in support of the At-Large
  Community\n\nWebsite: atlarge.icann.org \n\nFacebook:
  facebook.com/icannatlarge\n\nTwitter:
  @ICANNAtLarge\n\n\n\n\n\n\n\n\n\n\n\n\n
LOCATION:17:00 UTC - https://icann.zoom.us/j/367458146  
ORGANIZER:MAILTO:PolicyCalendar@icann.org
SEQUENCE:0
ATTENDEE;ROLE=REQ-PARTICIPANT;RSVP=FALSE;CN="Heidi
  Ullrich";PARTSTAT=NEEDS-ACTION:MAILTO:Heidi.Ullrich@icann.org
ATTENDEE;ROLE=REQ-PARTICIPANT;RSVP=FALSE;CN="Silvia
  Vivanco";PARTSTAT=NEEDS-ACTION:MAILTO:silvia.vivanco@icann.org
ATTENDEE;ROLE=REQ-PARTICIPANT;RSVP=FALSE;CN="Adam
  Peake";PARTSTAT=NEEDS-ACTION:MAILTO:adam.peake@icann.org
ATTENDEE;ROLE=REQ-PARTICIPANT;RSVP=FALSE;CN="Gisella
  Gruber";PARTSTAT=NEEDS-ACTION:MAILTO:Gisella.Gruber@icann.org
ATTENDEE;ROLE=REQ-PARTICIPANT;RSVP=FALSE;CN="Evin
  Erdogdu";PARTSTAT=NEEDS-ACTION:MAILTO:evin.erdogdu@icann.org
ATTENDEE;ROLE=REQ-PARTICIPANT;RSVP=FALSE;CN=mcknight.glenn@gmail.com;PARTS
 TAT=NEEDS-ACTION:MAILTO:mcknight.glenn@gmail.com
ATTENDEE;ROLE=REQ-PARTICIPANT;RSVP=FALSE;CN="Claudia
  Ruiz";PARTSTAT=NEEDS-ACTION:MAILTO:claudia.ruiz@icann.org
ATTENDEE;ROLE=REQ-PARTICIPANT;RSVP=FALSE;CN="Michelle
  DeSmyter";PARTSTAT=NEEDS-ACTION:MAILTO:michelle.desmyter@icann.org
ATTENDEE;ROLE=REQ-PARTICIPANT;RSVP=FALSE;CN=vrikson.i.acosta.v@gmail.com;P
 ARTSTAT=NEEDS-ACTION:MAILTO:vrikson.i.acosta.v@gmail.com
ATTENDEE;ROLE=REQ-PARTICIPANT;RSVP=FALSE;CN=peterkingq@gmail.com;PARTSTAT=
 NEEDS-ACTION:MAILTO:peterkingq@gmail.com
ATTENDEE;ROLE=REQ-PARTICIPANT;RSVP=FALSE;CN="Yesim
  Nazlar";PARTSTAT=NEEDS-ACTION:MAILTO:yesim.nazlar@icann.org
ATTENDEE;ROLE=REQ-PARTICIPANT;RSVP=FALSE;CN=Alac-sc-outreach;PARTSTAT=NEED
 S-ACTION:MAILTO:alac-sc-outreach@atlarge-lists.icann.org
ATTENDEE;ROLE=REQ-PARTICIPANT;RSVP=FALSE;CN=jlaprise@gmail.com;PARTSTAT=NE
 EDS-ACTION:MAILTO:jlaprise@gmail.com
ATTENDEE;ROLE=REQ-PARTICIPANT;RSVP=FALSE;CN=rihogris@gmail.com;PARTSTAT=NE
 EDS-ACTION:MAILTO:rihogris@gmail.com
ATTENDEE;ROLE=REQ-PARTICIPANT;RSVP=FALSE;CN="Judith
  Hellerstein";PARTSTAT=NEEDS-ACTION:MAILTO:judith@jhellerstein.com
ATTENDEE;ROLE=REQ-PARTICIPANT;RSVP=FALSE;CN="Maritza Y. Aguero
  Minano";PARTSTAT=NEEDS-ACTION:MAILTO:myaguero@msn.com
ATTENDEE;ROLE=REQ-PARTICIPANT;RSVP=FALSE;CN=maureen.hilyard@gmail.com;PART
 STAT=NEEDS-ACTION:MAILTO:maureen.hilyard@gmail.com
ATTENDEE;ROLE=REQ-PARTICIPANT;RSVP=FALSE;CN=langdonorr@gmail.com;PARTSTAT=
 NEEDS-ACTION:MAILTO:langdonorr@gmail.com
ATTENDEE;ROLE=REQ-PARTICIPANT;RSVP=FALSE;CN="Bram
  Fudzulani";PARTSTAT=NEEDS-ACTION:MAILTO:beatblam@hotmail.com
ATTENDEE;ROLE=REQ-PARTICIPANT;RSVP=FALSE;CN=weaker41@gmail.com;PARTSTAT=NE
 EDS-ACTION:MAILTO:weaker41@gmail.com
ATTENDEE;ROLE=REQ-PARTICIPANT;RSVP=FALSE;CN="Siranush
  Vardanyan";PARTSTAT=NEEDS-ACTION:MAILTO:siranush.vardanyan@icann.org
ATTENDEE;ROLE=REQ-PARTICIPANT;RSVP=FALSE;CN="Vanda
  Scartezini";PARTSTAT=NEEDS-ACTION:MAILTO:vanda@scartezini.org
ATTENDEE;ROLE=REQ-PARTICIPANT;RSVP=FALSE;CN=admin@robertjacobi.com;PARTSTA
 T=NEEDS-ACTION:MAILTO:admin@robertjacobi.com
ATTENDEE;ROLE=REQ-PARTICIPANT;RSVP=FALSE;CN=devtee@gmail.com;PARTSTAT=NEED
 S-ACTION:MAILTO:devtee@gmail.com
ATTENDEE;ROLE=REQ-PARTICIPANT;RSVP=FALSE;CN=remmyn@gmail.com;PARTSTAT=NEED
 S-ACTION:MAILTO:remmyn@gmail.com
ATTENDEE;ROLE=REQ-PARTICIPANT;RSVP=FALSE;CN=dkissoondoyal@gmail.com;PARTST
 AT=NEEDS-ACTION:MAILTO:dkissoondoyal@gmail.com
ATTENDEE;ROLE=REQ-PARTICIPANT;RSVP=FALSE;CN="Deborah
  Escalera";PARTSTAT=NEEDS-ACTION:MAILTO:deborah.escalera@icann.org
ATTENDEE;ROLE=REQ-PARTICIPANT;RSVP=FALSE;CN=petersomoragbon@gmail.com;PART
 STAT=NEEDS-ACTION:MAILTO:petersomoragbon@gmail.com
ATTENDEE;ROLE=REQ-PARTICIPANT;RSVP=FALSE;CN=icann@isaacmaposa.com;PARTSTAT
 =NEEDS-ACTION:MAILTO:icann@isaacmaposa.com
ATTENDEE;ROLE=REQ-PARTICIPANT;RSVP=FALSE;CN=joanhopek@gmail.com;PARTSTAT=N
 EEDS-ACTION:MAILTO:joanhopek@gmail.com
ATTENDEE;ROLE=REQ-PARTICIPANT;RSVP=FALSE;CN=fsylla@gmail.com;PARTSTAT=NEED
 S-ACTION:MAILTO:fsylla@gmail.com
ATTENDEE;ROLE=REQ-PARTICIPANT;RSVP=FALSE;CN="Matthias M.
  Hudobnik";PARTSTAT=NEEDS-ACTION:MAILTO:matthias@hudobnik.at
X-MICROSOFT-CDO-BUSYSTATUS:BUSY
X-MICROSOFT-CDO-ALLDAYEVENT:FALSE
X-MICROSOFT-DISALLOW-COUNTER:TRUE
X-MICROSOFT-DONOTFORWARDMEETING:FALSE
X-MICROSOFT-CDO-INSTTYPE:0
BEGIN:VALARM
ACTION:DISPLAY
DESCRIPTION:REMINDER
TRIGGER;RELATED=START:-PT00H15M00S
END:VALARM
END:VEVENT
END:VCALENDAR
