BEGIN:VCALENDAR
VERSION:2.0
PRODID:-//Microsoft Corporation//Outlook for Mac MIMEDIR//EN
METHOD:PUBLISH
BEGIN:VTIMEZONE
TZID:Pacific Time (US & Canada)
X-ENTOURAGE-CFTIMEZONE:US/Pacific
X-ENTOURAGE-TZID:1
BEGIN:STANDARD
RRULE:FREQ=YEARLY;INTERVAL=1;BYSECOND=0;BYMINUTE=0;BYHOUR=2;BYDAY=1SU;BYMO
 NTH=11
TZOFFSETFROM:-0700
TZOFFSETTO:-0800
DTSTART:20071104T020000
END:STANDARD
BEGIN:DAYLIGHT
RRULE:FREQ=YEARLY;INTERVAL=1;BYSECOND=0;BYMINUTE=0;BYHOUR=2;BYDAY=2SU;BYMO
 NTH=3
TZOFFSETFROM:-0800
TZOFFSETTO:-0700
DTSTART:20070311T020000
END:DAYLIGHT
END:VTIMEZONE
BEGIN:VEVENT
UID:513E9451-8314-4378-A042-BE7320098926
X-ENTOURAGE_UUID:513E9451-8314-4378-A042-BE7320098926
X-MICROSOFT-EXCHANGE-ID:AAMkADFlMDNlNjQ5LTNjNTUtNDJkMC04ZTI0LWFiMTFkOTgwND
 JhMQBGAAAAAAAdZPIZTDF9SJl4Q9bAl0gQBwAFskP3JLIoSYZSK2rNBQTXAIjV8WqdAAANV5p2
 g4V9S6g+Ry+Q0bRJAAU7hOfeAAA=
X-MICROSOFT-EXCHANGE-CHANGEKEY:DwAAABYAAAANV5p2g4V9S6g+Ry+Q0bRJAAU7plI8
DTSTAMP:20200201T024119Z
DTSTART;TZID="Pacific Time (US & Canada)":20200203T080000
DTEND;TZID="Pacific Time (US & Canada)":20200203T093000
LAST-MODIFIED:20200201T024121Z
SUMMARY:ALAC Subcommittee on Outreach and Engagement 
DESCRIPTION:Dear All\, \n\n\n\nThe next ALAC Subcommittee on Outreach and
  Engagement Call is scheduled on Monday\, 03 February 2020 at 16:00 UTC
  for 90 mins.\n\n\n\nFor other times:
  https://tinyurl.com/sbv8b5g\n\n\n\nThe agenda (to be updated) and call
  details can be found at:
  https://community.icann.org/x/aRCJBw\n\n\n\nWiki Workspace:
  https://community.icann.org/x/cqfbAQ \n\n\n\nZoom Link:
  https://icann.zoom.us/j/760642963  Meeting ID:
  760-642-963\n\n\n\n\n\n\n\nIf you require a dial-out please contact
  At-Large staff at staff@atlarge.icann.org with your preferred
  number.\n\n\n\n\n\nThank you.\n\nKind regards\,\n\n\n\nAt-Large
  Staff\n\nICANN Policy Staff in support of the At-Large
  Community\n\nWebsite: atlarge.icann.org \n\nFacebook:
  facebook.com/icannatlarge\n\nTwitter: @ICANNAtLarge\n
LOCATION:16:00 UTC - Zoom: https://icann.zoom.us/j/760642963  
ORGANIZER:MAILTO:PolicyCalendar@icann.org
SEQUENCE:0
ATTENDEE;ROLE=REQ-PARTICIPANT;RSVP=FALSE;CN="Heidi
  Ullrich";PARTSTAT=NEEDS-ACTION:MAILTO:Heidi.Ullrich@icann.org
ATTENDEE;ROLE=REQ-PARTICIPANT;RSVP=FALSE;CN="Silvia
  Vivanco";PARTSTAT=NEEDS-ACTION:MAILTO:silvia.vivanco@icann.org
ATTENDEE;ROLE=REQ-PARTICIPANT;RSVP=FALSE;CN="Gisella
  Gruber";PARTSTAT=NEEDS-ACTION:MAILTO:Gisella.Gruber@icann.org
ATTENDEE;ROLE=REQ-PARTICIPANT;RSVP=FALSE;CN="Evin
  Erdogdu";PARTSTAT=NEEDS-ACTION:MAILTO:evin.erdogdu@icann.org
ATTENDEE;ROLE=REQ-PARTICIPANT;RSVP=FALSE;CN="Yesim
  Nazlar";PARTSTAT=NEEDS-ACTION:MAILTO:yesim.nazlar@icann.org
X-MICROSOFT-CDO-BUSYSTATUS:BUSY
X-MICROSOFT-CDO-ALLDAYEVENT:FALSE
X-MICROSOFT-DISALLOW-COUNTER:FALSE
X-MICROSOFT-DONOTFORWARDMEETING:FALSE
X-MICROSOFT-CDO-INSTTYPE:0
BEGIN:VALARM
ACTION:DISPLAY
DESCRIPTION:REMINDER
TRIGGER;RELATED=START:-PT00H15M00S
END:VALARM
END:VEVENT
END:VCALENDAR
