BEGIN:VCALENDAR
VERSION:2.0
PRODID:-//Microsoft Corporation//Outlook for Mac MIMEDIR//EN
METHOD:PUBLISH
BEGIN:VTIMEZONE
TZID:Coordinated Universal Time
X-ENTOURAGE-CFTIMEZONE:UTC
X-ENTOURAGE-TZID:93
BEGIN:STANDARD
TZOFFSETFROM:+0000
TZOFFSETTO:+0000
DTSTART:16010101T000000
END:STANDARD
END:VTIMEZONE
BEGIN:VEVENT
UID:DC7E67E4-A5A3-4420-B51F-32527A7C4E46
X-ENTOURAGE_UUID:DC7E67E4-A5A3-4420-B51F-32527A7C4E46
X-MICROSOFT-EXCHANGE-ID:AAMkADFlMDNlNjQ5LTNjNTUtNDJkMC04ZTI0LWFiMTFkOTgwND
 JhMQBGAAAAAAAdZPIZTDF9SJl4Q9bAl0gQBwAFskP3JLIoSYZSK2rNBQTXAIjV8WqdAAANV5p2
 g4V9S6g+Ry+Q0bRJAAVRSbyhAAA=
X-MICROSOFT-EXCHANGE-CHANGEKEY:DwAAABYAAAANV5p2g4V9S6g+Ry+Q0bRJAAVRbXqb
DTSTAMP:20200317T193911Z
DTSTART;TZID="Coordinated Universal Time":20200325T170000
DTEND;TZID="Coordinated Universal Time":20200325T183000
LAST-MODIFIED:20200317T193913Z
SUMMARY:ALAC Subcommittee on Outreach and Engagement Call 
DESCRIPTION:**If you require a dial-out or need to state an apology\,
  please contact At-Large staff at staff@atlarge.icann.org with your
  preferred number.**\n\n \n\n\n\nDear All\,\n\n \n\nThe next ALAC
  Subcommittee on Outreach and Engagement Call is scheduled on Wednesday\,
  25 March 2020 at 17:00 UTC for 90 mins.\n\n \n\nFor other times:
   https://tinyurl.com/umvujqx\n\n \n\nThe agenda (to be updated) and call
  details can be found at:  https://community.icann.org/x/UyiJBw\n\n
  \n\nWiki Workspace: https://community.icann.org/x/cqfbAQ\n\n \n\nZoom
  Link:  https://icann.zoom.us/j/901456289 Meeting ID:
  901-456-289\n\n\n\nADIGO Conference Bridge: EN 1638\n\n\n\nToll-free
  access number (US and Canada): 800 550 6865\n\n\n\nOther toll free
  numbers: http://adigo.com/icann/\n\n\n\n \n\n \n\nIf you require a
  dial-out please contact At-Large staff at staff@atlarge.icann.org with
  your preferred number.\n\n \n\n \n\nThank you.\n\nKind regards\,\n\n
  \n\nAt-Large Staff\n\nICANN Policy Staff in support of the At-Large
  Community\n\nWebsite: atlarge.icann.org\n\nFacebook:
  facebook.com/icannatlarge\n\nTwitter: @ICANNAtLarge\n\n \n\n \n\n \n\n\n
LOCATION:17:00 UTC - EN:1638 - Zoom: https://icann.zoom.us/j/901456289
ORGANIZER:MAILTO:PolicyCalendar@icann.org
SEQUENCE:0
ATTENDEE;ROLE=REQ-PARTICIPANT;RSVP=FALSE;CN="Heidi Ullrich
  (Heidi.Ullrich@icann.org)";PARTSTAT=NEEDS-ACTION:MAILTO:Heidi.Ullrich@ica
 nn.org
ATTENDEE;ROLE=REQ-PARTICIPANT;RSVP=FALSE;CN="Silvia Vivanco
  (silvia.vivanco@icann.org)";PARTSTAT=NEEDS-ACTION:MAILTO:silvia.vivanco@i
 cann.org
ATTENDEE;ROLE=REQ-PARTICIPANT;RSVP=FALSE;CN="Adam
  Peake";PARTSTAT=NEEDS-ACTION:MAILTO:adam.peake@icann.org
ATTENDEE;ROLE=REQ-PARTICIPANT;RSVP=FALSE;CN="Gisella
  Gruber";PARTSTAT=NEEDS-ACTION:MAILTO:Gisella.Gruber@icann.org
ATTENDEE;ROLE=REQ-PARTICIPANT;RSVP=FALSE;CN="Evin
  Erdogdu";PARTSTAT=NEEDS-ACTION:MAILTO:evin.erdogdu@icann.org
ATTENDEE;ROLE=REQ-PARTICIPANT;RSVP=FALSE;CN=mcknight.glenn@gmail.com;PARTS
 TAT=NEEDS-ACTION:MAILTO:mcknight.glenn@gmail.com
ATTENDEE;ROLE=REQ-PARTICIPANT;RSVP=FALSE;CN="Claudia
  Ruiz";PARTSTAT=NEEDS-ACTION:MAILTO:claudia.ruiz@icann.org
ATTENDEE;ROLE=REQ-PARTICIPANT;RSVP=FALSE;CN="Michelle
  DeSmyter";PARTSTAT=NEEDS-ACTION:MAILTO:michelle.desmyter@icann.org
ATTENDEE;ROLE=REQ-PARTICIPANT;RSVP=FALSE;CN=vrikson.i.acosta.v@gmail.com;P
 ARTSTAT=NEEDS-ACTION:MAILTO:vrikson.i.acosta.v@gmail.com
ATTENDEE;ROLE=REQ-PARTICIPANT;RSVP=FALSE;CN=peterkingq@gmail.com;PARTSTAT=
 NEEDS-ACTION:MAILTO:peterkingq@gmail.com
ATTENDEE;ROLE=REQ-PARTICIPANT;RSVP=FALSE;CN="Yesim
  Nazlar";PARTSTAT=NEEDS-ACTION:MAILTO:yesim.nazlar@icann.org
ATTENDEE;ROLE=REQ-PARTICIPANT;RSVP=FALSE;CN=Alac-sc-outreach;PARTSTAT=NEED
 S-ACTION:MAILTO:alac-sc-outreach@atlarge-lists.icann.org
ATTENDEE;ROLE=REQ-PARTICIPANT;RSVP=FALSE;CN="John
  Laprise";PARTSTAT=NEEDS-ACTION:MAILTO:jlaprise@gmail.com
ATTENDEE;ROLE=REQ-PARTICIPANT;RSVP=FALSE;CN="Ricardo  Holmquist
  ";PARTSTAT=NEEDS-ACTION:MAILTO:rihogris@gmail.com
ATTENDEE;ROLE=REQ-PARTICIPANT;RSVP=FALSE;CN="Judith
  Hellerstein";PARTSTAT=NEEDS-ACTION:MAILTO:judith@jhellerstein.com
ATTENDEE;ROLE=REQ-PARTICIPANT;RSVP=FALSE;CN="Maritza Y. Aguero
  Minano";PARTSTAT=NEEDS-ACTION:MAILTO:myaguero@msn.com
ATTENDEE;ROLE=REQ-PARTICIPANT;RSVP=FALSE;CN="Maureen
  Hilyard";PARTSTAT=NEEDS-ACTION:MAILTO:maureen.hilyard@gmail.com
ATTENDEE;ROLE=REQ-PARTICIPANT;RSVP=FALSE;CN="Cheryl
  Langdon-Orr";PARTSTAT=NEEDS-ACTION:MAILTO:langdonorr@gmail.com
ATTENDEE;ROLE=REQ-PARTICIPANT;RSVP=FALSE;CN="Bram
  Fudzulani";PARTSTAT=NEEDS-ACTION:MAILTO:beatblam@hotmail.com
ATTENDEE;ROLE=REQ-PARTICIPANT;RSVP=FALSE;CN=weaker41@gmail.com;PARTSTAT=NE
 EDS-ACTION:MAILTO:weaker41@gmail.com
ATTENDEE;ROLE=REQ-PARTICIPANT;RSVP=FALSE;CN="Siranush
  Vardanyan";PARTSTAT=NEEDS-ACTION:MAILTO:siranush.vardanyan@icann.org
ATTENDEE;ROLE=REQ-PARTICIPANT;RSVP=FALSE;CN="Vanda
  Scartezini";PARTSTAT=NEEDS-ACTION:MAILTO:vanda@scartezini.org
ATTENDEE;ROLE=REQ-PARTICIPANT;RSVP=FALSE;CN=admin@robertjacobi.com;PARTSTA
 T=NEEDS-ACTION:MAILTO:admin@robertjacobi.com
ATTENDEE;ROLE=REQ-PARTICIPANT;RSVP=FALSE;CN=devtee@gmail.com;PARTSTAT=NEED
 S-ACTION:MAILTO:devtee@gmail.com
ATTENDEE;ROLE=REQ-PARTICIPANT;RSVP=FALSE;CN="Remmy
  Nweke";PARTSTAT=NEEDS-ACTION:MAILTO:remmyn@gmail.com
ATTENDEE;ROLE=REQ-PARTICIPANT;RSVP=FALSE;CN=dkissoondoyal@gmail.com;PARTST
 AT=NEEDS-ACTION:MAILTO:dkissoondoyal@gmail.com
ATTENDEE;ROLE=REQ-PARTICIPANT;RSVP=FALSE;CN="Deborah
  Escalera";PARTSTAT=NEEDS-ACTION:MAILTO:deborah.escalera@icann.org
ATTENDEE;ROLE=REQ-PARTICIPANT;RSVP=FALSE;CN=petersomoragbon@gmail.com;PART
 STAT=NEEDS-ACTION:MAILTO:petersomoragbon@gmail.com
ATTENDEE;ROLE=REQ-PARTICIPANT;RSVP=FALSE;CN=icann@isaacmaposa.com;PARTSTAT
 =NEEDS-ACTION:MAILTO:icann@isaacmaposa.com
ATTENDEE;ROLE=REQ-PARTICIPANT;RSVP=FALSE;CN=joanhopek@gmail.com;PARTSTAT=N
 EEDS-ACTION:MAILTO:joanhopek@gmail.com
ATTENDEE;ROLE=REQ-PARTICIPANT;RSVP=FALSE;CN=fsylla@gmail.com;PARTSTAT=NEED
 S-ACTION:MAILTO:fsylla@gmail.com
ATTENDEE;ROLE=REQ-PARTICIPANT;RSVP=FALSE;CN="Matthias M.
  Hudobnik";PARTSTAT=NEEDS-ACTION:MAILTO:matthias@hudobnik.at
X-MICROSOFT-CDO-BUSYSTATUS:BUSY
X-MICROSOFT-CDO-ALLDAYEVENT:FALSE
X-MICROSOFT-DISALLOW-COUNTER:TRUE
X-MICROSOFT-DONOTFORWARDMEETING:FALSE
X-MICROSOFT-CDO-INSTTYPE:0
BEGIN:VALARM
ACTION:DISPLAY
DESCRIPTION:REMINDER
TRIGGER;RELATED=START:-PT00H15M00S
END:VALARM
END:VEVENT
END:VCALENDAR
