BEGIN:VCALENDAR
PRODID:-//Google Inc//Google Calendar 70.9054//EN
VERSION:2.0
CALSCALE:GREGORIAN
METHOD:REQUEST
BEGIN:VEVENT
DTSTART:20200325T170000Z
DTEND:20200325T183000Z
DTSTAMP:20200318T154802Z
ORGANIZER;CN=dralialmeshal@gmail.com:mailto:dralialmeshal@gmail.com
UID:05EDBBF6-30AA-4190-B3F9-23C22EF4465B
ATTENDEE;CUTYPE=INDIVIDUAL;ROLE=REQ-PARTICIPANT;PARTSTAT=ACCEPTED;RSVP=TRUE
 ;CN=dralialmeshal@gmail.com;X-NUM-GUESTS=0:mailto:dralialmeshal@gmail.com
ATTENDEE;CUTYPE=INDIVIDUAL;ROLE=REQ-PARTICIPANT;PARTSTAT=NEEDS-ACTION;RSVP=
 TRUE;CN=Evin Erdogdu;X-NUM-GUESTS=0:mailto:evin.erdogdu@icann.org
ATTENDEE;CUTYPE=INDIVIDUAL;ROLE=REQ-PARTICIPANT;PARTSTAT=NEEDS-ACTION;RSVP=
 TRUE;CN=Claudia Ruiz;X-NUM-GUESTS=0:mailto:claudia.ruiz@icann.org
ATTENDEE;CUTYPE=INDIVIDUAL;ROLE=REQ-PARTICIPANT;PARTSTAT=NEEDS-ACTION;RSVP=
 TRUE;CN=Michelle DeSmyter;X-NUM-GUESTS=0:mailto:michelle.desmyter@icann.org
ATTENDEE;CUTYPE=INDIVIDUAL;ROLE=REQ-PARTICIPANT;PARTSTAT=NEEDS-ACTION;RSVP=
 TRUE;CN=Andrea Glandon;X-NUM-GUESTS=0:mailto:andrea.glandon@icann.org
ATTENDEE;CUTYPE=INDIVIDUAL;ROLE=REQ-PARTICIPANT;PARTSTAT=NEEDS-ACTION;RSVP=
 TRUE;CN=Silvia Vivanco;X-NUM-GUESTS=0:mailto:silvia.vivanco@icann.org
ATTENDEE;CUTYPE=INDIVIDUAL;ROLE=REQ-PARTICIPANT;PARTSTAT=NEEDS-ACTION;RSVP=
 TRUE;CN=Alac-sc-outreach;X-NUM-GUESTS=0:mailto:alac-sc-outreach@atlarge-lis
 ts.icann.org
ATTENDEE;CUTYPE=INDIVIDUAL;ROLE=REQ-PARTICIPANT;PARTSTAT=NEEDS-ACTION;RSVP=
 TRUE;CN=Heidi Ullrich;X-NUM-GUESTS=0:mailto:heidi.ullrich@icann.org
ATTENDEE;CUTYPE=INDIVIDUAL;ROLE=REQ-PARTICIPANT;PARTSTAT=NEEDS-ACTION;RSVP=
 TRUE;CN=Yesim Nazlar;X-NUM-GUESTS=0:mailto:yesim.nazlar@icann.org
ATTENDEE;CUTYPE=INDIVIDUAL;ROLE=REQ-PARTICIPANT;PARTSTAT=NEEDS-ACTION;RSVP=
 TRUE;CN=Gisella Gruber;X-NUM-GUESTS=0:mailto:gisella.gruber@icann.org
ATTENDEE;CUTYPE=INDIVIDUAL;ROLE=REQ-PARTICIPANT;PARTSTAT=NEEDS-ACTION;RSVP=
 TRUE;CN=Adam Peake;X-NUM-GUESTS=0:mailto:adam.peake@icann.org
X-MICROSOFT-CDO-OWNERAPPTID:-11577314
URL:message://%3CD7CEC4CF-8742-44DE-BA1A-AA557C5DB20D%40icann.org%3E?c=1562
 843630&k=%7CB3720471-055E-4373-88C0-76456039D277
CREATED:20200318T154800Z
DESCRIPTION:Dear All\, \n\n\n\nThe next ALAC Subcommittee on Outreach and E
 ngagement Call is scheduled on Wednesday\, 31 July 2019 at 17:00 UTC for 90
 mins.\n\n\n\nFor other times: https://tinyurl.com/yyu6mp8t \n\n\n\nThe agen
 da (to be updated) and call details can be found at: https://community.ican
 n.org/x/V6qjBg \n\n\n\nWiki Workspace: https://community.icann.org/x/cqfbAQ
  \n\n\n\nZoom Link: https://icann.zoom.us/j/954548132 \n\n\n\nConference ID
 : \n\nEN: 1638\n\n\n\nDial-in numbers: http://adigo.com/icann\n\n\n\nIf you
  require a dial-out please contact At-Large staff at staff@atlarge.icann.or
 g with your preferred number.\n\n\n\n\n\nThank you.\n\nKind regards\,\n\n\n
 \nAt-Large Staff\n\nICANN Policy Staff in support of the At-Large Community
 \n\nWebsite: atlarge.icann.org \n\nFacebook: facebook.com/icannatlarge\n\nT
 witter: @ICANNAtLarge\n\n\n\n\n\n\n\n\n-::~:~::~:~:~:~:~:~:~:~:~:~:~:~:~:~:
 ~:~:~:~:~:~:~:~:~:~:~:~:~:~:~:~:~:~:~:~:~:~::~:~::-\nPlease do not edit thi
 s section of the description.\n\nView your event at https://www.google.com/
 calendar/event?action=VIEW&eid=XzYwcWthaDIyODkzM2NiOWo2MTBrMmI5azY0c2owYmEy
 NmQzM2liOWk2ZDFqNGNpNThvcTM4ZGhsODggYWxhYy1zYy1vdXRyZWFjaEBhdGxhcmdlLWxpc3R
 zLmljYW5uLm9yZw&tok=MjMjZHJhbGlhbG1lc2hhbEBnbWFpbC5jb204NzFkODAzODUxMmI4ZTk
 5N2FiYjE4MzBkNmQ3ODFmYzliNDVmYzJj&ctz=Asia%2FQatar&hl=en&es=1.\n-::~:~::~:~
 :~:~:~:~:~:~:~:~:~:~:~:~:~:~:~:~:~:~:~:~:~:~:~:~:~:~:~:~:~:~:~:~:~:~::~:~::
 -
LAST-MODIFIED:20200318T154802Z
LOCATION:17:00 UTC - ADIGO 1638 - https://icann.zoom.us/j/954548132
SEQUENCE:0
STATUS:CONFIRMED
SUMMARY:ALAC Subcommittee on Outreach and Engagement Call
TRANSP:OPAQUE
X-APPLE-SUGGESTION-INFO-CHANGED-FIELDS:0
X-APPLE-SUGGESTION-INFO-CHANGES-ACKNOWLEDGED:FALSE
X-APPLE-SUGGESTION-INFO-OPAQUE-KEY:|B3720471-055E-4373-88C0-76456039D277
X-APPLE-SUGGESTION-INFO-UNIQUE-KEY:|2|\\|B3720471-055E-4373-88C0-76456039D2
 77|\\|5\\|\\\\\\|55CA5281-7081-4A17-8451-DBD0D4C95312\\\\\\|<D7CEC4CF-8742-
 44DE-BA1A-AA557C5DB20D@icann.org>
BEGIN:VALARM
ACTION:DISPLAY
DESCRIPTION:This is an event reminder
TRIGGER:-P0DT1H0M0S
END:VALARM
END:VEVENT
END:VCALENDAR
