BEGIN:VCALENDAR
METHOD:REQUEST
PRODID:Microsoft Exchange Server 2010
VERSION:2.0
BEGIN:VTIMEZONE
TZID:UTC
BEGIN:STANDARD
DTSTART:16010101T000000
TZOFFSETFROM:+0000
TZOFFSETTO:+0000
END:STANDARD
BEGIN:DAYLIGHT
DTSTART:16010101T000000
TZOFFSETFROM:+0000
TZOFFSETTO:+0000
END:DAYLIGHT
END:VTIMEZONE
BEGIN:VEVENT
ORGANIZER;CN=ICANN Policy Calendar:MAILTO:PolicyCalendar@icann.org
ATTENDEE;ROLE=REQ-PARTICIPANT;PARTSTAT=NEEDS-ACTION;RSVP=FALSE;CN=Heidi Ull
 rich:MAILTO:Heidi.Ullrich@icann.org
ATTENDEE;ROLE=REQ-PARTICIPANT;PARTSTAT=NEEDS-ACTION;RSVP=FALSE;CN=Silvia Vi
 vanco:MAILTO:silvia.vivanco@icann.org
ATTENDEE;ROLE=REQ-PARTICIPANT;PARTSTAT=NEEDS-ACTION;RSVP=FALSE;CN=Adam Peak
 e:MAILTO:adam.peake@icann.org
ATTENDEE;ROLE=REQ-PARTICIPANT;PARTSTAT=NEEDS-ACTION;RSVP=FALSE;CN=Gisella G
 ruber:MAILTO:Gisella.Gruber@icann.org
ATTENDEE;ROLE=REQ-PARTICIPANT;PARTSTAT=NEEDS-ACTION;RSVP=FALSE;CN=Evin Erdo
 gdu:MAILTO:evin.erdogdu@icann.org
ATTENDEE;ROLE=REQ-PARTICIPANT;PARTSTAT=NEEDS-ACTION;RSVP=FALSE;CN=mcknight.
 glenn@gmail.com:MAILTO:mcknight.glenn@gmail.com
ATTENDEE;ROLE=REQ-PARTICIPANT;PARTSTAT=NEEDS-ACTION;RSVP=FALSE;CN=Claudia R
 uiz:MAILTO:claudia.ruiz@icann.org
ATTENDEE;ROLE=REQ-PARTICIPANT;PARTSTAT=NEEDS-ACTION;RSVP=FALSE;CN=Michelle 
 DeSmyter:MAILTO:michelle.desmyter@icann.org
ATTENDEE;ROLE=REQ-PARTICIPANT;PARTSTAT=NEEDS-ACTION;RSVP=FALSE;CN=vrikson.i
 .acosta.v@gmail.com:MAILTO:vrikson.i.acosta.v@gmail.com
ATTENDEE;ROLE=REQ-PARTICIPANT;PARTSTAT=NEEDS-ACTION;RSVP=FALSE;CN=peterking
 q@gmail.com:MAILTO:peterkingq@gmail.com
ATTENDEE;ROLE=REQ-PARTICIPANT;PARTSTAT=NEEDS-ACTION;RSVP=FALSE;CN=Yesim Naz
 lar:MAILTO:yesim.nazlar@icann.org
ATTENDEE;ROLE=REQ-PARTICIPANT;PARTSTAT=NEEDS-ACTION;RSVP=FALSE;CN=Alac-sc-o
 utreach:MAILTO:alac-sc-outreach@atlarge-lists.icann.org
ATTENDEE;ROLE=REQ-PARTICIPANT;PARTSTAT=NEEDS-ACTION;RSVP=FALSE;CN=John Lapr
 ise:MAILTO:jlaprise@gmail.com
ATTENDEE;ROLE=REQ-PARTICIPANT;PARTSTAT=NEEDS-ACTION;RSVP=FALSE;CN=Ricardo  
 Holmquist :MAILTO:rihogris@gmail.com
ATTENDEE;ROLE=REQ-PARTICIPANT;PARTSTAT=NEEDS-ACTION;RSVP=FALSE;CN=Judith He
 llerstein:MAILTO:judith@jhellerstein.com
ATTENDEE;ROLE=REQ-PARTICIPANT;PARTSTAT=NEEDS-ACTION;RSVP=FALSE;CN=Maritza Y
 . Aguero Minano:MAILTO:myaguero@msn.com
ATTENDEE;ROLE=REQ-PARTICIPANT;PARTSTAT=NEEDS-ACTION;RSVP=FALSE;CN=Maureen H
 ilyard:MAILTO:maureen.hilyard@gmail.com
ATTENDEE;ROLE=REQ-PARTICIPANT;PARTSTAT=NEEDS-ACTION;RSVP=FALSE;CN=Cheryl La
 ngdon-Orr:MAILTO:langdonorr@gmail.com
ATTENDEE;ROLE=REQ-PARTICIPANT;PARTSTAT=NEEDS-ACTION;RSVP=FALSE;CN=Bram Fudz
 ulani:MAILTO:beatblam@hotmail.com
ATTENDEE;ROLE=REQ-PARTICIPANT;PARTSTAT=NEEDS-ACTION;RSVP=FALSE;CN=weaker41@
 gmail.com:MAILTO:weaker41@gmail.com
ATTENDEE;ROLE=REQ-PARTICIPANT;PARTSTAT=NEEDS-ACTION;RSVP=FALSE;CN=Siranush 
 Vardanyan:MAILTO:siranush.vardanyan@icann.org
ATTENDEE;ROLE=REQ-PARTICIPANT;PARTSTAT=NEEDS-ACTION;RSVP=FALSE;CN=Vanda Sca
 rtezini:MAILTO:vanda@scartezini.org
ATTENDEE;ROLE=REQ-PARTICIPANT;PARTSTAT=NEEDS-ACTION;RSVP=FALSE;CN=admin@rob
 ertjacobi.com:MAILTO:admin@robertjacobi.com
ATTENDEE;ROLE=REQ-PARTICIPANT;PARTSTAT=NEEDS-ACTION;RSVP=FALSE;CN=devtee@gm
 ail.com:MAILTO:devtee@gmail.com
ATTENDEE;ROLE=REQ-PARTICIPANT;PARTSTAT=NEEDS-ACTION;RSVP=FALSE;CN=Remmy Nwe
 ke:MAILTO:remmyn@gmail.com
ATTENDEE;ROLE=REQ-PARTICIPANT;PARTSTAT=NEEDS-ACTION;RSVP=FALSE;CN=dkissoond
 oyal@gmail.com:MAILTO:dkissoondoyal@gmail.com
ATTENDEE;ROLE=REQ-PARTICIPANT;PARTSTAT=NEEDS-ACTION;RSVP=FALSE;CN=Deborah E
 scalera:MAILTO:deborah.escalera@icann.org
ATTENDEE;ROLE=REQ-PARTICIPANT;PARTSTAT=NEEDS-ACTION;RSVP=FALSE;CN=petersomo
 ragbon@gmail.com:MAILTO:petersomoragbon@gmail.com
ATTENDEE;ROLE=REQ-PARTICIPANT;PARTSTAT=NEEDS-ACTION;RSVP=FALSE;CN=icann@isa
 acmaposa.com:MAILTO:icann@isaacmaposa.com
ATTENDEE;ROLE=REQ-PARTICIPANT;PARTSTAT=NEEDS-ACTION;RSVP=FALSE;CN=joanhopek
 @gmail.com:MAILTO:joanhopek@gmail.com
ATTENDEE;ROLE=REQ-PARTICIPANT;PARTSTAT=NEEDS-ACTION;RSVP=FALSE;CN=fsylla@gm
 ail.com:MAILTO:fsylla@gmail.com
ATTENDEE;ROLE=REQ-PARTICIPANT;PARTSTAT=NEEDS-ACTION;RSVP=FALSE;CN=Matthias 
 M. Hudobnik:MAILTO:matthias@hudobnik.at
ATTENDEE;ROLE=REQ-PARTICIPANT;PARTSTAT=NEEDS-ACTION;RSVP=FALSE;CN=Joanna Ku
 lesza:MAILTO:jkuleszaicann@gmail.com
ATTENDEE;ROLE=REQ-PARTICIPANT;PARTSTAT=NEEDS-ACTION;RSVP=FALSE;CN=lilidebru
 @hotmail.com:MAILTO:lilidebru@hotmail.com
ATTENDEE;ROLE=REQ-PARTICIPANT;PARTSTAT=NEEDS-ACTION;RSVP=FALSE;CN=Maryam Ba
 koshi:MAILTO:maryam.bakoshi@icann.org
ATTENDEE;ROLE=REQ-PARTICIPANT;PARTSTAT=NEEDS-ACTION;RSVP=FALSE;CN=Mary Wong
 :MAILTO:mary.wong@icann.org
ATTENDEE;ROLE=REQ-PARTICIPANT;PARTSTAT=NEEDS-ACTION;RSVP=FALSE;CN=Lianna Ga
 lstyan:MAILTO:lianna@isoc.am
ATTENDEE;ROLE=REQ-PARTICIPANT;PARTSTAT=NEEDS-ACTION;RSVP=FALSE;CN=Jamie:MAI
 LTO:jamie@alacarteconnection.com
ATTENDEE;ROLE=REQ-PARTICIPANT;PARTSTAT=NEEDS-ACTION;RSVP=FALSE;CN=Sergio Sa
 linas Porto:MAILTO:presidencia@internauta.org.ar
ATTENDEE;ROLE=REQ-PARTICIPANT;PARTSTAT=NEEDS-ACTION;RSVP=FALSE;CN=Sabrina M
 osquera:MAILTO:sabrina.mosquera@icann.org
ATTENDEE;ROLE=REQ-PARTICIPANT;PARTSTAT=NEEDS-ACTION;RSVP=FALSE;CN=TEL ES-Te
 leconf-Interpretation:MAILTO:ES-Teleconf-Interpretation@icann.org
ATTENDEE;ROLE=REQ-PARTICIPANT;PARTSTAT=NEEDS-ACTION;RSVP=FALSE;CN=Jonathan 
 Zuck:MAILTO:JZuck@innovatorsnetwork.org
ATTENDEE;ROLE=REQ-PARTICIPANT;PARTSTAT=NEEDS-ACTION;RSVP=FALSE;CN=Alfredo C
 alderon:MAILTO:calderon.alfredo@gmail.com
ATTENDEE;ROLE=REQ-PARTICIPANT;PARTSTAT=NEEDS-ACTION;RSVP=FALSE;CN=Bukola Or
 onti:MAILTO:bukkiepharworley@gmail.com
ATTENDEE;ROLE=REQ-PARTICIPANT;PARTSTAT=NEEDS-ACTION;RSVP=FALSE;CN=Natalia F
 ilina:MAILTO:filinafilka@gmail.com
ATTENDEE;ROLE=REQ-PARTICIPANT;PARTSTAT=NEEDS-ACTION;RSVP=FALSE;CN=secretari
 at@atlarge-lists.icann.org:MAILTO:secretariat@atlarge-lists.icann.org
ATTENDEE;ROLE=REQ-PARTICIPANT;PARTSTAT=NEEDS-ACTION;RSVP=FALSE;CN=Penelas I
 CANN:MAILTO:penelas.inteam.icann@gmail.com
ATTENDEE;ROLE=REQ-PARTICIPANT;PARTSTAT=NEEDS-ACTION;RSVP=FALSE;CN=Pou ICANN
 :MAILTO:pou.inteam.icann@gmail.com
DESCRIPTION;LANGUAGE=en-US:**If you require a dial-out or need to state an 
 apology\, please contact At-Large staff at staff@atlarge.icann.org<file://
 /composeviewinternalloadurl/staff@atlarge.icann.org> with your preferred n
 umber.**\n\n \n\n\n\nDear All\,\n\n\n\nThe next ALAC Subcommittee on Out
 reach and Engagement Call is scheduled on Wednesday\, 29 April 2020 at 17:
 00 UTC for 90 mins.\n\n\n\nFor other times: https://tinyurl.com/vnvltj4\n\
 n\n\nThe agenda (to be updated) and call details can be found at: https://
 community.icann.org/x/nzOJBw\n\n\n\nWiki Workspace: https://community.ican
 n.org/x/cqfbAQ\n\n\n\nZoom Link: https://icann.zoom.us/j/596960473?pwd=Z1U
 yZkxSWlc1WUpPRVlOL0RBQ0syZz09 Meeting ID: 596-960-473\n\n**Password**:  83
 7476\n\n\n\nADIGO Conference Bridge: EN 1638 ES 1738\n\n\n\nToll-free acce
 ss number (US and Canada): 800 550 6865\n\n\n\nOther toll free numbers: ht
 tp://adigo.com/icann/\n\n\n\n\n\n\n\nIf you require a dial-out please cont
 act At-Large staff at staff@atlarge.icann.org<mailto:staff@atlarge.icann.o
 rg> with your preferred number.\n\n\n\n\n\nThank you.\n\nKind regards\,\n\
 n\n\nAt-Large Staff\n\nICANN Policy Staff in support of the At-Large Commu
 nity\n\nWebsite: atlarge.icann.org<https://atlarge.icann.org/>\n\nFacebook
 : facebook.com/icann<https://www.facebook.com/icannatlarge>atlarge<https:/
 /www.facebook.com/icannatlarge>\n\nTwitter: @<https://twitter.com/ICANNAtL
 arge>ICANNAtLarge<https://twitter.com/ICANNAtLarge>\n\n\n\n\n\n\n\n\n\n\n
SUMMARY;LANGUAGE=en-US:ALAC Subcommittee on Outreach and Engagement Call 
DTSTART;TZID=UTC:20200429T170000
DTEND;TZID=UTC:20200429T183000
UID:6B128D06-D810-4435-9045-7E7B49AB9B9D
CLASS:PUBLIC
PRIORITY:5
DTSTAMP:20200407T212416Z
TRANSP:OPAQUE
STATUS:CONFIRMED
SEQUENCE:0
LOCATION;LANGUAGE=en-US:17:00 UTC - EN:1638 ES:1738 -  https://icann.zoom.u
 s/j/596960473?pwd=Z1UyZkxSWlc1WUpPRVlOL0RBQ0syZz09 
X-MICROSOFT-CDO-APPT-SEQUENCE:0
X-MICROSOFT-CDO-OWNERAPPTID:2118400144
X-MICROSOFT-CDO-BUSYSTATUS:TENTATIVE
X-MICROSOFT-CDO-INTENDEDSTATUS:BUSY
X-MICROSOFT-CDO-ALLDAYEVENT:FALSE
X-MICROSOFT-CDO-IMPORTANCE:1
X-MICROSOFT-CDO-INSTTYPE:0
X-MICROSOFT-DISALLOW-COUNTER:TRUE
BEGIN:VALARM
DESCRIPTION:REMINDER
TRIGGER;RELATED=START:-PT15M
ACTION:DISPLAY
END:VALARM
END:VEVENT
END:VCALENDAR
