BEGIN:VCALENDAR
METHOD:REQUEST
PRODID:Microsoft Exchange Server 2010
VERSION:2.0
BEGIN:VTIMEZONE
TZID:UTC
BEGIN:STANDARD
DTSTART:16010101T000000
TZOFFSETFROM:+0000
TZOFFSETTO:+0000
END:STANDARD
BEGIN:DAYLIGHT
DTSTART:16010101T000000
TZOFFSETFROM:+0000
TZOFFSETTO:+0000
END:DAYLIGHT
END:VTIMEZONE
BEGIN:VEVENT
ORGANIZER;CN=ICANN Policy Calendar:MAILTO:PolicyCalendar@icann.org
ATTENDEE;ROLE=REQ-PARTICIPANT;PARTSTAT=NEEDS-ACTION;RSVP=TRUE;CN=Heidi Ullr
 ich:MAILTO:Heidi.Ullrich@icann.org
ATTENDEE;ROLE=REQ-PARTICIPANT;PARTSTAT=NEEDS-ACTION;RSVP=TRUE;CN=Silvia Viv
 anco:MAILTO:silvia.vivanco@icann.org
ATTENDEE;ROLE=REQ-PARTICIPANT;PARTSTAT=NEEDS-ACTION;RSVP=TRUE;CN=Gisella Gr
 uber:MAILTO:Gisella.Gruber@icann.org
ATTENDEE;ROLE=REQ-PARTICIPANT;PARTSTAT=NEEDS-ACTION;RSVP=TRUE;CN=Evin Erdog
 du:MAILTO:evin.erdogdu@icann.org
ATTENDEE;ROLE=REQ-PARTICIPANT;PARTSTAT=NEEDS-ACTION;RSVP=TRUE;CN=Claudia Ru
 iz:MAILTO:claudia.ruiz@icann.org
ATTENDEE;ROLE=REQ-PARTICIPANT;PARTSTAT=NEEDS-ACTION;RSVP=TRUE;CN=Michelle D
 eSmyter:MAILTO:michelle.desmyter@icann.org
ATTENDEE;ROLE=REQ-PARTICIPANT;PARTSTAT=NEEDS-ACTION;RSVP=TRUE;CN=Alperen Ek
 en:MAILTO:alperen.eken@icann.org
ATTENDEE;ROLE=REQ-PARTICIPANT;PARTSTAT=NEEDS-ACTION;RSVP=TRUE;CN=Yesim Nazl
 ar:MAILTO:yesim.nazlar@icann.org
ATTENDEE;ROLE=REQ-PARTICIPANT;PARTSTAT=NEEDS-ACTION;RSVP=TRUE;CN=alac-sc-ou
 treach@atlarge-lists.icann.org:MAILTO:alac-sc-outreach@atlarge-lists.icann
 .org
ATTENDEE;ROLE=REQ-PARTICIPANT;PARTSTAT=NEEDS-ACTION;RSVP=TRUE;CN=Adam Peake
 :MAILTO:adam.peake@icann.org
ATTENDEE;ROLE=REQ-PARTICIPANT;PARTSTAT=NEEDS-ACTION;RSVP=TRUE;CN=TEL ES-Tel
 econf-Interpretation:MAILTO:ES-Teleconf-Interpretation@icann.org
ATTENDEE;ROLE=REQ-PARTICIPANT;PARTSTAT=NEEDS-ACTION;RSVP=TRUE;CN=Sabrina Mo
 squera:MAILTO:sabrina.mosquera@icann.org
DESCRIPTION;LANGUAGE=en-US:Dear All\,\n\n\n\nThe next ALAC Subcommittee on 
 Outreach and Engagement Call is scheduled on Wednesday\, 27 May 2020 at 17
 :00 UTC for 90 mins.\n\n\n\nFor other times: https://tinyurl.com/y74r4yj2\
 n\n\n\nThe agenda (to be updated) and call details can be found at: https:
 //community.icann.org/x/-YUEC\n\n\n\nWiki Workspace: https://community.ica
 nn.org/x/cqfbAQ\n\n\n\nZoom Link: https://icann.zoom.us/j/96075632621 / Me
 eting ID: 960 7563 2621\n\nPassword:  SC-O&E1234\n\n\n\nADIGO Conference B
 ridge:\n\nEN: 1638\n\nES: 1738\n\n\n\nToll-free access number (US and Cana
 da): 800 550 6865\n\n\n\nOther toll free numbers: http://adigo.com/icann/\
 n\n\n\n\n\nIf you require a dial-out please contact At-Large staff at staf
 f@atlarge.icann.org<mailto:staff@atlarge.icann.org> with your preferred nu
 mber.\n\n\n\n\n\nThank you.\n\nKind regards\,\n\n\n\nAt-Large Staff\n\nICA
 NN Policy Staff in support of the At-Large Community\n\nWebsite: atlarge.i
 cann.org<https://atlarge.icann.org/>\n\nFacebook: facebook.com/icann<https
 ://www.facebook.com/icannatlarge>atlarge<https://www.facebook.com/icannatl
 arge>\n\nTwitter: @<https://twitter.com/ICANNAtLarge>ICANNAtLarge<https://
 twitter.com/ICANNAtLarge>\n
SUMMARY;LANGUAGE=en-US:ALAC Subcommittee on Outreach and Engagement Call
DTSTART;TZID=UTC:20200527T170000
DTEND;TZID=UTC:20200527T183000
UID:FD8DE19B-3EB7-4615-BD60-8B4ED120D5B8
CLASS:PUBLIC
PRIORITY:5
DTSTAMP:20200513T104242Z
TRANSP:OPAQUE
STATUS:CONFIRMED
SEQUENCE:0
LOCATION;LANGUAGE=en-US:17:00 UTC - ADIGO EN1638 ES1738 - https://icann.zoo
 m.us/j/96075632621 
X-MICROSOFT-CDO-APPT-SEQUENCE:0
X-MICROSOFT-CDO-OWNERAPPTID:2118479444
X-MICROSOFT-CDO-BUSYSTATUS:TENTATIVE
X-MICROSOFT-CDO-INTENDEDSTATUS:BUSY
X-MICROSOFT-CDO-ALLDAYEVENT:FALSE
X-MICROSOFT-CDO-IMPORTANCE:1
X-MICROSOFT-CDO-INSTTYPE:0
X-MICROSOFT-DISALLOW-COUNTER:FALSE
END:VEVENT
END:VCALENDAR
