BEGIN:VCALENDAR
VERSION:2.0
PRODID:-//Microsoft Corporation//Outlook for Mac MIMEDIR//EN
METHOD:PUBLISH
BEGIN:VTIMEZONE
TZID:Coordinated Universal Time
X-ENTOURAGE-CFTIMEZONE:UTC
X-ENTOURAGE-TZID:93
BEGIN:STANDARD
TZOFFSETFROM:+0000
TZOFFSETTO:+0000
DTSTART:16010101T000000
END:STANDARD
END:VTIMEZONE
BEGIN:VEVENT
UID:E05F759D-298E-4891-A7CD-B95265407D97
X-ENTOURAGE_UUID:E05F759D-298E-4891-A7CD-B95265407D97
X-MICROSOFT-EXCHANGE-ID:AAMkADFlMDNlNjQ5LTNjNTUtNDJkMC04ZTI0LWFiMTFkOTgwND
 JhMQBGAAAAAAAdZPIZTDF9SJl4Q9bAl0gQBwAFskP3JLIoSYZSK2rNBQTXAIjV8WqdAAANV5p2
 g4V9S6g+Ry+Q0bRJAAWGD6HuAAA=
X-MICROSOFT-EXCHANGE-CHANGEKEY:DwAAABYAAAANV5p2g4V9S6g+Ry+Q0bRJAAWGOXeo
DTSTAMP:20200518T103959Z
DTSTART;TZID="Coordinated Universal Time":20200521T133000
DTEND;TZID="Coordinated Universal Time":20200521T150000
LAST-MODIFIED:20200518T104001Z
SUMMARY:ALAC Subcommittee on Outreach and Engagement FY21 Draft Strategy
  Review Call
DESCRIPTION:**If you require a dial-out or need to state an apology\,
  please contact At-Large staff at staff@atlarge.icann.org with your
  preferred number.**\n\n \n\n \n\nDear All\,\n\n \n\nFurther to the
  Doodle poll\, ALAC Subcommittee on Outreach and Engagement FY21 Draft
  Strategy Review Call is scheduled on Thursday\, 21 May 2020 at 13:30 UTC
  for 90 mins.\n\n \n\nFor other times: https://tinyurl.com/yd8aa5d5 \n\n
  \n\nThe agenda (to be updated) and call details can be found at:
   https://community.icann.org/x/KYgEC \n\n \n\nWiki Workspace:
  https://community.icann.org/x/cqfbAQ\n\n \n\nZoom Link:
  https://icann.zoom.us/j/94489536225  / Meeting ID: 944 8953
  6225\n\nPassword: O&E-FY21ST\n\n \n\nADIGO Conference Bridge:\n\nEN:
  1638 \n\nES: 1738\n\n \n\nToll-free access number (US and Canada): 800
  550 6865\n\n \n\nOther toll free numbers: http://adigo.com/icann/\n\n
   \n\n \n\nIf you require a dial-out please contact At-Large staff at
  staff@atlarge.icann.org with your preferred number.\n\n \n\n \n\nThank
  you.\n\nKind regards\,\n\n \n\nAt-Large Staff\n\nICANN Policy Staff in
  support of the At-Large Community\n\nWebsite:
  atlarge.icann.org\n\nFacebook: facebook.com/icannatlarge\n\nTwitter:
  @ICANNAtLarge\n\n\n
LOCATION:13:30 UTC - ADIGO EN:1638 ES:1738 -
  https://icann.zoom.us/j/94489536225  
ORGANIZER:MAILTO:PolicyCalendar@icann.org
SEQUENCE:0
ATTENDEE;ROLE=REQ-PARTICIPANT;RSVP=FALSE;CN="Heidi
  Ullrich";PARTSTAT=NEEDS-ACTION:MAILTO:Heidi.Ullrich@icann.org
ATTENDEE;ROLE=REQ-PARTICIPANT;RSVP=FALSE;CN="Silvia
  Vivanco";PARTSTAT=NEEDS-ACTION:MAILTO:silvia.vivanco@icann.org
ATTENDEE;ROLE=REQ-PARTICIPANT;RSVP=FALSE;CN="Gisella
  Gruber";PARTSTAT=NEEDS-ACTION:MAILTO:Gisella.Gruber@icann.org
ATTENDEE;ROLE=REQ-PARTICIPANT;RSVP=FALSE;CN="Evin
  Erdogdu";PARTSTAT=NEEDS-ACTION:MAILTO:evin.erdogdu@icann.org
ATTENDEE;ROLE=REQ-PARTICIPANT;RSVP=FALSE;CN="Claudia
  Ruiz";PARTSTAT=NEEDS-ACTION:MAILTO:claudia.ruiz@icann.org
ATTENDEE;ROLE=REQ-PARTICIPANT;RSVP=FALSE;CN="Michelle
  DeSmyter";PARTSTAT=NEEDS-ACTION:MAILTO:michelle.desmyter@icann.org
ATTENDEE;ROLE=REQ-PARTICIPANT;RSVP=FALSE;CN="Alperen
  Eken";PARTSTAT=NEEDS-ACTION:MAILTO:alperen.eken@icann.org
ATTENDEE;ROLE=REQ-PARTICIPANT;RSVP=FALSE;CN="Yesim
  Nazlar";PARTSTAT=NEEDS-ACTION:MAILTO:yesim.nazlar@icann.org
ATTENDEE;ROLE=REQ-PARTICIPANT;RSVP=FALSE;CN="TEL
  ES-Teleconf-Interpretation";PARTSTAT=NEEDS-ACTION:MAILTO:ES-Teleconf-Inte
 rpretation@icann.org
ATTENDEE;ROLE=REQ-PARTICIPANT;RSVP=FALSE;CN="Sabrina
  Mosquera";PARTSTAT=NEEDS-ACTION:MAILTO:sabrina.mosquera@icann.org
ATTENDEE;ROLE=REQ-PARTICIPANT;RSVP=FALSE;CN="Adam
  Peake";PARTSTAT=NEEDS-ACTION:MAILTO:adam.peake@icann.org
X-MICROSOFT-CDO-BUSYSTATUS:BUSY
X-MICROSOFT-CDO-ALLDAYEVENT:FALSE
X-MICROSOFT-DISALLOW-COUNTER:FALSE
X-MICROSOFT-DONOTFORWARDMEETING:FALSE
X-MICROSOFT-CDO-INSTTYPE:0
END:VEVENT
END:VCALENDAR
