BEGIN:VCALENDAR
METHOD:CANCEL
PRODID:Microsoft Exchange Server 2010
VERSION:2.0
BEGIN:VTIMEZONE
TZID:UTC
BEGIN:STANDARD
DTSTART:16010101T000000
TZOFFSETFROM:+0000
TZOFFSETTO:+0000
END:STANDARD
BEGIN:DAYLIGHT
DTSTART:16010101T000000
TZOFFSETFROM:+0000
TZOFFSETTO:+0000
END:DAYLIGHT
END:VTIMEZONE
BEGIN:VEVENT
ORGANIZER;CN=ICANN Policy Calendar:MAILTO:PolicyCalendar@icann.org
ATTENDEE;ROLE=REQ-PARTICIPANT;PARTSTAT=NEEDS-ACTION;RSVP=TRUE;CN=Adam Peake
 :MAILTO:adam.peake@icann.org
ATTENDEE;ROLE=REQ-PARTICIPANT;PARTSTAT=NEEDS-ACTION;RSVP=TRUE;CN=TEL ES-Tel
 econf-Interpretation:MAILTO:ES-Teleconf-Interpretation@icann.org
ATTENDEE;ROLE=REQ-PARTICIPANT;PARTSTAT=NEEDS-ACTION;RSVP=TRUE;CN=Sabrina Mo
 squera:MAILTO:sabrina.mosquera@icann.org
ATTENDEE;ROLE=REQ-PARTICIPANT;PARTSTAT=NEEDS-ACTION;RSVP=TRUE;CN=alac-sc-ou
 treach@atlarge-lists.icann.org:MAILTO:alac-sc-outreach@atlarge-lists.icann
 .org
ATTENDEE;ROLE=OPT-PARTICIPANT;PARTSTAT=NEEDS-ACTION;RSVP=TRUE;CN=Siranush V
 ardanyan:MAILTO:siranush.vardanyan@icann.org
ATTENDEE;ROLE=OPT-PARTICIPANT;PARTSTAT=NEEDS-ACTION;RSVP=TRUE;CN=abdelouro@
 gmail.com:MAILTO:abdelouro@gmail.com
ATTENDEE;ROLE=OPT-PARTICIPANT;PARTSTAT=NEEDS-ACTION;RSVP=TRUE;CN=Alaniz ICA
 NN:MAILTO:alaniz.inteam.icann@gmail.com
ATTENDEE;ROLE=OPT-PARTICIPANT;PARTSTAT=NEEDS-ACTION;RSVP=TRUE;CN=aschmi@gma
 il.com:MAILTO:aschmi@gmail.com
ATTENDEE;ROLE=OPT-PARTICIPANT;PARTSTAT=NEEDS-ACTION;RSVP=TRUE;CN=Bram Fudzu
 lani:MAILTO:beatblam@hotmail.com
ATTENDEE;ROLE=OPT-PARTICIPANT;PARTSTAT=NEEDS-ACTION;RSVP=TRUE;CN=bukkiephar
 worley@gmail.com:MAILTO:bukkiepharworley@gmail.com
ATTENDEE;ROLE=OPT-PARTICIPANT;PARTSTAT=NEEDS-ACTION;RSVP=TRUE;CN=capdasiege
 @gmail.com:MAILTO:capdasiege@gmail.com
ATTENDEE;ROLE=OPT-PARTICIPANT;PARTSTAT=NEEDS-ACTION;RSVP=TRUE;CN=dkissoondo
 yal@gmail.com:MAILTO:dkissoondoyal@gmail.com
ATTENDEE;ROLE=OPT-PARTICIPANT;PARTSTAT=NEEDS-ACTION;RSVP=TRUE;CN=Hadia  Abd
 elsalam Mokhtar EL miniawi:MAILTO:Hadia@tra.gov.eg
ATTENDEE;ROLE=OPT-PARTICIPANT;PARTSTAT=NEEDS-ACTION;RSVP=TRUE;CN=Isaac Mapo
 sa:MAILTO:isaac@webenchanter.com
ATTENDEE;ROLE=OPT-PARTICIPANT;PARTSTAT=NEEDS-ACTION;RSVP=TRUE;CN=jiannesori
 ano@gmail.com:MAILTO:jiannesoriano@gmail.com
ATTENDEE;ROLE=OPT-PARTICIPANT;PARTSTAT=NEEDS-ACTION;RSVP=TRUE;CN=joanhopek@
 gmail.com:MAILTO:joanhopek@gmail.com
ATTENDEE;ROLE=OPT-PARTICIPANT;PARTSTAT=NEEDS-ACTION;RSVP=TRUE;CN=lilian ive
 tte de luque bruges:MAILTO:lilidebru@hotmail.com
ATTENDEE;ROLE=OPT-PARTICIPANT;PARTSTAT=NEEDS-ACTION;RSVP=TRUE;CN=mamattah.r
 aymond@gmail.com:MAILTO:mamattah.raymond@gmail.com
ATTENDEE;ROLE=OPT-PARTICIPANT;PARTSTAT=NEEDS-ACTION;RSVP=TRUE;CN=marukhyan.
 susan@gmail.com:MAILTO:marukhyan.susan@gmail.com
ATTENDEE;ROLE=OPT-PARTICIPANT;PARTSTAT=NEEDS-ACTION;RSVP=TRUE;CN=Matthias M
 . Hudobnik:MAILTO:matthias@hudobnik.at
ATTENDEE;ROLE=OPT-PARTICIPANT;PARTSTAT=NEEDS-ACTION;RSVP=TRUE;CN=maureen.hi
 lyard@gmail.com:MAILTO:maureen.hilyard@gmail.com
ATTENDEE;ROLE=OPT-PARTICIPANT;PARTSTAT=NEEDS-ACTION;RSVP=TRUE;CN=Penelas IC
 ANN:MAILTO:penelas.inteam.icann@gmail.com
ATTENDEE;ROLE=OPT-PARTICIPANT;PARTSTAT=NEEDS-ACTION;RSVP=TRUE;CN=Pou ICANN:
 MAILTO:pou.inteam.icann@gmail.com
ATTENDEE;ROLE=OPT-PARTICIPANT;PARTSTAT=NEEDS-ACTION;RSVP=TRUE;CN=Roberto Ga
 etano:MAILTO:roberto_gaetano@hotmail.com
ATTENDEE;ROLE=OPT-PARTICIPANT;PARTSTAT=NEEDS-ACTION;RSVP=TRUE;CN=Vanda Scar
 tezini:MAILTO:vanda@scartezini.org
ATTENDEE;ROLE=OPT-PARTICIPANT;PARTSTAT=NEEDS-ACTION;RSVP=TRUE;CN=vrikson.i.
 acosta.v@gmail.com:MAILTO:vrikson.i.acosta.v@gmail.com
ATTENDEE;ROLE=OPT-PARTICIPANT;PARTSTAT=NEEDS-ACTION;RSVP=TRUE;CN=westgal@gm
 ail.com:MAILTO:westgal@gmail.com
DESCRIPTION;LANGUAGE=en-GB:Dear All\,\n\n\n\nPlease note the initially sche
 duled committee call has been cancelled and we are inviting you to a Co-Ch
 airs ONLY ALAC Subcommittee on Outreach and Engagement Call at the same ti
 me\, on Wednesday\, 27 May 2020 at 17:00 UTC for 90 mins.\n\n\n\nNote this
  is a CLOSED call.\n\n\n\nFor other times: https://tinyurl.com/y74r4yj2\n\
 n\n\nThe agenda and call details can be found at: https://community.icann.
 org/x/-YUEC\n\n\n\nWiki Workspace: https://community.icann.org/x/cqfbAQ\n\
 n\n\nZoom Link: will be sent with the reminder and added to the wiki agend
 a page\n\n\n\nADIGO Conference Bridge:\n\nEN: 1638\n\nES: 1738\n\n\n\nToll
 -free access number (US and Canada): 800 550 6865\n\n\n\nOther toll free n
 umbers: http://adigo.com/icann/\n\n\n\n\n\nIf you require a dial-out pleas
 e contact At-Large staff at staff@atlarge.icann.org<mailto:staff@atlarge.i
 cann.org> with your preferred number.\n\n\n\n\n\nThank you.\n\nKind regard
 s\,\n\n\n\nICANN Policy Staff in support of the At-Large Community\n\nWebs
 ite: atlarge.icann.org [atlarge.icann.org]<https://urldefense.proofpoint.c
 om/v2/url?u=https-3A__atlarge.icann.org_&d=DwMGaQ&c=FmY1u3PJp6wrcrwll3mSVz
 gfkbPSS6sJms7xcl4I5cM&r=ds9md1zoepmwqw2nfk-Vs9ssxn1I3jPs97ekKkctEkM&m=eVjc
 qQ6q8nY7QUSrlA2nPJNCy7kLh0qN2VYRahN9_94&s=w0dPK7RICz6K2B73FoSU1sV9BhHFOnYC
 3blqz9emA6o&e=>\n\nFacebook: facebook.com/icann [facebook.com]<https://url
 defense.proofpoint.com/v2/url?u=https-3A__www.facebook.com_icannatlarge&d=
 DwMGaQ&c=FmY1u3PJp6wrcrwll3mSVzgfkbPSS6sJms7xcl4I5cM&r=ds9md1zoepmwqw2nfk-
 Vs9ssxn1I3jPs97ekKkctEkM&m=eVjcqQ6q8nY7QUSrlA2nPJNCy7kLh0qN2VYRahN9_94&s=c
 QT9ewNA5UeVKxa3D4IGyjS4kHn3xOCI4z2ZyLFEX0k&e=>atlarge [facebook.com]<https
 ://urldefense.proofpoint.com/v2/url?u=https-3A__www.facebook.com_icannatla
 rge&d=DwMGaQ&c=FmY1u3PJp6wrcrwll3mSVzgfkbPSS6sJms7xcl4I5cM&r=ds9md1zoepmwq
 w2nfk-Vs9ssxn1I3jPs97ekKkctEkM&m=eVjcqQ6q8nY7QUSrlA2nPJNCy7kLh0qN2VYRahN9_
 94&s=cQT9ewNA5UeVKxa3D4IGyjS4kHn3xOCI4z2ZyLFEX0k&e=>\n\nTwitter: @ [twitte
 r.com]<https://urldefense.proofpoint.com/v2/url?u=https-3A__twitter.com_IC
 ANNAtLarge&d=DwMGaQ&c=FmY1u3PJp6wrcrwll3mSVzgfkbPSS6sJms7xcl4I5cM&r=ds9md1
 zoepmwqw2nfk-Vs9ssxn1I3jPs97ekKkctEkM&m=eVjcqQ6q8nY7QUSrlA2nPJNCy7kLh0qN2V
 YRahN9_94&s=S3JMa5G0D-NLynujJc8RwSnj4cn354eHaVMXf2JIsm4&e=>ICANNAtLarge [t
 witter.com]<https://urldefense.proofpoint.com/v2/url?u=https-3A__twitter.c
 om_ICANNAtLarge&d=DwMGaQ&c=FmY1u3PJp6wrcrwll3mSVzgfkbPSS6sJms7xcl4I5cM&r=d
 s9md1zoepmwqw2nfk-Vs9ssxn1I3jPs97ekKkctEkM&m=eVjcqQ6q8nY7QUSrlA2nPJNCy7kLh
 0qN2VYRahN9_94&s=S3JMa5G0D-NLynujJc8RwSnj4cn354eHaVMXf2JIsm4&e=>\n\n\n\n\n
 \n\n\n\n\nFrom: At-Large Staff <staff@atlarge.icann.org>\nDate: Tuesday\, 
 26 May 2020 at 23:17\nTo: At-Large Staff <staff@atlarge.icann.org>\, ALAC 
 Outreach SC <alac-sc-outreach@atlarge-lists.icann.org>\, Adam Peake <adam.
 peake@icann.org>\nSubject: CANCELLED - ALAC Subcommittee on Outreach and E
 ngagement Call on Wednesday\, 27 May 2020 at 17:00 UTC\n\n\n\nDear All\,\n
 \n\n\nAt the request of the Chair of the ALAC Subcommittee on Outreach and
  Engagement\, Daniel Nanghaka\, the call on Wednesday\, 27 May at 17:00 UT
 C is CANCELLED.\n\n\n\nApologies for the short notice and for any inconven
 ience caused.\n\n\n\nThank you.\n\nKind regards\,\n\n\n\nICANN Policy Staf
 f in support of the At-Large Community\n\nWebsite: atlarge.icann.org [atla
 rge.icann.org]<https://urldefense.proofpoint.com/v2/url?u=https-3A__atlarg
 e.icann.org_&d=DwMGaQ&c=FmY1u3PJp6wrcrwll3mSVzgfkbPSS6sJms7xcl4I5cM&r=ds9m
 d1zoepmwqw2nfk-Vs9ssxn1I3jPs97ekKkctEkM&m=eVjcqQ6q8nY7QUSrlA2nPJNCy7kLh0qN
 2VYRahN9_94&s=w0dPK7RICz6K2B73FoSU1sV9BhHFOnYC3blqz9emA6o&e=>\n\nFacebook:
  facebook.com/icann [facebook.com]<https://urldefense.proofpoint.com/v2/ur
 l?u=https-3A__www.facebook.com_icannatlarge&d=DwMGaQ&c=FmY1u3PJp6wrcrwll3m
 SVzgfkbPSS6sJms7xcl4I5cM&r=ds9md1zoepmwqw2nfk-Vs9ssxn1I3jPs97ekKkctEkM&m=e
 VjcqQ6q8nY7QUSrlA2nPJNCy7kLh0qN2VYRahN9_94&s=cQT9ewNA5UeVKxa3D4IGyjS4kHn3x
 OCI4z2ZyLFEX0k&e=>atlarge [facebook.com]<https://urldefense.proofpoint.com
 /v2/url?u=https-3A__www.facebook.com_icannatlarge&d=DwMGaQ&c=FmY1u3PJp6wrc
 rwll3mSVzgfkbPSS6sJms7xcl4I5cM&r=ds9md1zoepmwqw2nfk-Vs9ssxn1I3jPs97ekKkctE
 kM&m=eVjcqQ6q8nY7QUSrlA2nPJNCy7kLh0qN2VYRahN9_94&s=cQT9ewNA5UeVKxa3D4IGyjS
 4kHn3xOCI4z2ZyLFEX0k&e=>\n\nTwitter: @ [twitter.com]<https://urldefense.pr
 oofpoint.com/v2/url?u=https-3A__twitter.com_ICANNAtLarge&d=DwMGaQ&c=FmY1u3
 PJp6wrcrwll3mSVzgfkbPSS6sJms7xcl4I5cM&r=ds9md1zoepmwqw2nfk-Vs9ssxn1I3jPs97
 ekKkctEkM&m=eVjcqQ6q8nY7QUSrlA2nPJNCy7kLh0qN2VYRahN9_94&s=S3JMa5G0D-NLynuj
 Jc8RwSnj4cn354eHaVMXf2JIsm4&e=>ICANNAtLarge [twitter.com]<https://urldefen
 se.proofpoint.com/v2/url?u=https-3A__twitter.com_ICANNAtLarge&d=DwMGaQ&c=F
 mY1u3PJp6wrcrwll3mSVzgfkbPSS6sJms7xcl4I5cM&r=ds9md1zoepmwqw2nfk-Vs9ssxn1I3
 jPs97ekKkctEkM&m=eVjcqQ6q8nY7QUSrlA2nPJNCy7kLh0qN2VYRahN9_94&s=S3JMa5G0D-N
 LynujJc8RwSnj4cn354eHaVMXf2JIsm4&e=>\n\n\n\n\n\n\n\nFrom: At-Large Staff <
 staff@atlarge.icann.org>\nDate: Wednesday\, 13 May 2020 at 11:44\nTo: ALAC
  Outreach SC <alac-sc-outreach@atlarge-lists.icann.org>\, Adam Peake <adam
 .peake@icann.org>\nCc: At-Large Staff <staff@atlarge.icann.org>\nSubject: 
 Meeting invitation: ALAC Subcommittee on Outreach and Engagement Call on W
 ednesday\, 27 May 2020 at 17:00 UTC\n\n \n\n\n\nDear All\,\n\n\n\nThe ne
 xt ALAC Subcommittee on Outreach and Engagement Call is scheduled on Wedne
 sday\, 27 May 2020 at 17:00 UTC for 90 mins.\n\n\n\nFor other times: https
 ://tinyurl.com/y74r4yj2\n\n\n\nThe agenda (to be updated) and call details
  can be found at: https://community.icann.org/x/-YUEC\n\n\n\nWiki Workspac
 e: https://community.icann.org/x/cqfbAQ\n\n\n\nZoom Link: https://icann.zo
 om.us/j/96075632621 / Meeting ID: 960 7563 2621\n\nPassword:  SC-O&E1234\n
 \n\n\nADIGO Conference Bridge:\n\nEN: 1638\n\nES: 1738\n\n\n\nToll-free ac
 cess number (US and Canada): 800 550 6865\n\n\n\nOther toll free numbers: 
 http://adigo.com/icann/\n\n\n\n\n\nIf you require a dial-out please contac
 t At-Large staff at staff@atlarge.icann.org<mailto:staff@atlarge.icann.org
 > with your preferred number.\n\n\n\n\n\nThank you.\n\nKind regards\,\n\n\
 n\nAt-Large Staff\n\nICANN Policy Staff in support of the At-Large Communi
 ty\n\nWebsite: atlarge.icann.org<https://atlarge.icann.org/>\n\nFacebook: 
 facebook.com/icann<https://www.facebook.com/icannatlarge>atlarge<https://w
 ww.facebook.com/icannatlarge>\n\nTwitter: @<https://twitter.com/ICANNAtLar
 ge>ICANNAtLarge<https://twitter.com/ICANNAtLarge>\n\n\n
SUMMARY;LANGUAGE=en-GB:Canceled: Co-Chairs ALAC Subcommittee on Outreach an
 d Engagement Call (CLOSED)
DTSTART;TZID=UTC:20200527T170000
DTEND;TZID=UTC:20200527T183000
UID:FD8DE19B-3EB7-4615-BD60-8B4ED120D5B8
CLASS:PUBLIC
PRIORITY:5
DTSTAMP:20200526T233916Z
TRANSP:OPAQUE
STATUS:CANCELLED
SEQUENCE:1
LOCATION;LANGUAGE=en-GB:17:00 UTC - ADIGO EN1638 ES1738 - https://icann.zoo
 m.us/j/96075632621 
X-MICROSOFT-CDO-APPT-SEQUENCE:1
X-MICROSOFT-CDO-OWNERAPPTID:2118479444
X-MICROSOFT-CDO-BUSYSTATUS:FREE
X-MICROSOFT-CDO-INTENDEDSTATUS:FREE
X-MICROSOFT-CDO-ALLDAYEVENT:FALSE
X-MICROSOFT-CDO-IMPORTANCE:1
X-MICROSOFT-CDO-INSTTYPE:0
X-MICROSOFT-DISALLOW-COUNTER:FALSE
END:VEVENT
END:VCALENDAR
