BEGIN:VCALENDAR
VERSION:2.0
PRODID:-//Microsoft Corporation//Outlook for Mac MIMEDIR//EN
METHOD:PUBLISH
BEGIN:VTIMEZONE
TZID:Coordinated Universal Time
X-ENTOURAGE-CFTIMEZONE:UTC
X-ENTOURAGE-TZID:93
BEGIN:STANDARD
TZOFFSETFROM:+0000
TZOFFSETTO:+0000
DTSTART:16010101T000000
END:STANDARD
END:VTIMEZONE
BEGIN:VEVENT
UID:FE9D7784-E347-41F5-985D-C9B308C248D6
X-ENTOURAGE_UUID:FE9D7784-E347-41F5-985D-C9B308C248D6
X-MICROSOFT-EXCHANGE-ID:AAMkADFlMDNlNjQ5LTNjNTUtNDJkMC04ZTI0LWFiMTFkOTgwND
 JhMQBGAAAAAAAdZPIZTDF9SJl4Q9bAl0gQBwAFskP3JLIoSYZSK2rNBQTXAIjV8WqdAACjhqXC
 SbKVRZwH7aZE5XhKAAAVsyYwAAA=
X-MICROSOFT-EXCHANGE-CHANGEKEY:DwAAABYAAACjhqXCSbKVRZwH7aZE5XhKAAAVtDEb
DTSTAMP:20200820T203115Z
DTSTART;TZID="Coordinated Universal Time":20200826T170000
DTEND;TZID="Coordinated Universal Time":20200826T183000
LAST-MODIFIED:20200820T203117Z
SUMMARY:ALAC Subcommittee on Outreach and Engagement Call 
DESCRIPTION:**If you require a dial-out or need to state an apology\,
  please contact At-Large staff at staff@atlarge.icann.org with your
  preferred number.**\n\n \n\n\n\nDear All\,\n\n\n\nThe next ALAC
  Subcommittee on Outreach and Engagement Call is scheduled on Wednesday\,
  26 August 2020 at 17:00 UTC for 90 mins.\n\n\n\nFor other times:
  https://tinyurl.com/y65e8f5r\n\n\n\nThe agenda (to be updated) and call
  details can be found at: https://community.icann.org/x/LwC1C\n\n\n\nWiki
  Workspace: https://community.icann.org/x/cqfbAQ\n\n\nZoom Link:
  https://icann.zoom.us/j/99079796253?pwd=SHQwaXI4bnkrTFE1bW1mNGQyMitIQT09
  / Password: 1gP2g2tgz#\n\n\n\nRTT Link: (subject to availability)
   https://www.streamtext.net/player?event=ICANN
  [streamtext.net]\n\n\n\n\n\nADIGO Conference Bridge: EN 1638 ES
  1738\n\n\n\nToll-free access number (US and Canada): 800 550
  6865\n\n\n\nOther toll free numbers:
  http://adigo.com/icann/\n\n\n\n\n\n\n\nIf you require a dial-out please
  contact At-Large staff at staff@atlarge.icann.org with your preferred
  number.\n\n\n\n\n\nThank you.\n\nKind regards\,\n\n\n\nAt-Large
  Staff\n\nICANN Policy Staff in support of the At-Large
  Community\n\nWebsite: atlarge.icann.org\n\nFacebook:
  facebook.com/icannatlarge\n\nTwitter:
  @ICANNAtLarge\n\n\n\n\n\n\n\n\n\n\n\n\n
LOCATION:17:00 UTC - EN:1638 ES:1738 -
  https://icann.zoom.us/j/99079796253?pwd=SHQwaXI4bnkrTFE1bW1mNGQyMitIQT09
  / Password: 1gP2g2tgz#
ORGANIZER:MAILTO:PolicyCalendar@icann.org
SEQUENCE:0
ATTENDEE;ROLE=REQ-PARTICIPANT;RSVP=FALSE;CN="Heidi
  Ullrich";PARTSTAT=NEEDS-ACTION:MAILTO:Heidi.Ullrich@icann.org
ATTENDEE;ROLE=REQ-PARTICIPANT;RSVP=FALSE;CN="Silvia
  Vivanco";PARTSTAT=NEEDS-ACTION:MAILTO:silvia.vivanco@icann.org
ATTENDEE;ROLE=REQ-PARTICIPANT;RSVP=FALSE;CN="Adam
  Peake";PARTSTAT=NEEDS-ACTION:MAILTO:adam.peake@icann.org
ATTENDEE;ROLE=REQ-PARTICIPANT;RSVP=FALSE;CN="Gisella
  Gruber";PARTSTAT=NEEDS-ACTION:MAILTO:Gisella.Gruber@icann.org
ATTENDEE;ROLE=REQ-PARTICIPANT;RSVP=FALSE;CN="Evin
  Erdogdu";PARTSTAT=NEEDS-ACTION:MAILTO:evin.erdogdu@icann.org
ATTENDEE;ROLE=REQ-PARTICIPANT;RSVP=FALSE;CN=mcknight.glenn@gmail.com;PARTS
 TAT=NEEDS-ACTION:MAILTO:mcknight.glenn@gmail.com
ATTENDEE;ROLE=REQ-PARTICIPANT;RSVP=FALSE;CN="Claudia
  Ruiz";PARTSTAT=NEEDS-ACTION:MAILTO:claudia.ruiz@icann.org
ATTENDEE;ROLE=REQ-PARTICIPANT;RSVP=FALSE;CN="Michelle
  DeSmyter";PARTSTAT=NEEDS-ACTION:MAILTO:michelle.desmyter@icann.org
ATTENDEE;ROLE=REQ-PARTICIPANT;RSVP=FALSE;CN=vrikson.i.acosta.v@gmail.com;P
 ARTSTAT=NEEDS-ACTION:MAILTO:vrikson.i.acosta.v@gmail.com
ATTENDEE;ROLE=REQ-PARTICIPANT;RSVP=FALSE;CN=peterkingq@gmail.com;PARTSTAT=
 NEEDS-ACTION:MAILTO:peterkingq@gmail.com
ATTENDEE;ROLE=REQ-PARTICIPANT;RSVP=FALSE;CN="Yesim
  Nazlar";PARTSTAT=NEEDS-ACTION:MAILTO:yesim.nazlar@icann.org
ATTENDEE;ROLE=REQ-PARTICIPANT;RSVP=FALSE;CN=Alac-sc-outreach;PARTSTAT=NEED
 S-ACTION:MAILTO:alac-sc-outreach@atlarge-lists.icann.org
ATTENDEE;ROLE=REQ-PARTICIPANT;RSVP=FALSE;CN="John
  Laprise";PARTSTAT=NEEDS-ACTION:MAILTO:jlaprise@gmail.com
ATTENDEE;ROLE=REQ-PARTICIPANT;RSVP=FALSE;CN="Ricardo  Holmquist
  ";PARTSTAT=NEEDS-ACTION:MAILTO:rihogris@gmail.com
ATTENDEE;ROLE=REQ-PARTICIPANT;RSVP=FALSE;CN="Judith
  Hellerstein";PARTSTAT=NEEDS-ACTION:MAILTO:judith@jhellerstein.com
ATTENDEE;ROLE=REQ-PARTICIPANT;RSVP=FALSE;CN="Maritza Y. Aguero
  Minano";PARTSTAT=NEEDS-ACTION:MAILTO:myaguero@msn.com
ATTENDEE;ROLE=REQ-PARTICIPANT;RSVP=FALSE;CN="Maureen
  Hilyard";PARTSTAT=NEEDS-ACTION:MAILTO:maureen.hilyard@gmail.com
ATTENDEE;ROLE=REQ-PARTICIPANT;RSVP=FALSE;CN="Cheryl
  Langdon-Orr";PARTSTAT=NEEDS-ACTION:MAILTO:langdonorr@gmail.com
ATTENDEE;ROLE=REQ-PARTICIPANT;RSVP=FALSE;CN="Bram
  Fudzulani";PARTSTAT=NEEDS-ACTION:MAILTO:beatblam@hotmail.com
ATTENDEE;ROLE=REQ-PARTICIPANT;RSVP=FALSE;CN=weaker41@gmail.com;PARTSTAT=NE
 EDS-ACTION:MAILTO:weaker41@gmail.com
ATTENDEE;ROLE=REQ-PARTICIPANT;RSVP=FALSE;CN="Siranush
  Vardanyan";PARTSTAT=NEEDS-ACTION:MAILTO:siranush.vardanyan@icann.org
ATTENDEE;ROLE=REQ-PARTICIPANT;RSVP=FALSE;CN="Vanda
  Scartezini";PARTSTAT=NEEDS-ACTION:MAILTO:vanda@scartezini.org
ATTENDEE;ROLE=REQ-PARTICIPANT;RSVP=FALSE;CN=admin@robertjacobi.com;PARTSTA
 T=NEEDS-ACTION:MAILTO:admin@robertjacobi.com
ATTENDEE;ROLE=REQ-PARTICIPANT;RSVP=FALSE;CN=devtee@gmail.com;PARTSTAT=NEED
 S-ACTION:MAILTO:devtee@gmail.com
ATTENDEE;ROLE=REQ-PARTICIPANT;RSVP=FALSE;CN="Remmy
  Nweke";PARTSTAT=NEEDS-ACTION:MAILTO:remmyn@gmail.com
ATTENDEE;ROLE=REQ-PARTICIPANT;RSVP=FALSE;CN=dkissoondoyal@gmail.com;PARTST
 AT=NEEDS-ACTION:MAILTO:dkissoondoyal@gmail.com
ATTENDEE;ROLE=REQ-PARTICIPANT;RSVP=FALSE;CN="Deborah
  Escalera";PARTSTAT=NEEDS-ACTION:MAILTO:deborah.escalera@icann.org
ATTENDEE;ROLE=REQ-PARTICIPANT;RSVP=FALSE;CN=petersomoragbon@gmail.com;PART
 STAT=NEEDS-ACTION:MAILTO:petersomoragbon@gmail.com
ATTENDEE;ROLE=REQ-PARTICIPANT;RSVP=FALSE;CN=icann@isaacmaposa.com;PARTSTAT
 =NEEDS-ACTION:MAILTO:icann@isaacmaposa.com
ATTENDEE;ROLE=REQ-PARTICIPANT;RSVP=FALSE;CN=joanhopek@gmail.com;PARTSTAT=N
 EEDS-ACTION:MAILTO:joanhopek@gmail.com
ATTENDEE;ROLE=REQ-PARTICIPANT;RSVP=FALSE;CN=fsylla@gmail.com;PARTSTAT=NEED
 S-ACTION:MAILTO:fsylla@gmail.com
ATTENDEE;ROLE=REQ-PARTICIPANT;RSVP=FALSE;CN="Matthias M.
  Hudobnik";PARTSTAT=NEEDS-ACTION:MAILTO:matthias@hudobnik.at
ATTENDEE;ROLE=REQ-PARTICIPANT;RSVP=FALSE;CN="Joanna
  Kulesza";PARTSTAT=NEEDS-ACTION:MAILTO:jkuleszaicann@gmail.com
ATTENDEE;ROLE=REQ-PARTICIPANT;RSVP=FALSE;CN=lilidebru@hotmail.com;PARTSTAT
 =NEEDS-ACTION:MAILTO:lilidebru@hotmail.com
ATTENDEE;ROLE=REQ-PARTICIPANT;RSVP=FALSE;CN="Maryam
  Bakoshi";PARTSTAT=NEEDS-ACTION:MAILTO:maryam.bakoshi@icann.org
ATTENDEE;ROLE=REQ-PARTICIPANT;RSVP=FALSE;CN="Mary
  Wong";PARTSTAT=NEEDS-ACTION:MAILTO:mary.wong@icann.org
ATTENDEE;ROLE=REQ-PARTICIPANT;RSVP=FALSE;CN="Lianna
  Galstyan";PARTSTAT=NEEDS-ACTION:MAILTO:lianna@isoc.am
ATTENDEE;ROLE=REQ-PARTICIPANT;RSVP=FALSE;CN=Jamie;PARTSTAT=NEEDS-ACTION:MA
 ILTO:jamie@alacarteconnection.com
ATTENDEE;ROLE=REQ-PARTICIPANT;RSVP=FALSE;CN="Sergio Salinas
  Porto";PARTSTAT=NEEDS-ACTION:MAILTO:presidencia@internauta.org.ar
ATTENDEE;ROLE=REQ-PARTICIPANT;RSVP=FALSE;CN="Sabrina
  Mosquera";PARTSTAT=NEEDS-ACTION:MAILTO:sabrina.mosquera@icann.org
ATTENDEE;ROLE=REQ-PARTICIPANT;RSVP=FALSE;CN="TEL
  ES-Teleconf-Interpretation";PARTSTAT=NEEDS-ACTION:MAILTO:ES-Teleconf-Inte
 rpretation@icann.org
ATTENDEE;ROLE=REQ-PARTICIPANT;RSVP=FALSE;CN="Jonathan
  Zuck";PARTSTAT=NEEDS-ACTION:MAILTO:JZuck@innovatorsnetwork.org
ATTENDEE;ROLE=REQ-PARTICIPANT;RSVP=FALSE;CN="Alfredo
  Calderon";PARTSTAT=NEEDS-ACTION:MAILTO:calderon.alfredo@gmail.com
ATTENDEE;ROLE=REQ-PARTICIPANT;RSVP=FALSE;CN="Bukola
  Oronti";PARTSTAT=NEEDS-ACTION:MAILTO:bukkiepharworley@gmail.com
ATTENDEE;ROLE=REQ-PARTICIPANT;RSVP=FALSE;CN="Natalia
  Filina";PARTSTAT=NEEDS-ACTION:MAILTO:filinafilka@gmail.com
ATTENDEE;ROLE=REQ-PARTICIPANT;RSVP=FALSE;CN=secretariat@atlarge-lists.ican
 n.org;PARTSTAT=NEEDS-ACTION:MAILTO:secretariat@atlarge-lists.icann.org
ATTENDEE;ROLE=REQ-PARTICIPANT;RSVP=FALSE;CN="Penelas
  ICANN";PARTSTAT=NEEDS-ACTION:MAILTO:penelas.inteam.icann@gmail.com
ATTENDEE;ROLE=REQ-PARTICIPANT;RSVP=FALSE;CN="Pou
  ICANN";PARTSTAT=NEEDS-ACTION:MAILTO:pou.inteam.icann@gmail.com
ATTENDEE;ROLE=REQ-PARTICIPANT;RSVP=FALSE;CN="Epstein
  ICANN";PARTSTAT=NEEDS-ACTION:MAILTO:epstein.inteam.icann@gmail.com
X-MICROSOFT-CDO-BUSYSTATUS:BUSY
X-MICROSOFT-CDO-ALLDAYEVENT:FALSE
X-MICROSOFT-DISALLOW-COUNTER:TRUE
X-MICROSOFT-DONOTFORWARDMEETING:FALSE
X-MICROSOFT-CDO-INSTTYPE:0
BEGIN:VALARM
ACTION:DISPLAY
DESCRIPTION:REMINDER
TRIGGER;RELATED=START:-PT00H15M00S
END:VALARM
END:VEVENT
END:VCALENDAR
