BEGIN:VCALENDAR
METHOD:REQUEST
PRODID:Microsoft Exchange Server 2010
VERSION:2.0
BEGIN:VTIMEZONE
TZID:UTC
BEGIN:STANDARD
DTSTART:16010101T000000
TZOFFSETFROM:+0000
TZOFFSETTO:+0000
END:STANDARD
BEGIN:DAYLIGHT
DTSTART:16010101T000000
TZOFFSETFROM:+0000
TZOFFSETTO:+0000
END:DAYLIGHT
END:VTIMEZONE
BEGIN:VEVENT
ORGANIZER;CN=ICANN Policy Calendar:MAILTO:PolicyCalendar@icann.org
ATTENDEE;ROLE=REQ-PARTICIPANT;PARTSTAT=NEEDS-ACTION;RSVP=TRUE;CN=Heidi Ullr
 ich:MAILTO:Heidi.Ullrich@icann.org
ATTENDEE;ROLE=REQ-PARTICIPANT;PARTSTAT=NEEDS-ACTION;RSVP=TRUE;CN=Silvia Viv
 anco:MAILTO:silvia.vivanco@icann.org
ATTENDEE;ROLE=REQ-PARTICIPANT;PARTSTAT=NEEDS-ACTION;RSVP=TRUE;CN=Gisella Gr
 uber:MAILTO:Gisella.Gruber@icann.org
ATTENDEE;ROLE=REQ-PARTICIPANT;PARTSTAT=NEEDS-ACTION;RSVP=TRUE;CN=Evin Erdog
 du:MAILTO:evin.erdogdu@icann.org
ATTENDEE;ROLE=REQ-PARTICIPANT;PARTSTAT=NEEDS-ACTION;RSVP=TRUE;CN=Claudia Ru
 iz:MAILTO:claudia.ruiz@icann.org
ATTENDEE;ROLE=REQ-PARTICIPANT;PARTSTAT=NEEDS-ACTION;RSVP=TRUE;CN=Michelle D
 eSmyter:MAILTO:michelle.desmyter@icann.org
ATTENDEE;ROLE=REQ-PARTICIPANT;PARTSTAT=NEEDS-ACTION;RSVP=TRUE;CN=Yesim Nazl
 ar:MAILTO:yesim.nazlar@icann.org
ATTENDEE;ROLE=REQ-PARTICIPANT;PARTSTAT=NEEDS-ACTION;RSVP=TRUE;CN=Alac-sc-ou
 treach:MAILTO:alac-sc-outreach@atlarge-lists.icann.org
ATTENDEE;ROLE=REQ-PARTICIPANT;PARTSTAT=NEEDS-ACTION;RSVP=TRUE;CN=Adam Peake
 :MAILTO:adam.peake@icann.org
ATTENDEE;ROLE=REQ-PARTICIPANT;PARTSTAT=NEEDS-ACTION;RSVP=TRUE;CN=TEL ES-Tel
 econf-Interpretation:MAILTO:ES-Teleconf-Interpretation@icann.org
ATTENDEE;ROLE=REQ-PARTICIPANT;PARTSTAT=NEEDS-ACTION;RSVP=TRUE;CN=Sabrina Mo
 squera:MAILTO:sabrina.mosquera@icann.org
ATTENDEE;ROLE=REQ-PARTICIPANT;PARTSTAT=NEEDS-ACTION;RSVP=TRUE;CN=Jamie A La
  CARTe Connection:MAILTO:jamie@alacarteconnection.com
ATTENDEE;ROLE=REQ-PARTICIPANT;PARTSTAT=NEEDS-ACTION;RSVP=TRUE;CN=Office A L
 a CARTe Connection:MAILTO:office@alacarteconnection.com
DESCRIPTION;LANGUAGE=en-US:**If you require a dial-out or need to state an 
 apology\, please contact At-Large staff at staff@atlarge.icann.org<file://
 /composeviewinternalloadurl/staff@atlarge.icann.org> with your preferred n
 umber.**\n\n \n\n&nbsp\;\n\nDear All\,\n\n&nbsp\;\n\nThe next ALAC Subco
 mmittee on Outreach and Engagement Call is scheduled on Wednesday\, 27 Jan
 uary 2021 at 17:00 UTC for 90 mins.\n\n&nbsp\;\n\nFor other times: https:/
 /tinyurl.com/y2toclgs\n\n&nbsp\;\n\nThe agenda (to be updated) and call de
 tails can be found at: https://community.icann.org/x/gQhACQ\n\n&nbsp\;\n\n
 Wiki Workspace: https://community.icann.org/x/cqfbAQ\n\n&nbsp\;\n\n\nZoom 
 Link: https://icann.zoom.us/j/91676766971?pwd=Y0V2MFhHbXBXeEVsb1FDRjQrRU95
 UT09 &nbsp\;/&nbsp\;Password:&nbsp\;ALACSCO&E1\n\n&nbsp\;\n\nRTT Link: (su
 bject to availability) &nbsp\;https://www.streamtext.net/player?event=ICAN
 N [streamtext.net]<https://urldefense.proofpoint.com/v2/url?u=https-3A__ww
 w.streamtext.net_player-3Fevent-3DICANN&d=DwMFaQ&c=FmY1u3PJp6wrcrwll3mSVzg
 fkbPSS6sJms7xcl4I5cM&r=CXERzIws_vaPY8WrLB9yz2PICpecEh3yA9MaabnyyBk&m=L2zcf
 VfBIU5t-TQ9lCW4vPquB1yHafQ4B7P2mPknftM&s=3XOH6Zs_lK5a-CayV4eTIYjdfmSkdFrHv
 fnI4yhkwWE&e=>\n\n&nbsp\;\n\n&nbsp\;\n\nADIGO Conference Bridge:\n\nEN 163
 8\n\nES 1738\n\n&nbsp\;\n\nToll-free access number (US and Canada): 800 55
 0 6865\n\n&nbsp\;\n\nOther toll free numbers: http://adigo.com/icann/\n\n&
 nbsp\;\n\nIf you require a dial-out please contact At-Large staff at staff
 @atlarge.icann.org<mailto:staff@atlarge.icann.org> with your preferred num
 ber.\n\n&nbsp\;\n\n&nbsp\;\n\n\n\nThank you.\n\nKind Regards\,\n\n&nbsp\;\
 n\nAt-Large Staff\n\nICANN Policy Staff in support of the At-Large Communi
 ty\n\nWebsite:&nbsp\;atlarge.icann.org<https://atlarge.icann.org/>\n\nFace
 book:&nbsp\;facebook.com/icann<https://www.facebook.com/icannatlarge>atlar
 ge<https://www.facebook.com/icannatlarge>\n\nTwitter:&nbsp\;@<https://twit
 ter.com/ICANNAtLarge>ICANNAtLarge<https://twitter.com/ICANNAtLarge>\n
UID:115D0BFC-AC32-4B49-8127-BAEEDCB0042C
SUMMARY;LANGUAGE=en-US:ALAC Subcommittee on Outreach and Engagement Call 
DTSTART;TZID=UTC:20210127T170000
DTEND;TZID=UTC:20210127T183000
CLASS:PUBLIC
PRIORITY:5
DTSTAMP:20210119T110931Z
TRANSP:OPAQUE
STATUS:CONFIRMED
SEQUENCE:0
LOCATION;LANGUAGE=en-US:17:00 UTC - ADIGO EN:1638 ES:1738 - https://icann.z
 oom.us/j/91676766971?pwd=Y0V2MFhHbXBXeEVsb1FDRjQrRU95UT09  
X-MICROSOFT-CDO-APPT-SEQUENCE:0
X-MICROSOFT-CDO-OWNERAPPTID:2119276977
X-MICROSOFT-CDO-BUSYSTATUS:TENTATIVE
X-MICROSOFT-CDO-INTENDEDSTATUS:BUSY
X-MICROSOFT-CDO-ALLDAYEVENT:FALSE
X-MICROSOFT-CDO-IMPORTANCE:1
X-MICROSOFT-CDO-INSTTYPE:0
X-MICROSOFT-DONOTFORWARDMEETING:FALSE
X-MICROSOFT-DISALLOW-COUNTER:FALSE
BEGIN:VALARM
DESCRIPTION:REMINDER
TRIGGER;RELATED=START:-PT15M
ACTION:DISPLAY
END:VALARM
END:VEVENT
END:VCALENDAR
