BEGIN:VCALENDAR
VERSION:2.0
PRODID:-//Microsoft Corporation//Outlook for Mac MIMEDIR//EN
METHOD:PUBLISH
BEGIN:VTIMEZONE
TZID:Coordinated Universal Time
X-ENTOURAGE-CFTIMEZONE:UTC
X-ENTOURAGE-TZID:93
BEGIN:STANDARD
TZOFFSETFROM:+0000
TZOFFSETTO:+0000
DTSTART:16010101T000000
END:STANDARD
END:VTIMEZONE
BEGIN:VEVENT
UID:563DD105-E6F3-4D03-B634-28A036DCE072
X-ENTOURAGE_UUID:563DD105-E6F3-4D03-B634-28A036DCE072
X-MICROSOFT-EXCHANGE-ID:AAMkADFlMDNlNjQ5LTNjNTUtNDJkMC04ZTI0LWFiMTFkOTgwND
 JhMQBGAAAAAAAdZPIZTDF9SJl4Q9bAl0gQBwAFskP3JLIoSYZSK2rNBQTXAIjV8WqdAACjhqXC
 SbKVRZwH7aZE5XhKAACyoFu6AAA=
X-MICROSOFT-EXCHANGE-CHANGEKEY:DwAAABYAAACjhqXCSbKVRZwH7aZE5XhKAACyp8VO
DTSTAMP:20210413T005657Z
DTSTART;TZID="Coordinated Universal Time":20210428T170000
DTEND;TZID="Coordinated Universal Time":20210428T180000
LAST-MODIFIED:20210413T005700Z
SUMMARY:ALAC Subcommittee on Outreach and Engagement Call 
DESCRIPTION:**If you require a dial-out or need to state an apology\,
  please contact At-Large staff at staff@atlarge.icann.org with your
  preferred number.**\n\n \n\n \n\nDear All\,\n\n \n\nThe next ALAC
  Subcommittee on Outreach and Engagement Call is scheduled on Wednesday\,
  28 April 2021 at 17:00 UTC for 90 mins.\n\n \n\nFor other times:
  https://tinyurl.com/222vu373\n\n \n\nThe agenda (to be updated) and call
  details can be found at: https://community.icann.org/x/WgKlCQ\n\n
  \n\nWiki Workspace: https://community.icann.org/x/cqfbAQ\n\n \nZoom
  Link:
  https://icann.zoom.us/j/94988130476?pwd=eS9JOG4xT2orUzdNVXZFU2UwYUt1QT09
  / Password: ALACSCO&E1\n \n\nRTT Link: (subject to availability)
   https://www.streamtext.net/player?event=ICANN [streamtext.net]\n\n \n\n
  \n\nADIGO Conference Bridge: \n\nEN 1638 \n\nES 1738\n\n \n\nToll-free
  access number (US and Canada): 800 550 6865\n\n \n\nOther toll free
  numbers: http://adigo.com/icann/ \n\n \n\nIf you require a dial-out
  please contact At-Large staff at staff@atlarge.icann.org with your
  preferred number.\n\n \n\n \n\n \n\nThank you.\n\nKind Regards\,\n\n
  \n\nAt-Large Staff\n\nICANN Policy Staff in support of the At-Large
  Community\n\nWebsite: atlarge.icann.org\n\nFacebook:
  facebook.com/icannatlarge\n\nTwitter: @ICANNAtLarge\n\n \n
LOCATION:17:00 UTC - ADIGO EN:1638 ES:1738 -
  https://icann.zoom.us/j/94988130476?pwd=eS9JOG4xT2orUzdNVXZFU2UwYUt1QT09
ORGANIZER:MAILTO:PolicyCalendar@icann.org
SEQUENCE:0
ATTENDEE;ROLE=REQ-PARTICIPANT;RSVP=FALSE;CN="Heidi
  Ullrich";PARTSTAT=NEEDS-ACTION:MAILTO:Heidi.Ullrich@icann.org
ATTENDEE;ROLE=REQ-PARTICIPANT;RSVP=FALSE;CN="Silvia
  Vivanco";PARTSTAT=NEEDS-ACTION:MAILTO:silvia.vivanco@icann.org
ATTENDEE;ROLE=REQ-PARTICIPANT;RSVP=FALSE;CN="Gisella
  Gruber";PARTSTAT=NEEDS-ACTION:MAILTO:Gisella.Gruber@icann.org
ATTENDEE;ROLE=REQ-PARTICIPANT;RSVP=FALSE;CN="Evin
  Erdogdu";PARTSTAT=NEEDS-ACTION:MAILTO:evin.erdogdu@icann.org
ATTENDEE;ROLE=REQ-PARTICIPANT;RSVP=FALSE;CN="Claudia
  Ruiz";PARTSTAT=NEEDS-ACTION:MAILTO:claudia.ruiz@icann.org
ATTENDEE;ROLE=REQ-PARTICIPANT;RSVP=FALSE;CN="Michelle
  DeSmyter";PARTSTAT=NEEDS-ACTION:MAILTO:michelle.desmyter@icann.org
ATTENDEE;ROLE=REQ-PARTICIPANT;RSVP=FALSE;CN="Yesim
  Nazlar";PARTSTAT=NEEDS-ACTION:MAILTO:yesim.nazlar@icann.org
ATTENDEE;ROLE=REQ-PARTICIPANT;RSVP=FALSE;CN=Alac-sc-outreach;PARTSTAT=NEED
 S-ACTION:MAILTO:alac-sc-outreach@atlarge-lists.icann.org
ATTENDEE;ROLE=REQ-PARTICIPANT;RSVP=FALSE;CN="Adam
  Peake";PARTSTAT=NEEDS-ACTION:MAILTO:adam.peake@icann.org
ATTENDEE;ROLE=REQ-PARTICIPANT;RSVP=FALSE;CN="TEL
  ES-Teleconf-Interpretation";PARTSTAT=NEEDS-ACTION:MAILTO:ES-Teleconf-Inte
 rpretation@icann.org
ATTENDEE;ROLE=REQ-PARTICIPANT;RSVP=FALSE;CN="Sabrina
  Mosquera";PARTSTAT=NEEDS-ACTION:MAILTO:sabrina.mosquera@icann.org
ATTENDEE;ROLE=REQ-PARTICIPANT;RSVP=FALSE;CN="Jamie A La CARTe
  Connection";PARTSTAT=NEEDS-ACTION:MAILTO:jamie@alacarteconnection.com
ATTENDEE;ROLE=REQ-PARTICIPANT;RSVP=FALSE;CN="Office A La CARTe
  Connection";PARTSTAT=NEEDS-ACTION:MAILTO:Office@alacarteconnection.com
ATTENDEE;ROLE=REQ-PARTICIPANT;RSVP=FALSE;CN="lilian ivette de luque
  bruges";PARTSTAT=NEEDS-ACTION:MAILTO:lilidebru@hotmail.com
ATTENDEE;ROLE=REQ-PARTICIPANT;RSVP=FALSE;CN="Bram
  Fudzulani";PARTSTAT=NEEDS-ACTION:MAILTO:beatblam@hotmail.com
ATTENDEE;ROLE=REQ-PARTICIPANT;RSVP=FALSE;CN=marukhyan.susan@gmail.com;PART
 STAT=NEEDS-ACTION:MAILTO:marukhyan.susan@gmail.com
ATTENDEE;ROLE=REQ-PARTICIPANT;RSVP=FALSE;CN="Siranush
  Vardanyan";PARTSTAT=NEEDS-ACTION:MAILTO:siranush.vardanyan@icann.org
ATTENDEE;ROLE=REQ-PARTICIPANT;RSVP=FALSE;CN=vrikson.i.acosta.v@gmail.com;P
 ARTSTAT=NEEDS-ACTION:MAILTO:vrikson.i.acosta.v@gmail.com
ATTENDEE;ROLE=REQ-PARTICIPANT;RSVP=FALSE;CN="Roberto
  Gaetano";PARTSTAT=NEEDS-ACTION:MAILTO:roberto_gaetano@hotmail.com
ATTENDEE;ROLE=REQ-PARTICIPANT;RSVP=FALSE;CN=weaker41@gmail.com;PARTSTAT=NE
 EDS-ACTION:MAILTO:weaker41@gmail.com
ATTENDEE;ROLE=REQ-PARTICIPANT;RSVP=FALSE;CN="Alberto
  Soto";PARTSTAT=NEEDS-ACTION:MAILTO:alberto@soto.net.ar
ATTENDEE;ROLE=REQ-PARTICIPANT;RSVP=FALSE;CN="Deborah
  Escalera";PARTSTAT=NEEDS-ACTION:MAILTO:deborah.escalera@icann.org
ATTENDEE;ROLE=REQ-PARTICIPANT;RSVP=FALSE;CN="Vanda
  Scartezini";PARTSTAT=NEEDS-ACTION:MAILTO:vanda@scartezini.org
ATTENDEE;ROLE=REQ-PARTICIPANT;RSVP=FALSE;CN=abdelouro@gmail.com;PARTSTAT=N
 EEDS-ACTION:MAILTO:abdelouro@gmail.com
ATTENDEE;ROLE=REQ-PARTICIPANT;RSVP=FALSE;CN=remmyn@gmail.com;PARTSTAT=NEED
 S-ACTION:MAILTO:remmyn@gmail.com
ATTENDEE;ROLE=REQ-PARTICIPANT;RSVP=FALSE;CN=olivierkouami@gmail.com;PARTST
 AT=NEEDS-ACTION:MAILTO:olivierkouami@gmail.com
ATTENDEE;ROLE=REQ-PARTICIPANT;RSVP=FALSE;CN=epstein.inteam.icann@gmail.com
 ;PARTSTAT=NEEDS-ACTION:MAILTO:epstein.inteam.icann@gmail.com
ATTENDEE;ROLE=REQ-PARTICIPANT;RSVP=FALSE;CN=penelas.inteam.icann@gmail.com
 ;PARTSTAT=NEEDS-ACTION:MAILTO:penelas.inteam.icann@gmail.com
X-MICROSOFT-CDO-BUSYSTATUS:BUSY
X-MICROSOFT-CDO-ALLDAYEVENT:FALSE
X-MICROSOFT-DISALLOW-COUNTER:TRUE
X-MICROSOFT-DONOTFORWARDMEETING:FALSE
X-MICROSOFT-CDO-INSTTYPE:0
BEGIN:VALARM
ACTION:DISPLAY
DESCRIPTION:REMINDER
TRIGGER;RELATED=START:-PT00H15M00S
END:VALARM
END:VEVENT
END:VCALENDAR
