BEGIN:VCALENDAR
METHOD:REQUEST
PRODID:Microsoft Exchange Server 2010
VERSION:2.0
BEGIN:VTIMEZONE
TZID:UTC
BEGIN:STANDARD
DTSTART:16010101T000000
TZOFFSETFROM:+0000
TZOFFSETTO:+0000
END:STANDARD
BEGIN:DAYLIGHT
DTSTART:16010101T000000
TZOFFSETFROM:+0000
TZOFFSETTO:+0000
END:DAYLIGHT
END:VTIMEZONE
BEGIN:VEVENT
ORGANIZER;CN=ICANN Policy Calendar:MAILTO:PolicyCalendar@icann.org
ATTENDEE;ROLE=REQ-PARTICIPANT;PARTSTAT=NEEDS-ACTION;RSVP=FALSE;CN=atlasiiip
 articipants@icann.org:MAILTO:atlasiiiparticipants@icann.org
ATTENDEE;ROLE=REQ-PARTICIPANT;PARTSTAT=NEEDS-ACTION;RSVP=FALSE;CN=lac-discu
 ss-es-owner@atlarge-lists.icann.org:MAILTO:lac-discuss-es-owner@atlarge-li
 sts.icann.org
DESCRIPTION;LANGUAGE=en-US:Dear All\,\n\n\n\nThe next At-Large Consolidated
  Policy Working Group (CPWG) Call is scheduled for Wednesday\, 27 November
  2019 at 13:00 UTC for 90 mins.\n\n\n\nFor other times: https://tinyurl.co
 m/uww9hyt\n\n\n\nThe agenda (to be updated) and call details can be found 
 at: https://community.icann.org/x/r5UzBw\n\n\n\nZoom Room: https://icann.z
 oom.us/j/765717566 / Meeting ID: 765-717-566 – Please note\, the zoom ro
 om link and Meeting ID will remain the same for each weekly meeting.\n\n\n
 \n\n\nReal time transcription (RTT) available at (subject to availability)
 : https://www.streamtext.net/player?event=ICANN [streamtext.net] [streamte
 xt.net]<https://urldefense.proofpoint.com/v2/url?u=https-3A__www.streamtex
 t.net_player-3Fevent-3DICANN-2520-255bstreamtext.net-255d&d=DwMFAw&c=FmY1u
 3PJp6wrcrwll3mSVzgfkbPSS6sJms7xcl4I5cM&r=ds9md1zoepmwqw2nfk-Vs9ssxn1I3jPs9
 7ekKkctEkM&m=3swqZGyi6FKCwbtdXsS00KG30nSf_mvmyNeQfXOhtnE&s=Lv8slVV_rkW85WW
 duFmCXZqG6gKKvj2Dqn_0ObROKVs&e=>\n\n\n\nADIGO Conference Bridge:\n\nEN: 16
 38\n\nES: 1738\n\n\n\nToll-free access number (US and Canada): 800 550 686
 5\n\n\n\nOther toll-free numbers: https://www.adigo.com/icann [adigo.com]<
 https://urldefense.proofpoint.com/v2/url?u=https-3A__www.adigo.com_icann&d
 =DwMFAw&c=FmY1u3PJp6wrcrwll3mSVzgfkbPSS6sJms7xcl4I5cM&r=8_WhWIPqsLT6TmF1Zm
 yci866vcPSFO4VShFqESGe_5iHWGlBLwwwehFBfjrsjWv9&m=v_dW7H6jSlA9nOi38W8-O0NNu
 gHRJaIXFir99n2INTw&s=2UDiAMNbva1Qtvc7Gxe4uYEmKjLJ0Ue93B3VR6GVJPw&e=>\n\n\n
 \nAt-Large Consolidated Policy Working Group (CPWG) Wiki Space: https://co
 mmunity.icann.org/x/jYDpB\n\n\n\nIf you require a dial-out please contact 
 At-Large staff at: staff@atlarge.icann.org<mailto:staff@atlarge.icann.org>
 \n\n\n\n\n\nThank you.\n\nKind regards\,\n\n\n\nAt-Large Staff\n\n\n\nICAN
 N Policy Staff in support of the At-Large Community\n\nWebsite: atlarge.ic
 ann.org [atlarge.icann.org]<https://urldefense.proofpoint.com/v2/url?u=htt
 ps-3A__atlarge.icann.org_&d=DwMFAw&c=FmY1u3PJp6wrcrwll3mSVzgfkbPSS6sJms7xc
 l4I5cM&r=8_WhWIPqsLT6TmF1Zmyci866vcPSFO4VShFqESGe_5iHWGlBLwwwehFBfjrsjWv9&
 m=v_dW7H6jSlA9nOi38W8-O0NNugHRJaIXFir99n2INTw&s=v19gDlbD6ophiMt9ufJIv1R-D0
 W1elKhT4Lr3BZO0wg&e=>\n\nFacebook: facebook.com/icann [facebook.com]<https
 ://urldefense.proofpoint.com/v2/url?u=https-3A__www.facebook.com_icannatla
 rge&d=DwMFAw&c=FmY1u3PJp6wrcrwll3mSVzgfkbPSS6sJms7xcl4I5cM&r=8_WhWIPqsLT6T
 mF1Zmyci866vcPSFO4VShFqESGe_5iHWGlBLwwwehFBfjrsjWv9&m=v_dW7H6jSlA9nOi38W8-
 O0NNugHRJaIXFir99n2INTw&s=ZjUmWomW9ZWPwChdZ8ohPcIctTziWmMWuHf4498fao8&e=>a
 tlarge [facebook.com]<https://urldefense.proofpoint.com/v2/url?u=https-3A_
 _www.facebook.com_icannatlarge&d=DwMFAw&c=FmY1u3PJp6wrcrwll3mSVzgfkbPSS6sJ
 ms7xcl4I5cM&r=8_WhWIPqsLT6TmF1Zmyci866vcPSFO4VShFqESGe_5iHWGlBLwwwehFBfjrs
 jWv9&m=v_dW7H6jSlA9nOi38W8-O0NNugHRJaIXFir99n2INTw&s=ZjUmWomW9ZWPwChdZ8ohP
 cIctTziWmMWuHf4498fao8&e=>\n\nTwitter: @ [twitter.com]<https://urldefense.
 proofpoint.com/v2/url?u=https-3A__twitter.com_ICANNAtLarge&d=DwMFAw&c=FmY1
 u3PJp6wrcrwll3mSVzgfkbPSS6sJms7xcl4I5cM&r=8_WhWIPqsLT6TmF1Zmyci866vcPSFO4V
 ShFqESGe_5iHWGlBLwwwehFBfjrsjWv9&m=v_dW7H6jSlA9nOi38W8-O0NNugHRJaIXFir99n2
 INTw&s=37f38QxH9lAkOhWD6g92CVLt6u5Ald3upGmzB2GFSC4&e=>ICANNAtLarge [twitte
 r.com]<https://urldefense.proofpoint.com/v2/url?u=https-3A__twitter.com_IC
 ANNAtLarge&d=DwMFAw&c=FmY1u3PJp6wrcrwll3mSVzgfkbPSS6sJms7xcl4I5cM&r=8_WhWI
 PqsLT6TmF1Zmyci866vcPSFO4VShFqESGe_5iHWGlBLwwwehFBfjrsjWv9&m=v_dW7H6jSlA9n
 Oi38W8-O0NNugHRJaIXFir99n2INTw&s=37f38QxH9lAkOhWD6g92CVLt6u5Ald3upGmzB2GFS
 C4&e=>\n\n\n\n\n\n\n\n\n\n\n\n\n\n\n\n\n\n\n\n\n\n\n
SUMMARY;LANGUAGE=en-US:At-Large Consolidated Policy Working Group (CPWG) Ca
 ll 
DTSTART;TZID=UTC:20191127T130000
DTEND;TZID=UTC:20191127T143000
UID:8AAA4612-21E5-4C14-BC9C-DE0D2D7B5F26
CLASS:PUBLIC
PRIORITY:5
DTSTAMP:20191121T184219Z
TRANSP:OPAQUE
STATUS:CONFIRMED
SEQUENCE:1
LOCATION;LANGUAGE=en-US:13:00 UTC - ADIGO EN:1638 ES:1738 - https://icann.z
 oom.us/j/765717566 
X-MICROSOFT-CDO-APPT-SEQUENCE:1
X-MICROSOFT-CDO-OWNERAPPTID:2117840227
X-MICROSOFT-CDO-BUSYSTATUS:TENTATIVE
X-MICROSOFT-CDO-INTENDEDSTATUS:BUSY
X-MICROSOFT-CDO-ALLDAYEVENT:FALSE
X-MICROSOFT-CDO-IMPORTANCE:1
X-MICROSOFT-CDO-INSTTYPE:0
X-MICROSOFT-DISALLOW-COUNTER:FALSE
BEGIN:VALARM
DESCRIPTION:REMINDER
TRIGGER;RELATED=START:-PT15M
ACTION:DISPLAY
END:VALARM
END:VEVENT
END:VCALENDAR
