BEGIN:VCALENDAR
METHOD:REQUEST
PRODID:Microsoft Exchange Server 2010
VERSION:2.0
BEGIN:VTIMEZONE
TZID:UTC
BEGIN:STANDARD
DTSTART:16010101T000000
TZOFFSETFROM:+0000
TZOFFSETTO:+0000
END:STANDARD
BEGIN:DAYLIGHT
DTSTART:16010101T000000
TZOFFSETFROM:+0000
TZOFFSETTO:+0000
END:DAYLIGHT
END:VTIMEZONE
BEGIN:VEVENT
ORGANIZER;CN=ICANN Policy Calendar:MAILTO:PolicyCalendar@icann.org
ATTENDEE;ROLE=REQ-PARTICIPANT;PARTSTAT=NEEDS-ACTION;RSVP=TRUE;CN=Heidi Ullr
 ich:MAILTO:Heidi.Ullrich@icann.org
ATTENDEE;ROLE=REQ-PARTICIPANT;PARTSTAT=NEEDS-ACTION;RSVP=TRUE;CN=Silvia Viv
 anco:MAILTO:silvia.vivanco@icann.org
ATTENDEE;ROLE=REQ-PARTICIPANT;PARTSTAT=NEEDS-ACTION;RSVP=TRUE;CN=Gisella Gr
 uber:MAILTO:Gisella.Gruber@icann.org
ATTENDEE;ROLE=REQ-PARTICIPANT;PARTSTAT=NEEDS-ACTION;RSVP=TRUE;CN=Evin Erdog
 du:MAILTO:evin.erdogdu@icann.org
ATTENDEE;ROLE=REQ-PARTICIPANT;PARTSTAT=NEEDS-ACTION;RSVP=TRUE;CN=Claudia Ru
 iz:MAILTO:claudia.ruiz@icann.org
ATTENDEE;ROLE=REQ-PARTICIPANT;PARTSTAT=NEEDS-ACTION;RSVP=TRUE;CN=Michelle D
 eSmyter:MAILTO:michelle.desmyter@icann.org
ATTENDEE;ROLE=REQ-PARTICIPANT;PARTSTAT=NEEDS-ACTION;RSVP=TRUE;CN=Alperen Ek
 en:MAILTO:alperen.eken@icann.org
ATTENDEE;ROLE=REQ-PARTICIPANT;PARTSTAT=NEEDS-ACTION;RSVP=TRUE;CN=Yesim Nazl
 ar:MAILTO:yesim.nazlar@icann.org
ATTENDEE;ROLE=REQ-PARTICIPANT;PARTSTAT=NEEDS-ACTION;RSVP=TRUE;CN=ALAC Membe
 rs:MAILTO:alac-members@icann.org
ATTENDEE;ROLE=REQ-PARTICIPANT;PARTSTAT=NEEDS-ACTION;RSVP=TRUE;CN=ALT-Plus:M
 AILTO:alt-plus@icann.org
ATTENDEE;ROLE=REQ-PARTICIPANT;PARTSTAT=NEEDS-ACTION;RSVP=TRUE;CN=Eduardo Di
 az:MAILTO:eduardodiazrivera@gmail.com
ATTENDEE;ROLE=REQ-PARTICIPANT;PARTSTAT=NEEDS-ACTION;RSVP=TRUE;CN=atlasiiipa
 rticipants@icann.org:MAILTO:atlasiiiparticipants@icann.org
ATTENDEE;ROLE=REQ-PARTICIPANT;PARTSTAT=NEEDS-ACTION;RSVP=TRUE;CN=TEL ES-Tel
 econf-Interpretation:MAILTO:ES-Teleconf-Interpretation@icann.org
ATTENDEE;ROLE=REQ-PARTICIPANT;PARTSTAT=NEEDS-ACTION;RSVP=TRUE;CN=TEL FR-Tel
 econf-Interpretation:MAILTO:FR-Teleconf-Interpretation@icann.org
ATTENDEE;ROLE=REQ-PARTICIPANT;PARTSTAT=NEEDS-ACTION;RSVP=TRUE;CN=Sabrina Mo
 squera:MAILTO:sabrina.mosquera@icann.org
ATTENDEE;ROLE=REQ-PARTICIPANT;PARTSTAT=NEEDS-ACTION;RSVP=TRUE;CN=Maria Vila
 rdo:MAILTO:maria.vilardo@icann.org
DESCRIPTION;LANGUAGE=en-US:If you need a dial-out\, please send an e-mail t
 o ICANN At-Large Staff ONLY staff@atlarge.icann.org<mailto:staff@atlarge.i
 cann.org>\n\n\n\n\n\nDear All\,\n\n\n\nFurther to the doodle poll\, Post-A
 TLAS III Activity Webinar is scheduled for Thursday\, 19 December 2019 at 
 14:00 UTC.\n\n\n\nFor other times:  https://tinyurl.com/utt9hpb\n\n\n\nThe
  agenda (to be updated) and call details can be found at:  https://communi
 ty.icann.org/x/dQNxBw\n\n\n\nATLAS III main workspace:  https://community.
 icann.org/x/8ptEB\n\n\n\nZoom Room: https://icann.zoom.us/j/968090045  / M
 eeting ID: 968 090 045\n\n\n\nZoom Dial-in Numbers: https://zoom.us/u/ayXQ
 GOHVG\n\n\n\nADIGO Conference ID:\n\nEnglish: 1638\n\nSpanish: 1738\n\nFre
 nch: 1838\n\n\n\nADIGO toll-free numbers: http://adigo.com/icann/\n\n\n\n\
 n\nThank you.\n\nKind regards\,\n\n\n\nAt-Large Staff\n\nICANN Policy Staf
 f in support of the At-Large Community\n\nWebsite: atlarge.icann.org<https
 ://atlarge.icann.org/>\n\nFacebook: facebook.com/icann<https://www.faceboo
 k.com/icannatlarge>atlarge<https://www.facebook.com/icannatlarge>\n\nTwitt
 er: @<https://twitter.com/ICANNAtLarge>ICANNAtLarge<https://twitter.com/IC
 ANNAtLarge>\n\n\n
SUMMARY;LANGUAGE=en-US:Post-ATLAS III Activity Webinar
DTSTART;TZID=UTC:20191219T140000
DTEND;TZID=UTC:20191219T153000
UID:4381D039-244B-4552-8C3D-90038CA49164
CLASS:PUBLIC
PRIORITY:5
DTSTAMP:20191213T143702Z
TRANSP:OPAQUE
STATUS:CONFIRMED
SEQUENCE:0
LOCATION;LANGUAGE=en-US:14:00 UTC - ADIGO EN:1638 ES:1738 FR:1838 - https:/
 /icann.zoom.us/j/968090045  
X-MICROSOFT-CDO-APPT-SEQUENCE:0
X-MICROSOFT-CDO-OWNERAPPTID:2117888835
X-MICROSOFT-CDO-BUSYSTATUS:TENTATIVE
X-MICROSOFT-CDO-INTENDEDSTATUS:BUSY
X-MICROSOFT-CDO-ALLDAYEVENT:FALSE
X-MICROSOFT-CDO-IMPORTANCE:1
X-MICROSOFT-CDO-INSTTYPE:0
X-MICROSOFT-DISALLOW-COUNTER:FALSE
END:VEVENT
END:VCALENDAR
