BEGIN:VCALENDAR
METHOD:REQUEST
PRODID:Microsoft Exchange Server 2010
VERSION:2.0
BEGIN:VTIMEZONE
TZID:UTC
BEGIN:STANDARD
DTSTART:16010101T000000
TZOFFSETFROM:+0000
TZOFFSETTO:+0000
END:STANDARD
BEGIN:DAYLIGHT
DTSTART:16010101T000000
TZOFFSETFROM:+0000
TZOFFSETTO:+0000
END:DAYLIGHT
END:VTIMEZONE
BEGIN:VEVENT
ORGANIZER;CN=ICANN Policy Calendar:MAILTO:PolicyCalendar@icann.org
ATTENDEE;ROLE=REQ-PARTICIPANT;PARTSTAT=NEEDS-ACTION;RSVP=FALSE;CN=Fahd Bata
 yneh:MAILTO:fahd.batayneh@icann.org
ATTENDEE;ROLE=REQ-PARTICIPANT;PARTSTAT=NEEDS-ACTION;RSVP=FALSE;CN=Heidi Ull
 rich:MAILTO:Heidi.Ullrich@icann.org
ATTENDEE;ROLE=REQ-PARTICIPANT;PARTSTAT=NEEDS-ACTION;RSVP=FALSE;CN=Sabrina M
 osquera:MAILTO:sabrina.mosquera@icann.org
ATTENDEE;ROLE=REQ-PARTICIPANT;PARTSTAT=NEEDS-ACTION;RSVP=FALSE;CN=Office:MA
 ILTO:Office@alacarteconnection.com
ATTENDEE;ROLE=REQ-PARTICIPANT;PARTSTAT=NEEDS-ACTION;RSVP=FALSE;CN=Roberto G
 aetano:MAILTO:roberto_gaetano@hotmail.com
ATTENDEE;ROLE=REQ-PARTICIPANT;PARTSTAT=NEEDS-ACTION;RSVP=FALSE;CN=Yesim Naz
 lar:MAILTO:yesim.nazlar@icann.org
ATTENDEE;ROLE=REQ-PARTICIPANT;PARTSTAT=NEEDS-ACTION;RSVP=FALSE;CN=Evin Erdo
 gdu:MAILTO:evin.erdogdu@icann.org
ATTENDEE;ROLE=REQ-PARTICIPANT;PARTSTAT=NEEDS-ACTION;RSVP=FALSE;CN=gordontc@
 gmail.com:MAILTO:gordontc@gmail.com
ATTENDEE;ROLE=REQ-PARTICIPANT;PARTSTAT=NEEDS-ACTION;RSVP=FALSE;CN=Silvia Vi
 vanco:MAILTO:silvia.vivanco@icann.org
ATTENDEE;ROLE=REQ-PARTICIPANT;PARTSTAT=NEEDS-ACTION;RSVP=FALSE;CN=Herb Waye
 :MAILTO:herb.waye@icann.org
ATTENDEE;ROLE=REQ-PARTICIPANT;PARTSTAT=NEEDS-ACTION;RSVP=FALSE;CN=Albert Da
 niels:MAILTO:albert.daniels@icann.org
ATTENDEE;ROLE=REQ-PARTICIPANT;PARTSTAT=NEEDS-ACTION;RSVP=FALSE;CN=Gisella G
 ruber:MAILTO:Gisella.Gruber@icann.org
ATTENDEE;ROLE=REQ-PARTICIPANT;PARTSTAT=NEEDS-ACTION;RSVP=FALSE;CN=cpwg@ican
 n.org:MAILTO:cpwg@icann.org
ATTENDEE;ROLE=REQ-PARTICIPANT;PARTSTAT=NEEDS-ACTION;RSVP=FALSE;CN=Maritza Y
 . Aguero Minano:MAILTO:myaguero@msn.com
ATTENDEE;ROLE=REQ-PARTICIPANT;PARTSTAT=NEEDS-ACTION;RSVP=FALSE;CN=Skok ICAN
 N (skok.inteam.icann@gmail.com):MAILTO:skok.inteam.icann@gmail.com
ATTENDEE;ROLE=REQ-PARTICIPANT;PARTSTAT=NEEDS-ACTION;RSVP=FALSE;CN=Andrew Ma
 ck:MAILTO:AMack@amglobal.com
ATTENDEE;ROLE=REQ-PARTICIPANT;PARTSTAT=NEEDS-ACTION;RSVP=FALSE;CN=Christina
  Rodriguez:MAILTO:christina.rodriguez@icann.org
ATTENDEE;ROLE=REQ-PARTICIPANT;PARTSTAT=NEEDS-ACTION;RSVP=FALSE;CN=korniiets
 .maria.mail@gmail.com:MAILTO:korniiets.maria.mail@gmail.com
ATTENDEE;ROLE=REQ-PARTICIPANT;PARTSTAT=NEEDS-ACTION;RSVP=FALSE;CN=Penelas I
 CANN:MAILTO:penelas.inteam.icann@gmail.com
ATTENDEE;ROLE=REQ-PARTICIPANT;PARTSTAT=NEEDS-ACTION;RSVP=FALSE;CN=vrikson.i
 .acosta.v@gmail.com:MAILTO:vrikson.i.acosta.v@gmail.com
ATTENDEE;ROLE=REQ-PARTICIPANT;PARTSTAT=NEEDS-ACTION;RSVP=FALSE;CN=kerrkerry
 @gmail.com:MAILTO:kerrkerry@gmail.com
ATTENDEE;ROLE=REQ-PARTICIPANT;PARTSTAT=NEEDS-ACTION;RSVP=FALSE;CN=Michele N
 eylon - Blacknight:MAILTO:michele@blacknight.com
ATTENDEE;ROLE=REQ-PARTICIPANT;PARTSTAT=NEEDS-ACTION;RSVP=FALSE;CN=John Lapr
 ise:MAILTO:jlaprise@gmail.com
ATTENDEE;ROLE=REQ-PARTICIPANT;PARTSTAT=NEEDS-ACTION;RSVP=FALSE;CN=Epstein I
 CANN (epstein.inteam.icann@gmail.com):MAILTO:epstein.inteam.icann@gmail.co
 m
ATTENDEE;ROLE=REQ-PARTICIPANT;PARTSTAT=NEEDS-ACTION;RSVP=FALSE;CN=lac-discu
 ss-en:MAILTO:lac-discuss-en@atlarge-lists.icann.org
ATTENDEE;ROLE=REQ-PARTICIPANT;PARTSTAT=NEEDS-ACTION;RSVP=FALSE;CN=TEL ES-Te
 leconf-Interpretation:MAILTO:ES-Teleconf-Interpretation@icann.org
ATTENDEE;ROLE=REQ-PARTICIPANT;PARTSTAT=NEEDS-ACTION;RSVP=FALSE;CN=Joel Thay
 er:MAILTO:JThayer@innovatorsnetwork.org
ATTENDEE;ROLE=REQ-PARTICIPANT;PARTSTAT=NEEDS-ACTION;RSVP=FALSE;CN=Pou ICANN
 :MAILTO:pou.inteam.icann@gmail.com
ATTENDEE;ROLE=REQ-PARTICIPANT;PARTSTAT=NEEDS-ACTION;RSVP=FALSE;CN=Vanda Sca
 rtezini:MAILTO:vanda@scartezini.org
ATTENDEE;ROLE=REQ-PARTICIPANT;PARTSTAT=NEEDS-ACTION;RSVP=FALSE;CN=joserlebr
 on@gmail.com:MAILTO:joserlebron@gmail.com
ATTENDEE;ROLE=REQ-PARTICIPANT;PARTSTAT=NEEDS-ACTION;RSVP=FALSE;CN=Claudia R
 uiz:MAILTO:claudia.ruiz@icann.org
ATTENDEE;ROLE=REQ-PARTICIPANT;PARTSTAT=NEEDS-ACTION;RSVP=FALSE;CN=leon.sanc
 hez@board.icann.org:MAILTO:leon.sanchez@board.icann.org
ATTENDEE;ROLE=REQ-PARTICIPANT;PARTSTAT=NEEDS-ACTION;RSVP=FALSE;CN=Alaniz IC
 ANN:MAILTO:alaniz.inteam.icann@gmail.com
ATTENDEE;ROLE=REQ-PARTICIPANT;PARTSTAT=NEEDS-ACTION;RSVP=FALSE;CN=Alperen E
 ken:MAILTO:alperen.eken@icann.org
ATTENDEE;ROLE=REQ-PARTICIPANT;PARTSTAT=NEEDS-ACTION;RSVP=FALSE;CN=Sebicann 
 Bachollet:MAILTO:sebicann@bachollet.fr
ATTENDEE;ROLE=REQ-PARTICIPANT;PARTSTAT=NEEDS-ACTION;RSVP=FALSE;CN=DANIEL NA
 NGHAKA:MAILTO:dndannang@gmail.com
ATTENDEE;ROLE=REQ-PARTICIPANT;PARTSTAT=NEEDS-ACTION;RSVP=FALSE;CN=Vanda Sca
 rtezini:MAILTO:vanda@etges.com.br
ATTENDEE;ROLE=REQ-PARTICIPANT;PARTSTAT=NEEDS-ACTION;RSVP=FALSE;CN=Jamie:MAI
 LTO:jamie@alacarteconnection.com
ATTENDEE;ROLE=REQ-PARTICIPANT;PARTSTAT=NEEDS-ACTION;RSVP=FALSE;CN=atlasiiip
 articipants@icann.org:MAILTO:atlasiiiparticipants@icann.org
ATTENDEE;ROLE=REQ-PARTICIPANT;PARTSTAT=NEEDS-ACTION;RSVP=FALSE;CN=lac-discu
 ss-es-owner@atlarge-lists.icann.org:MAILTO:lac-discuss-es-owner@atlarge-li
 sts.icann.org
ATTENDEE;ROLE=REQ-PARTICIPANT;PARTSTAT=NEEDS-ACTION;RSVP=FALSE;CN=Michelle 
 DeSmyter:MAILTO:michelle.desmyter@icann.org
DESCRIPTION;LANGUAGE=en-US:**If you require a dial-out or need to state an 
 apology\, please contact At-Large staff at staff@atlarge.icann.org<mailto:
 staff@atlarge.icann.org> with your preferred number.**\n\n\n\n\n\nDear All
 \,\n\n\n\nFurther to the doodle poll below\, the next At-Large Capacity Bu
 ilding Working Group call is scheduled for Monday\, 13 January 2020 at 17:
 00 UTC for 60 minutes.\n\n\n\nFor other times:  https://tinyurl.com/r2u9cq
 4\n\n\n\nThe agenda (to be updated) and call details can be found at: http
 s://community.icann.org/x/sgOJBw\n\n\n\nAt-Large Capacity Building wiki wo
 rkspace: https://community.icann.org/x/1Ic3Ag\n\n\n\nADIGO Conference Brid
 ge:\n\nEnglish Conference ID: 1638\n\nSpanish Conference ID: 1738\n\nFrenc
 h Conference ID:  1838\n\n\nToll-free access number (US and Canada): 800 5
 50 6865\n\n\n\nOther toll-free numbers: http://adigo.com/icann/\n\n\n\nZoo
 m Room:  https://icann.zoom.us/j/489570300  Meeting ID: 489-570-0300\n\n\n
 \n\n\nReal time transcription (RTT) available at (subject to availability)
 : https://www.streamtext.net/player?event=ICANN [streamtext.net] [streamte
 xt.net]<https://urldefense.proofpoint.com/v2/url?u=https-3A__www.streamtex
 t.net_player-3Fevent-3DICANN-2520-255bstreamtext.net-255d&d=DwMFAw&c=FmY1u
 3PJp6wrcrwll3mSVzgfkbPSS6sJms7xcl4I5cM&r=ds9md1zoepmwqw2nfk-Vs9ssxn1I3jPs9
 7ekKkctEkM&m=3swqZGyi6FKCwbtdXsS00KG30nSf_mvmyNeQfXOhtnE&s=Lv8slVV_rkW85WW
 duFmCXZqG6gKKvj2Dqn_0ObROKVs&e=>\n\n\n\n\n\nThank you.\n\nKind Regards\,\n
 \n\n\nICANN Policy Staff in support of the At-Large Community\n\nE-mail: s
 taff@atlarge.icann.org<applewebdata://932FA082-AAF3-456B-A040-A1DAA84DB45D
 /staff@atlarge.icann.org>\n\nWebsite: atlarge.icann.org<applewebdata://932
 FA082-AAF3-456B-A040-A1DAA84DB45D/atlarge.icann.org>\n\nFacebook: facebook
 .com/icannatlarge<applewebdata://932FA082-AAF3-456B-A040-A1DAA84DB45D/face
 book.com/icannatlarge>\n\nTwitter: @ICANNAtLarge<applewebdata://932FA082-A
 AF3-456B-A040-A1DAA84DB45D/@ICANNAtLarge>\n\n\n\n\n\n…………………
 ………………………………………………………………
 ………………………………………………………………
 ………………………………………………………………
 ………………………………………………………………
 …………..\n\n\n\nDear All\,\n\n\n\nPlease complete the Doodle poll to
  schedule the At-Large Capacity Building Working Group Call for the week o
 f 13 January 2020.\n\n\n\nDoodle:  https://doodle.com/poll/unhxpmrm69tzn6g
 3\n\n\n\nI have enabled the time zone so that it can be changed to your zo
 ne.\n\n\n\nThis doodle will close on Wednesday\, 08 January 2020.\n\n\n\n\
 n\nThank you.\n\nKind Regards\,\n\nYeşim Nazlar\n\n\n\n\n\n\n\n\n\n\n\n\n
 \n\n\n\n\n\n\n\n
SUMMARY;LANGUAGE=en-US:At-Large Consolidated Policy Working Group Call 
DTSTART;TZID=UTC:20200113T170000
DTEND;TZID=UTC:20200113T180000
UID:662A201B-2734-4032-8948-3DEB697E3A39
CLASS:PUBLIC
PRIORITY:5
DTSTAMP:20200109T185311Z
TRANSP:OPAQUE
STATUS:CONFIRMED
SEQUENCE:0
LOCATION;LANGUAGE=en-US:17:00 UTC - ADIGO: EN: 1638 ES:1738 FR:1838 -  http
 s://icann.zoom.us/j/489570300
X-MICROSOFT-CDO-APPT-SEQUENCE:0
X-MICROSOFT-CDO-OWNERAPPTID:2118207747
X-MICROSOFT-CDO-BUSYSTATUS:TENTATIVE
X-MICROSOFT-CDO-INTENDEDSTATUS:BUSY
X-MICROSOFT-CDO-ALLDAYEVENT:FALSE
X-MICROSOFT-CDO-IMPORTANCE:1
X-MICROSOFT-CDO-INSTTYPE:0
X-MICROSOFT-DISALLOW-COUNTER:TRUE
BEGIN:VALARM
DESCRIPTION:REMINDER
TRIGGER;RELATED=START:-PT15M
ACTION:DISPLAY
END:VALARM
END:VEVENT
END:VCALENDAR
