BEGIN:VCALENDAR
METHOD:REQUEST
PRODID:Microsoft Exchange Server 2010
VERSION:2.0
BEGIN:VTIMEZONE
TZID:UTC
BEGIN:STANDARD
DTSTART:16010101T000000
TZOFFSETFROM:+0000
TZOFFSETTO:+0000
END:STANDARD
BEGIN:DAYLIGHT
DTSTART:16010101T000000
TZOFFSETFROM:+0000
TZOFFSETTO:+0000
END:DAYLIGHT
END:VTIMEZONE
BEGIN:VEVENT
ORGANIZER;CN=ICANN Policy Calendar:MAILTO:PolicyCalendar@icann.org
ATTENDEE;ROLE=REQ-PARTICIPANT;PARTSTAT=NEEDS-ACTION;RSVP=TRUE;CN=Heidi Ullr
 ich:MAILTO:Heidi.Ullrich@icann.org
ATTENDEE;ROLE=REQ-PARTICIPANT;PARTSTAT=NEEDS-ACTION;RSVP=TRUE;CN=Silvia Viv
 anco:MAILTO:silvia.vivanco@icann.org
ATTENDEE;ROLE=REQ-PARTICIPANT;PARTSTAT=NEEDS-ACTION;RSVP=TRUE;CN=Gisella Gr
 uber:MAILTO:Gisella.Gruber@icann.org
ATTENDEE;ROLE=REQ-PARTICIPANT;PARTSTAT=NEEDS-ACTION;RSVP=TRUE;CN=Evin Erdog
 du:MAILTO:evin.erdogdu@icann.org
ATTENDEE;ROLE=REQ-PARTICIPANT;PARTSTAT=NEEDS-ACTION;RSVP=TRUE;CN=Claudia Ru
 iz:MAILTO:claudia.ruiz@icann.org
ATTENDEE;ROLE=REQ-PARTICIPANT;PARTSTAT=NEEDS-ACTION;RSVP=TRUE;CN=Michelle D
 eSmyter:MAILTO:michelle.desmyter@icann.org
ATTENDEE;ROLE=REQ-PARTICIPANT;PARTSTAT=NEEDS-ACTION;RSVP=TRUE;CN=Alperen Ek
 en:MAILTO:alperen.eken@icann.org
ATTENDEE;ROLE=REQ-PARTICIPANT;PARTSTAT=NEEDS-ACTION;RSVP=TRUE;CN=Yesim Nazl
 ar:MAILTO:yesim.nazlar@icann.org
ATTENDEE;ROLE=REQ-PARTICIPANT;PARTSTAT=NEEDS-ACTION;RSVP=TRUE;CN=cpwg@icann
 .org:MAILTO:cpwg@icann.org
ATTENDEE;ROLE=REQ-PARTICIPANT;PARTSTAT=NEEDS-ACTION;RSVP=TRUE;CN=lac-discus
 s-en:MAILTO:lac-discuss-en@atlarge-lists.icann.org
ATTENDEE;ROLE=REQ-PARTICIPANT;PARTSTAT=NEEDS-ACTION;RSVP=TRUE;CN=atlasiiipa
 rticipants@icann.org:MAILTO:atlasiiiparticipants@icann.org
ATTENDEE;ROLE=REQ-PARTICIPANT;PARTSTAT=NEEDS-ACTION;RSVP=TRUE;CN=Sabrina Mo
 squera:MAILTO:sabrina.mosquera@icann.org
ATTENDEE;ROLE=REQ-PARTICIPANT;PARTSTAT=NEEDS-ACTION;RSVP=TRUE;CN=Maria Vila
 rdo:MAILTO:maria.vilardo@icann.org
ATTENDEE;ROLE=REQ-PARTICIPANT;PARTSTAT=NEEDS-ACTION;RSVP=TRUE;CN=TEL ES-Tel
 econf-Interpretation:MAILTO:ES-Teleconf-Interpretation@icann.org
ATTENDEE;ROLE=REQ-PARTICIPANT;PARTSTAT=NEEDS-ACTION;RSVP=TRUE;CN=TEL FR-Tel
 econf-Interpretation:MAILTO:FR-Teleconf-Interpretation@icann.org
DESCRIPTION;LANGUAGE=en-US: ***If you require a dial out or need to state a
 n apology\, please contact At-Large staff ONLY at staff@atlarge.icann.org<
 mailto:staff@atlarge.icann.org> with your preferred number***\n\n\n\n\n\nD
 ear All\,\n\n\n\nFurther to the Doodle poll\, CPWG SubPro Single Issue Cal
 l on Geographic Names is scheduled for Tuesday\, 25 February 2020 at 18:00
  UTC for 60 mins.\n\n\n\nFor other times:  https://tinyurl.com/que955l\n\n
 \n\nThe agenda (to be updated) and call details can be found at:  https://
 community.icann.org/x/4xyJBw\n\n\n\nZoom Room: https://icann.zoom.us/j/765
 717566 / Meeting ID: 765-717-566\n\n\n\n\n\nADIGO Conference Bridge:\n\nEN
 : 1638\n\nES: 1738\n\nFR: 1838\n\n\n\n\n\nToll-free access number (US and 
 Canada): 800 550 6865\n\n\n\nOther toll-free numbers: https://www.adigo.co
 m/icann [adigo.com]<https://urldefense.proofpoint.com/v2/url?u=https-3A__w
 ww.adigo.com_icann&d=DwMFAw&c=FmY1u3PJp6wrcrwll3mSVzgfkbPSS6sJms7xcl4I5cM&
 r=8_WhWIPqsLT6TmF1Zmyci866vcPSFO4VShFqESGe_5iHWGlBLwwwehFBfjrsjWv9&m=v_dW7
 H6jSlA9nOi38W8-O0NNugHRJaIXFir99n2INTw&s=2UDiAMNbva1Qtvc7Gxe4uYEmKjLJ0Ue93
 B3VR6GVJPw&e=>\n\n\n\nAt-Large Consolidated Policy Working Group (CPWG) Wi
 ki Space: https://community.icann.org/x/jYDpB\n\n\n\nIf you require a dial
 -out please contact At-Large staff at: staff@atlarge.icann.org<mailto:staf
 f@atlarge.icann.org>\n\n\n\n\n\nThank you.\n\nKind regards\,\n\n\n\nAt-Lar
 ge Staff\n\n\n\nICANN Policy Staff in support of the At-Large Community\n\
 nWebsite: atlarge.icann.org<https://atlarge.icann.org/>\n\nFacebook: faceb
 ook.com/icann<https://www.facebook.com/icannatlarge>atlarge<https://www.fa
 cebook.com/icannatlarge>\n\nTwitter: @<https://twitter.com/ICANNAtLarge>IC
 ANNAtLarge<https://twitter.com/ICANNAtLarge>\n\n\n
SUMMARY;LANGUAGE=en-US:CPWG SubPro Single Issue Call on Geographic Names 
DTSTART;TZID=UTC:20200225T180000
DTEND;TZID=UTC:20200225T190000
UID:1F47D650-6EA7-4B9E-9B91-CFBFA6555A85
CLASS:PUBLIC
PRIORITY:5
DTSTAMP:20200224T154120Z
TRANSP:OPAQUE
STATUS:CONFIRMED
SEQUENCE:0
LOCATION;LANGUAGE=en-US:18:00 UTC - ADIGO EN:1638 ES:1738 FR:1838 - https:/
 /icann.zoom.us/j/765717566 
X-MICROSOFT-CDO-APPT-SEQUENCE:0
X-MICROSOFT-CDO-OWNERAPPTID:2118304980
X-MICROSOFT-CDO-BUSYSTATUS:TENTATIVE
X-MICROSOFT-CDO-INTENDEDSTATUS:BUSY
X-MICROSOFT-CDO-ALLDAYEVENT:FALSE
X-MICROSOFT-CDO-IMPORTANCE:1
X-MICROSOFT-CDO-INSTTYPE:0
X-MICROSOFT-DISALLOW-COUNTER:FALSE
END:VEVENT
END:VCALENDAR
