BEGIN:VCALENDAR
METHOD:REQUEST
PRODID:Microsoft Exchange Server 2010
VERSION:2.0
BEGIN:VTIMEZONE
TZID:UTC
BEGIN:STANDARD
DTSTART:16010101T000000
TZOFFSETFROM:+0000
TZOFFSETTO:+0000
END:STANDARD
BEGIN:DAYLIGHT
DTSTART:16010101T000000
TZOFFSETFROM:+0000
TZOFFSETTO:+0000
END:DAYLIGHT
END:VTIMEZONE
BEGIN:VEVENT
ORGANIZER;CN=ICANN Policy Calendar:MAILTO:PolicyCalendar@icann.org
ATTENDEE;ROLE=REQ-PARTICIPANT;PARTSTAT=NEEDS-ACTION;RSVP=TRUE;CN=ICANN Poli
 cy Calendar:MAILTO:PolicyCalendar@icann.org
ATTENDEE;ROLE=REQ-PARTICIPANT;PARTSTAT=NEEDS-ACTION;RSVP=TRUE;CN=Fahd Batay
 neh:MAILTO:fahd.batayneh@icann.org
ATTENDEE;ROLE=REQ-PARTICIPANT;PARTSTAT=NEEDS-ACTION;RSVP=TRUE;CN=Heidi Ullr
 ich:MAILTO:Heidi.Ullrich@icann.org
ATTENDEE;ROLE=REQ-PARTICIPANT;PARTSTAT=NEEDS-ACTION;RSVP=TRUE;CN=Office:MAI
 LTO:Office@alacarteconnection.com
ATTENDEE;ROLE=REQ-PARTICIPANT;PARTSTAT=NEEDS-ACTION;RSVP=TRUE;CN=Roberto Ga
 etano:MAILTO:roberto_gaetano@hotmail.com
ATTENDEE;ROLE=REQ-PARTICIPANT;PARTSTAT=NEEDS-ACTION;RSVP=TRUE;CN=Yesim Nazl
 ar:MAILTO:yesim.nazlar@icann.org
ATTENDEE;ROLE=REQ-PARTICIPANT;PARTSTAT=NEEDS-ACTION;RSVP=TRUE;CN=Evin Erdog
 du:MAILTO:evin.erdogdu@icann.org
ATTENDEE;ROLE=REQ-PARTICIPANT;PARTSTAT=NEEDS-ACTION;RSVP=TRUE;CN=gordontc@g
 mail.com:MAILTO:gordontc@gmail.com
ATTENDEE;ROLE=REQ-PARTICIPANT;PARTSTAT=NEEDS-ACTION;RSVP=TRUE;CN=Silvia Viv
 anco:MAILTO:silvia.vivanco@icann.org
ATTENDEE;ROLE=REQ-PARTICIPANT;PARTSTAT=NEEDS-ACTION;RSVP=TRUE;CN=Herb Waye:
 MAILTO:herb.waye@icann.org
ATTENDEE;ROLE=REQ-PARTICIPANT;PARTSTAT=NEEDS-ACTION;RSVP=TRUE;CN=Albert Dan
 iels:MAILTO:albert.daniels@icann.org
ATTENDEE;ROLE=REQ-PARTICIPANT;PARTSTAT=NEEDS-ACTION;RSVP=TRUE;CN=Gisella Gr
 uber:MAILTO:Gisella.Gruber@icann.org
ATTENDEE;ROLE=REQ-PARTICIPANT;PARTSTAT=NEEDS-ACTION;RSVP=TRUE;CN=cpwg@icann
 .org:MAILTO:cpwg@icann.org
ATTENDEE;ROLE=REQ-PARTICIPANT;PARTSTAT=NEEDS-ACTION;RSVP=TRUE;CN=Andrew Mac
 k:MAILTO:AMack@amglobal.com
ATTENDEE;ROLE=REQ-PARTICIPANT;PARTSTAT=NEEDS-ACTION;RSVP=TRUE;CN=Christina 
 Rodriguez:MAILTO:christina.rodriguez@icann.org
ATTENDEE;ROLE=REQ-PARTICIPANT;PARTSTAT=NEEDS-ACTION;RSVP=TRUE;CN=korniiets.
 maria.mail@gmail.com:MAILTO:korniiets.maria.mail@gmail.com
ATTENDEE;ROLE=REQ-PARTICIPANT;PARTSTAT=NEEDS-ACTION;RSVP=TRUE;CN=vrikson.i.
 acosta.v@gmail.com:MAILTO:vrikson.i.acosta.v@gmail.com
ATTENDEE;ROLE=REQ-PARTICIPANT;PARTSTAT=NEEDS-ACTION;RSVP=TRUE;CN=kerrkerry@
 gmail.com:MAILTO:kerrkerry@gmail.com
ATTENDEE;ROLE=REQ-PARTICIPANT;PARTSTAT=NEEDS-ACTION;RSVP=TRUE;CN=Michele Ne
 ylon - Blacknight:MAILTO:michele@blacknight.com
ATTENDEE;ROLE=REQ-PARTICIPANT;PARTSTAT=NEEDS-ACTION;RSVP=TRUE;CN=John Lapri
 se:MAILTO:jlaprise@gmail.com
ATTENDEE;ROLE=REQ-PARTICIPANT;PARTSTAT=NEEDS-ACTION;RSVP=TRUE;CN=Epstein IC
 ANN (epstein.inteam.icann@gmail.com):MAILTO:epstein.inteam.icann@gmail.com
ATTENDEE;ROLE=REQ-PARTICIPANT;PARTSTAT=NEEDS-ACTION;RSVP=TRUE;CN=lac-discus
 s-en:MAILTO:lac-discuss-en@atlarge-lists.icann.org
ATTENDEE;ROLE=REQ-PARTICIPANT;PARTSTAT=NEEDS-ACTION;RSVP=TRUE;CN=TEL ES-Tel
 econf-Interpretation:MAILTO:ES-Teleconf-Interpretation@icann.org
ATTENDEE;ROLE=REQ-PARTICIPANT;PARTSTAT=NEEDS-ACTION;RSVP=TRUE;CN=Joel Thaye
 r:MAILTO:JThayer@innovatorsnetwork.org
ATTENDEE;ROLE=REQ-PARTICIPANT;PARTSTAT=NEEDS-ACTION;RSVP=TRUE;CN=Vanda Scar
 tezini:MAILTO:vanda@scartezini.org
ATTENDEE;ROLE=REQ-PARTICIPANT;PARTSTAT=NEEDS-ACTION;RSVP=TRUE;CN=José R. L
 ebrón:MAILTO:joserlebron@gmail.com
ATTENDEE;ROLE=REQ-PARTICIPANT;PARTSTAT=NEEDS-ACTION;RSVP=TRUE;CN=Claudia Ru
 iz:MAILTO:claudia.ruiz@icann.org
ATTENDEE;ROLE=REQ-PARTICIPANT;PARTSTAT=NEEDS-ACTION;RSVP=TRUE;CN=leon.sanch
 ez@board.icann.org:MAILTO:leon.sanchez@board.icann.org
ATTENDEE;ROLE=REQ-PARTICIPANT;PARTSTAT=NEEDS-ACTION;RSVP=TRUE;CN=Alperen Ek
 en:MAILTO:alperen.eken@icann.org
ATTENDEE;ROLE=REQ-PARTICIPANT;PARTSTAT=NEEDS-ACTION;RSVP=TRUE;CN=Sebicann B
 achollet:MAILTO:sebicann@bachollet.fr
ATTENDEE;ROLE=REQ-PARTICIPANT;PARTSTAT=NEEDS-ACTION;RSVP=TRUE;CN=DANIEL NAN
 GHAKA:MAILTO:dndannang@gmail.com
ATTENDEE;ROLE=REQ-PARTICIPANT;PARTSTAT=NEEDS-ACTION;RSVP=TRUE;CN=Vanda Scar
 tezini:MAILTO:vanda@etges.com.br
ATTENDEE;ROLE=REQ-PARTICIPANT;PARTSTAT=NEEDS-ACTION;RSVP=TRUE;CN=Jamie:MAIL
 TO:jamie@alacarteconnection.com
ATTENDEE;ROLE=REQ-PARTICIPANT;PARTSTAT=NEEDS-ACTION;RSVP=TRUE;CN=atlasiiipa
 rticipants@icann.org:MAILTO:atlasiiiparticipants@icann.org
ATTENDEE;ROLE=REQ-PARTICIPANT;PARTSTAT=NEEDS-ACTION;RSVP=TRUE;CN=lac-discus
 s-es-owner@atlarge-lists.icann.org:MAILTO:lac-discuss-es-owner@atlarge-lis
 ts.icann.org
ATTENDEE;ROLE=REQ-PARTICIPANT;PARTSTAT=NEEDS-ACTION;RSVP=TRUE;CN=carlosraul
 @gutierrez.se:MAILTO:carlosraul@gutierrez.se
DESCRIPTION;LANGUAGE=en-US:***If you require a dial out or need to state an
  apology\, please contact At-Large staff at staff@atlarge.icann.org<mailto
 :staff@atlarge.icann.org> with your preferred number***\n\n\n\n\n\nDear Al
 l\,\n\n\n\nThe next At-Large Consolidated Policy Working Group (CPWG) Call
  is scheduled for Wednesday\, 04 March 2020 at 13:00 UTC for 90 mins.\n\n\
 n\nFor other times: https://tinyurl.com/udn536u\n\n\n\nThe agenda (to be u
 pdated) and call details can be found at: https://community.icann.org/x/wB
 _JBw\n\n\n\n\n\n\n\nZoom Room: https://icann.zoom.us/j/765717566 / Meeting
  ID: 765-717-566 – Please note\, the zoom room link and Meeting ID will 
 remain the same for each weekly meeting.\n\n\n\n\n\nReal time transcriptio
 n (RTT) available at (subject to availability): https://www.streamtext.net
 /player?event=ICANN [streamtext.net] [streamtext.net]<https://urldefense.p
 roofpoint.com/v2/url?u=https-3A__www.streamtext.net_player-3Fevent-3DICANN
 -2520-255bstreamtext.net-255d&d=DwMFAw&c=FmY1u3PJp6wrcrwll3mSVzgfkbPSS6sJm
 s7xcl4I5cM&r=ds9md1zoepmwqw2nfk-Vs9ssxn1I3jPs97ekKkctEkM&m=3swqZGyi6FKCwbt
 dXsS00KG30nSf_mvmyNeQfXOhtnE&s=Lv8slVV_rkW85WWduFmCXZqG6gKKvj2Dqn_0ObROKVs
 &e=>\n\n\n\nADIGO Conference Bridge:\n\nEN: 1638\n\n\n\n****PLEASE NOTE: T
 HERE WILL NOT BE INTERPRETATION SERVICES FOR THIS MEETING****\n\n\n\nToll-
 free access number (US and Canada): 800 550 6865\n\n\n\nOther toll-free nu
 mbers: https://www.adigo.com/icann [adigo.com]<https://urldefense.proofpoi
 nt.com/v2/url?u=https-3A__www.adigo.com_icann&d=DwMFAw&c=FmY1u3PJp6wrcrwll
 3mSVzgfkbPSS6sJms7xcl4I5cM&r=8_WhWIPqsLT6TmF1Zmyci866vcPSFO4VShFqESGe_5iHW
 GlBLwwwehFBfjrsjWv9&m=v_dW7H6jSlA9nOi38W8-O0NNugHRJaIXFir99n2INTw&s=2UDiAM
 Nbva1Qtvc7Gxe4uYEmKjLJ0Ue93B3VR6GVJPw&e=>\n\n\n\nAt-Large Consolidated Pol
 icy Working Group (CPWG) Wiki Space: https://community.icann.org/x/jYDpB\n
 \n\n\nIf you require a dial-out please contact At-Large staff at: staff@at
 large.icann.org<mailto:staff@atlarge.icann.org>\n\n\n\n\n\nThank you.\n\nK
 ind regards\,\n\n\n\nAt-Large Staff\n\n\n\nICANN Policy Staff in support o
 f the At-Large Community\n\nWebsite: atlarge.icann.org [atlarge.icann.org]
 <https://urldefense.proofpoint.com/v2/url?u=https-3A__atlarge.icann.org_&d
 =DwMFAw&c=FmY1u3PJp6wrcrwll3mSVzgfkbPSS6sJms7xcl4I5cM&r=8_WhWIPqsLT6TmF1Zm
 yci866vcPSFO4VShFqESGe_5iHWGlBLwwwehFBfjrsjWv9&m=v_dW7H6jSlA9nOi38W8-O0NNu
 gHRJaIXFir99n2INTw&s=v19gDlbD6ophiMt9ufJIv1R-D0W1elKhT4Lr3BZO0wg&e=>\n\nFa
 cebook: facebook.com/icann [facebook.com]<https://urldefense.proofpoint.co
 m/v2/url?u=https-3A__www.facebook.com_icannatlarge&d=DwMFAw&c=FmY1u3PJp6wr
 crwll3mSVzgfkbPSS6sJms7xcl4I5cM&r=8_WhWIPqsLT6TmF1Zmyci866vcPSFO4VShFqESGe
 _5iHWGlBLwwwehFBfjrsjWv9&m=v_dW7H6jSlA9nOi38W8-O0NNugHRJaIXFir99n2INTw&s=Z
 jUmWomW9ZWPwChdZ8ohPcIctTziWmMWuHf4498fao8&e=>atlarge [facebook.com]<https
 ://urldefense.proofpoint.com/v2/url?u=https-3A__www.facebook.com_icannatla
 rge&d=DwMFAw&c=FmY1u3PJp6wrcrwll3mSVzgfkbPSS6sJms7xcl4I5cM&r=8_WhWIPqsLT6T
 mF1Zmyci866vcPSFO4VShFqESGe_5iHWGlBLwwwehFBfjrsjWv9&m=v_dW7H6jSlA9nOi38W8-
 O0NNugHRJaIXFir99n2INTw&s=ZjUmWomW9ZWPwChdZ8ohPcIctTziWmMWuHf4498fao8&e=>\
 n\nTwitter: @ [twitter.com]<https://urldefense.proofpoint.com/v2/url?u=htt
 ps-3A__twitter.com_ICANNAtLarge&d=DwMFAw&c=FmY1u3PJp6wrcrwll3mSVzgfkbPSS6s
 Jms7xcl4I5cM&r=8_WhWIPqsLT6TmF1Zmyci866vcPSFO4VShFqESGe_5iHWGlBLwwwehFBfjr
 sjWv9&m=v_dW7H6jSlA9nOi38W8-O0NNugHRJaIXFir99n2INTw&s=37f38QxH9lAkOhWD6g92
 CVLt6u5Ald3upGmzB2GFSC4&e=>ICANNAtLarge [twitter.com]<https://urldefense.p
 roofpoint.com/v2/url?u=https-3A__twitter.com_ICANNAtLarge&d=DwMFAw&c=FmY1u
 3PJp6wrcrwll3mSVzgfkbPSS6sJms7xcl4I5cM&r=8_WhWIPqsLT6TmF1Zmyci866vcPSFO4VS
 hFqESGe_5iHWGlBLwwwehFBfjrsjWv9&m=v_dW7H6jSlA9nOi38W8-O0NNugHRJaIXFir99n2I
 NTw&s=37f38QxH9lAkOhWD6g92CVLt6u5Ald3upGmzB2GFSC4&e=>\n\n\n\n\n\n\n\n\n\n\
 n\n\n\n\n\n\n\n\n\n\n\n\n\n\n\n\n\n\n\n\n\n\n\n\n\n\n\n\n\n\n\n\n\n\n\n\n\
 n\n\n\n\n\n\n\n\n\n
SUMMARY;LANGUAGE=en-US:At-Large Consolidated Policy Working Group (CPWG)
DTSTART;TZID=UTC:20200304T130000
DTEND;TZID=UTC:20200304T143000
UID:096F35CE-35C3-481D-B1DD-643AF1E1724D
CLASS:PUBLIC
PRIORITY:5
DTSTAMP:20200227T201003Z
TRANSP:OPAQUE
STATUS:CONFIRMED
SEQUENCE:0
LOCATION;LANGUAGE=en-US:13:00 UTC - ADIGO EN:1638 - https://icann.zoom.us/j
 /765717566 
X-MICROSOFT-CDO-APPT-SEQUENCE:0
X-MICROSOFT-CDO-OWNERAPPTID:2118310276
X-MICROSOFT-CDO-BUSYSTATUS:TENTATIVE
X-MICROSOFT-CDO-INTENDEDSTATUS:BUSY
X-MICROSOFT-CDO-ALLDAYEVENT:FALSE
X-MICROSOFT-CDO-IMPORTANCE:1
X-MICROSOFT-CDO-INSTTYPE:0
X-MICROSOFT-DISALLOW-COUNTER:FALSE
BEGIN:VALARM
DESCRIPTION:REMINDER
TRIGGER;RELATED=START:-PT15M
ACTION:DISPLAY
END:VALARM
END:VEVENT
END:VCALENDAR
