BEGIN:VCALENDAR
METHOD:REQUEST
PRODID:Microsoft Exchange Server 2010
VERSION:2.0
BEGIN:VTIMEZONE
TZID:UTC
BEGIN:STANDARD
DTSTART:16010101T000000
TZOFFSETFROM:+0000
TZOFFSETTO:+0000
END:STANDARD
BEGIN:DAYLIGHT
DTSTART:16010101T000000
TZOFFSETFROM:+0000
TZOFFSETTO:+0000
END:DAYLIGHT
END:VTIMEZONE
BEGIN:VEVENT
ORGANIZER;CN=ICANN Policy Calendar:MAILTO:PolicyCalendar@icann.org
ATTENDEE;ROLE=REQ-PARTICIPANT;PARTSTAT=NEEDS-ACTION;RSVP=TRUE;CN=Heidi Ullr
 ich:MAILTO:Heidi.Ullrich@icann.org
ATTENDEE;ROLE=REQ-PARTICIPANT;PARTSTAT=NEEDS-ACTION;RSVP=TRUE;CN=Silvia Viv
 anco:MAILTO:silvia.vivanco@icann.org
ATTENDEE;ROLE=REQ-PARTICIPANT;PARTSTAT=NEEDS-ACTION;RSVP=TRUE;CN=Gisella Gr
 uber:MAILTO:Gisella.Gruber@icann.org
ATTENDEE;ROLE=REQ-PARTICIPANT;PARTSTAT=NEEDS-ACTION;RSVP=TRUE;CN=Evin Erdog
 du:MAILTO:evin.erdogdu@icann.org
ATTENDEE;ROLE=REQ-PARTICIPANT;PARTSTAT=NEEDS-ACTION;RSVP=TRUE;CN=Yesim Nazl
 ar:MAILTO:yesim.nazlar@icann.org
ATTENDEE;ROLE=REQ-PARTICIPANT;PARTSTAT=NEEDS-ACTION;RSVP=TRUE;CN=Michelle D
 eSmyter:MAILTO:michelle.desmyter@icann.org
ATTENDEE;ROLE=REQ-PARTICIPANT;PARTSTAT=NEEDS-ACTION;RSVP=TRUE;CN=Alperen Ek
 en:MAILTO:alperen.eken@icann.org
ATTENDEE;ROLE=REQ-PARTICIPANT;PARTSTAT=NEEDS-ACTION;RSVP=TRUE;CN=Claudia Ru
 iz:MAILTO:claudia.ruiz@icann.org
ATTENDEE;ROLE=REQ-PARTICIPANT;PARTSTAT=NEEDS-ACTION;RSVP=TRUE;CN=atlasiiipa
 rticipants@icann.org:MAILTO:atlasiiiparticipants@icann.org
DESCRIPTION;LANGUAGE=en-US:****Please note\, if you are sending an apology 
 or dial-out request\, please ONLY send to staff@atlarge.icann.org<mailto:s
 taff@atlarge.icann.org> (do NOT reply to all) ****\n\n\n\n\n\nDear All\,\n
 \n\n\n\nFurther to the doodle poll\, The next ATLAS III Reporting Working 
 Group Call is scheduled for Thursday\, 26 March 2020 at 17:00 UTC\n\n\nFor
  other times: https://tinyurl.com/sx5u2tw\n\n\n\nThe agenda (to be updated
 ) and call details are available at: https://community.icann.org/x/zSuJBw\
 n\n\n\nConference ID:\nEN 1638\n\n\n\nZoom Link: https://icann.zoom.us/j/7
 67506310 /  Meeting ID: 767-506-310\n\n\n\n\n\nIf you require a dial-out p
 lease contact At-Large staff at: staff@atlarge.icann.org<applewebdata://B2
 F21256-5049-42B9-AE26-A8EBC6E6C509/staff@atlarge.icann.org>\n\n\n\n\n\n\n\
 nThank you.\n\nKind regards\,\n\n\n\nAt-Large Staff\n\n\n\nICANN Policy St
 aff in support of the At-Large Community\n\nWebsite: atlarge.icann.org<htt
 ps://atlarge.icann.org/>\n\nFacebook: facebook.com/icann<https://www.faceb
 ook.com/icannatlarge>atlarge<https://www.facebook.com/icannatlarge>\n\nTwi
 tter: @<https://twitter.com/ICANNAtLarge>ICANNAtLarge<https://twitter.com/
 ICANNAtLarge>\n\n\n
SUMMARY;LANGUAGE=en-US:ATLAS III Reporting Working Group Call
DTSTART;TZID=UTC:20200326T170000
DTEND;TZID=UTC:20200326T180000
UID:3DF1C9C7-931E-4FA5-B2BA-A66D4BC359AD
CLASS:PUBLIC
PRIORITY:5
DTSTAMP:20200323T224400Z
TRANSP:OPAQUE
STATUS:CONFIRMED
SEQUENCE:0
LOCATION;LANGUAGE=en-US:17:00 UTC Zoom: https://icann.zoom.us/j/767506310 
X-MICROSOFT-CDO-APPT-SEQUENCE:0
X-MICROSOFT-CDO-OWNERAPPTID:2118368177
X-MICROSOFT-CDO-BUSYSTATUS:TENTATIVE
X-MICROSOFT-CDO-INTENDEDSTATUS:BUSY
X-MICROSOFT-CDO-ALLDAYEVENT:FALSE
X-MICROSOFT-CDO-IMPORTANCE:1
X-MICROSOFT-CDO-INSTTYPE:0
X-MICROSOFT-DISALLOW-COUNTER:FALSE
BEGIN:VALARM
DESCRIPTION:REMINDER
TRIGGER;RELATED=START:-PT15M
ACTION:DISPLAY
END:VALARM
END:VEVENT
END:VCALENDAR
