BEGIN:VCALENDAR
METHOD:CANCEL
PRODID:Microsoft Exchange Server 2010
VERSION:2.0
BEGIN:VTIMEZONE
TZID:UTC
BEGIN:STANDARD
DTSTART:16010101T000000
TZOFFSETFROM:+0000
TZOFFSETTO:+0000
END:STANDARD
BEGIN:DAYLIGHT
DTSTART:16010101T000000
TZOFFSETFROM:+0000
TZOFFSETTO:+0000
END:DAYLIGHT
END:VTIMEZONE
BEGIN:VEVENT
ORGANIZER;CN=ICANN Policy Calendar:MAILTO:PolicyCalendar@icann.org
ATTENDEE;ROLE=REQ-PARTICIPANT;PARTSTAT=NEEDS-ACTION;RSVP=TRUE;CN=Heidi Ullr
 ich:MAILTO:Heidi.Ullrich@icann.org
ATTENDEE;ROLE=REQ-PARTICIPANT;PARTSTAT=NEEDS-ACTION;RSVP=TRUE;CN=Silvia Viv
 anco:MAILTO:silvia.vivanco@icann.org
ATTENDEE;ROLE=REQ-PARTICIPANT;PARTSTAT=NEEDS-ACTION;RSVP=TRUE;CN=Gisella Gr
 uber:MAILTO:Gisella.Gruber@icann.org
ATTENDEE;ROLE=REQ-PARTICIPANT;PARTSTAT=NEEDS-ACTION;RSVP=TRUE;CN=Evin Erdog
 du:MAILTO:evin.erdogdu@icann.org
ATTENDEE;ROLE=REQ-PARTICIPANT;PARTSTAT=NEEDS-ACTION;RSVP=TRUE;CN=Yesim Nazl
 ar:MAILTO:yesim.nazlar@icann.org
ATTENDEE;ROLE=REQ-PARTICIPANT;PARTSTAT=NEEDS-ACTION;RSVP=TRUE;CN=Michelle D
 eSmyter:MAILTO:michelle.desmyter@icann.org
ATTENDEE;ROLE=REQ-PARTICIPANT;PARTSTAT=NEEDS-ACTION;RSVP=TRUE;CN=Alperen Ek
 en:MAILTO:alperen.eken@icann.org
ATTENDEE;ROLE=REQ-PARTICIPANT;PARTSTAT=NEEDS-ACTION;RSVP=TRUE;CN=Claudia Ru
 iz:MAILTO:claudia.ruiz@icann.org
ATTENDEE;ROLE=REQ-PARTICIPANT;PARTSTAT=NEEDS-ACTION;RSVP=TRUE;CN=atlasiiipa
 rticipants@icann.org:MAILTO:atlasiiiparticipants@icann.org
ATTENDEE;ROLE=OPT-PARTICIPANT;PARTSTAT=NEEDS-ACTION;RSVP=TRUE;CN=Vanda Scar
 tezini:MAILTO:vanda@scartezini.org
ATTENDEE;ROLE=OPT-PARTICIPANT;PARTSTAT=NEEDS-ACTION;RSVP=TRUE;CN=6.internet
 @gmail.com:MAILTO:6.internet@gmail.com
ATTENDEE;ROLE=OPT-PARTICIPANT;PARTSTAT=NEEDS-ACTION;RSVP=TRUE;CN=mamattah.r
 aymond@gmail.com:MAILTO:mamattah.raymond@gmail.com
ATTENDEE;ROLE=OPT-PARTICIPANT;PARTSTAT=NEEDS-ACTION;RSVP=TRUE;CN=dndannang@
 gmail.com:MAILTO:dndannang@gmail.com
ATTENDEE;ROLE=OPT-PARTICIPANT;PARTSTAT=NEEDS-ACTION;RSVP=TRUE;CN=Roberto Ga
 etano:MAILTO:roberto_gaetano@hotmail.com
ATTENDEE;ROLE=OPT-PARTICIPANT;PARTSTAT=NEEDS-ACTION;RSVP=TRUE;CN=pierre.jea
 n.darres@gmail.com:MAILTO:pierre.jean.darres@gmail.com
ATTENDEE;ROLE=OPT-PARTICIPANT;PARTSTAT=NEEDS-ACTION;RSVP=TRUE;CN=josefranci
 scoarce@gmail.com:MAILTO:josefranciscoarce@gmail.com
ATTENDEE;ROLE=OPT-PARTICIPANT;PARTSTAT=NEEDS-ACTION;RSVP=TRUE;CN=ms.narine.
 khachatryan@gmail.com:MAILTO:ms.narine.khachatryan@gmail.com
ATTENDEE;ROLE=OPT-PARTICIPANT;PARTSTAT=NEEDS-ACTION;RSVP=TRUE;CN=Bram Fudzu
 lani:MAILTO:beatblam@hotmail.com
ATTENDEE;ROLE=OPT-PARTICIPANT;PARTSTAT=NEEDS-ACTION;RSVP=TRUE;CN=hfaiedh.in
 es2@gmail.com:MAILTO:hfaiedh.ines2@gmail.com
ATTENDEE;ROLE=OPT-PARTICIPANT;PARTSTAT=NEEDS-ACTION;RSVP=TRUE;CN=desaradush
 i@gmail.com:MAILTO:desaradushi@gmail.com
ATTENDEE;ROLE=OPT-PARTICIPANT;PARTSTAT=NEEDS-ACTION;RSVP=TRUE;CN=hakkrist@g
 mail.com:MAILTO:hakkrist@gmail.com
ATTENDEE;ROLE=OPT-PARTICIPANT;PARTSTAT=NEEDS-ACTION;RSVP=TRUE;CN=galaras@gm
 ail.com:MAILTO:galaras@gmail.com
ATTENDEE;ROLE=OPT-PARTICIPANT;PARTSTAT=NEEDS-ACTION;RSVP=TRUE;CN=soekpe@gma
 il.com:MAILTO:soekpe@gmail.com
ATTENDEE;ROLE=OPT-PARTICIPANT;PARTSTAT=NEEDS-ACTION;RSVP=TRUE;CN=devtee@gma
 il.com:MAILTO:devtee@gmail.com
DESCRIPTION;LANGUAGE=en-US:****Please note\, if you are sending an apology 
 or dial-out request\, please ONLY send to staff@atlarge.icann.org<mailto:s
 taff@atlarge.icann.org> (do NOT reply to all) ****\n\n\nDear All\,\n\nFurt
 her to the doodle poll\, The next ATLAS III Reporting Working Group Call i
 s scheduled for Thursday\, 26 March 2020 at 17:00 UTC\n\nFor other times: 
 https://tinyurl.com/sx5u2tw\n\nThe agenda (to be updated) and call details
  are available at: https://community.icann.org/x/zSuJBw\n\nConference ID:\
 nEN 1638\n\nZoom Link: https://icann.zoom.us/j/767506310 / Meeting ID: 767
 -506-310\n\n\nIf you require a dial-out please contact At-Large staff at: 
 staff@atlarge.icann.org<applewebdata://B2F21256-5049-42B9-AE26-A8EBC6E6C50
 9/staff@atlarge.icann.org>\n\n\n\nThank you.\nKind regards\,\n\nAt-Large S
 taff\n\nICANN Policy Staff in support of the At-Large Community\nWebsite: 
 atlarge.icann.org<https://atlarge.icann.org/>\nFacebook: facebook.com/ican
 n<https://www.facebook.com/icannatlarge>atlarge<https://www.facebook.com/i
 cannatlarge>\nTwitter: @<https://twitter.com/ICANNAtLarge>ICANNAtLarge<htt
 ps://twitter.com/ICANNAtLarge>\n\n
SUMMARY;LANGUAGE=en-US:Canceled: ATLAS III Reporting Working Group Call
DTSTART;TZID=UTC:20200326T170000
DTEND;TZID=UTC:20200326T180000
UID:3DF1C9C7-931E-4FA5-B2BA-A66D4BC359AD
CLASS:PUBLIC
PRIORITY:5
DTSTAMP:20200325T110347Z
TRANSP:OPAQUE
STATUS:CANCELLED
SEQUENCE:1
LOCATION;LANGUAGE=en-US:17:00 UTC Zoom: https://icann.zoom.us/j/767506310 
X-MICROSOFT-CDO-APPT-SEQUENCE:1
X-MICROSOFT-CDO-OWNERAPPTID:2118368177
X-MICROSOFT-CDO-BUSYSTATUS:FREE
X-MICROSOFT-CDO-INTENDEDSTATUS:FREE
X-MICROSOFT-CDO-ALLDAYEVENT:FALSE
X-MICROSOFT-CDO-IMPORTANCE:1
X-MICROSOFT-CDO-INSTTYPE:0
X-MICROSOFT-DISALLOW-COUNTER:FALSE
END:VEVENT
END:VCALENDAR
