BEGIN:VCALENDAR
METHOD:REQUEST
PRODID:Microsoft Exchange Server 2010
VERSION:2.0
BEGIN:VTIMEZONE
TZID:UTC
BEGIN:STANDARD
DTSTART:16010101T000000
TZOFFSETFROM:+0000
TZOFFSETTO:+0000
END:STANDARD
BEGIN:DAYLIGHT
DTSTART:16010101T000000
TZOFFSETFROM:+0000
TZOFFSETTO:+0000
END:DAYLIGHT
END:VTIMEZONE
BEGIN:VEVENT
ORGANIZER;CN=ICANN Policy Calendar:MAILTO:PolicyCalendar@icann.org
ATTENDEE;ROLE=REQ-PARTICIPANT;PARTSTAT=NEEDS-ACTION;RSVP=FALSE;CN=ICANN Pol
 icy Calendar:MAILTO:PolicyCalendar@icann.org
ATTENDEE;ROLE=REQ-PARTICIPANT;PARTSTAT=NEEDS-ACTION;RSVP=FALSE;CN=Heidi Ull
 rich:MAILTO:Heidi.Ullrich@icann.org
ATTENDEE;ROLE=REQ-PARTICIPANT;PARTSTAT=NEEDS-ACTION;RSVP=FALSE;CN=Silvia Vi
 vanco:MAILTO:silvia.vivanco@icann.org
ATTENDEE;ROLE=REQ-PARTICIPANT;PARTSTAT=NEEDS-ACTION;RSVP=FALSE;CN=atlasiiip
 articipants@icann.org:MAILTO:atlasiiiparticipants@icann.org
ATTENDEE;ROLE=REQ-PARTICIPANT;PARTSTAT=NEEDS-ACTION;RSVP=FALSE;CN=Gisella G
 ruber:MAILTO:Gisella.Gruber@icann.org
ATTENDEE;ROLE=REQ-PARTICIPANT;PARTSTAT=NEEDS-ACTION;RSVP=FALSE;CN=Evin Erdo
 gdu:MAILTO:evin.erdogdu@icann.org
ATTENDEE;ROLE=REQ-PARTICIPANT;PARTSTAT=NEEDS-ACTION;RSVP=FALSE;CN=Claudia R
 uiz:MAILTO:claudia.ruiz@icann.org
ATTENDEE;ROLE=REQ-PARTICIPANT;PARTSTAT=NEEDS-ACTION;RSVP=FALSE;CN=Alperen E
 ken:MAILTO:alperen.eken@icann.org
ATTENDEE;ROLE=REQ-PARTICIPANT;PARTSTAT=NEEDS-ACTION;RSVP=FALSE;CN=Yesim Naz
 lar:MAILTO:yesim.nazlar@icann.org
ATTENDEE;ROLE=REQ-PARTICIPANT;PARTSTAT=NEEDS-ACTION;RSVP=FALSE;CN=cpwg@ican
 n.org:MAILTO:cpwg@icann.org
ATTENDEE;ROLE=REQ-PARTICIPANT;PARTSTAT=NEEDS-ACTION;RSVP=FALSE;CN=lac-discu
 ss-en:MAILTO:lac-discuss-en@atlarge-lists.icann.org
ATTENDEE;ROLE=REQ-PARTICIPANT;PARTSTAT=NEEDS-ACTION;RSVP=FALSE;CN=TEL ES-Te
 leconf-Interpretation:MAILTO:ES-Teleconf-Interpretation@icann.org
ATTENDEE;ROLE=REQ-PARTICIPANT;PARTSTAT=NEEDS-ACTION;RSVP=FALSE;CN=TEL FR-Te
 leconf-Interpretation:MAILTO:FR-Teleconf-Interpretation@icann.org
ATTENDEE;ROLE=REQ-PARTICIPANT;PARTSTAT=NEEDS-ACTION;RSVP=FALSE;CN=Sabrina M
 osquera:MAILTO:sabrina.mosquera@icann.org
ATTENDEE;ROLE=REQ-PARTICIPANT;PARTSTAT=NEEDS-ACTION;RSVP=FALSE;CN=Maria Vil
 ardo:MAILTO:maria.vilardo@icann.org
ATTENDEE;ROLE=REQ-PARTICIPANT;PARTSTAT=NEEDS-ACTION;RSVP=FALSE;CN=Jamie:MAI
 LTO:jamie@alacarteconnection.com
ATTENDEE;ROLE=REQ-PARTICIPANT;PARTSTAT=NEEDS-ACTION;RSVP=FALSE;CN=Office:MA
 ILTO:Office@alacarteconnection.com
ATTENDEE;ROLE=REQ-PARTICIPANT;PARTSTAT=NEEDS-ACTION;RSVP=FALSE;CN=Bram Fudz
 ulani:MAILTO:beatblam@hotmail.com
ATTENDEE;ROLE=REQ-PARTICIPANT;PARTSTAT=NEEDS-ACTION;RSVP=FALSE;CN=Roberto G
 aetano:MAILTO:roberto_gaetano@hotmail.com
ATTENDEE;ROLE=REQ-PARTICIPANT;PARTSTAT=NEEDS-ACTION;RSVP=FALSE;CN=bukkiepha
 rworley@gmail.com:MAILTO:bukkiepharworley@gmail.com
ATTENDEE;ROLE=REQ-PARTICIPANT;PARTSTAT=NEEDS-ACTION;RSVP=FALSE;CN=Herb Waye
 :MAILTO:herb.waye@icann.org
ATTENDEE;ROLE=REQ-PARTICIPANT;PARTSTAT=NEEDS-ACTION;RSVP=FALSE;CN=Dave Kiss
 oondoyal:MAILTO:dave@kmpglobal.com
ATTENDEE;ROLE=REQ-PARTICIPANT;PARTSTAT=NEEDS-ACTION;RSVP=FALSE;CN=Amrita:MA
 ILTO:amritachoudhury8@gmail.com
ATTENDEE;ROLE=REQ-PARTICIPANT;PARTSTAT=NEEDS-ACTION;RSVP=FALSE;CN=Fahd Bata
 yneh:MAILTO:fahd.batayneh@icann.org
ATTENDEE;ROLE=REQ-PARTICIPANT;PARTSTAT=NEEDS-ACTION;RSVP=FALSE;CN=Andrew Ma
 ck:MAILTO:AMack@amglobal.com
ATTENDEE;ROLE=REQ-PARTICIPANT;PARTSTAT=NEEDS-ACTION;RSVP=FALSE;CN=Christina
  Rodriguez:MAILTO:christina.rodriguez@icann.org
ATTENDEE;ROLE=REQ-PARTICIPANT;PARTSTAT=NEEDS-ACTION;RSVP=FALSE;CN=Ephraim P
 ercy Kenyanito:MAILTO:ephraim@article19.org
ATTENDEE;ROLE=REQ-PARTICIPANT;PARTSTAT=NEEDS-ACTION;RSVP=FALSE;CN=Alberto S
 oto:MAILTO:sotoroldan@outlook.com.ar
ATTENDEE;ROLE=REQ-PARTICIPANT;PARTSTAT=NEEDS-ACTION;RSVP=FALSE;CN=gordontc@
 gmail.com:MAILTO:gordontc@gmail.com
ATTENDEE;ROLE=REQ-PARTICIPANT;PARTSTAT=NEEDS-ACTION;RSVP=FALSE;CN=Rodrigo d
 e la Parra:MAILTO:rodrigo.delaparra@icann.org
ATTENDEE;ROLE=REQ-PARTICIPANT;PARTSTAT=NEEDS-ACTION;RSVP=FALSE;CN=Maritza Y
 . Aguero Minano:MAILTO:myaguero@msn.com
ATTENDEE;ROLE=REQ-PARTICIPANT;PARTSTAT=NEEDS-ACTION;RSVP=FALSE;CN=Брик 
 Марина:MAILTO:mbrik@nic.ru
ATTENDEE;ROLE=REQ-PARTICIPANT;PARTSTAT=NEEDS-ACTION;RSVP=FALSE;CN=Claire Av
 ellan:MAILTO:avellan.inteam.icann@gmail.com
ATTENDEE;ROLE=REQ-PARTICIPANT;PARTSTAT=NEEDS-ACTION;RSVP=FALSE;CN=Camila Oe
 yen:MAILTO:oeyen.inteam.icann@gmail.com
ATTENDEE;ROLE=REQ-PARTICIPANT;PARTSTAT=NEEDS-ACTION;RSVP=FALSE;CN=Epstein I
 CANN:MAILTO:epstein.inteam.icann@gmail.com
ATTENDEE;ROLE=REQ-PARTICIPANT;PARTSTAT=NEEDS-ACTION;RSVP=FALSE;CN=Skok ICAN
 N:MAILTO:skok.inteam.icann@gmail.com
ATTENDEE;ROLE=REQ-PARTICIPANT;PARTSTAT=NEEDS-ACTION;RSVP=FALSE;CN=Matthias 
 M. Hudobnik:MAILTO:matthias@hudobnik.at
ATTENDEE;ROLE=REQ-PARTICIPANT;PARTSTAT=NEEDS-ACTION;RSVP=FALSE;CN=David Plu
 mb:MAILTO:dplumb@cbi.org
ATTENDEE;ROLE=REQ-PARTICIPANT;PARTSTAT=NEEDS-ACTION;RSVP=FALSE;CN=Hadia  Ab
 delsalam Mokhtar EL miniawi:MAILTO:Hadia@tra.gov.eg
ATTENDEE;ROLE=REQ-PARTICIPANT;PARTSTAT=NEEDS-ACTION;RSVP=FALSE;CN=Aurelie P
 inzon:MAILTO:pinzon.inteam.icann@gmail.com
ATTENDEE;ROLE=REQ-PARTICIPANT;PARTSTAT=NEEDS-ACTION;RSVP=FALSE;CN=olesen.in
 team.icann@gmail.com:MAILTO:olesen.inteam.icann@gmail.com
ATTENDEE;ROLE=REQ-PARTICIPANT;PARTSTAT=NEEDS-ACTION;RSVP=FALSE;CN=Penelas I
 CANN:MAILTO:penelas.inteam.icann@gmail.com
ATTENDEE;ROLE=REQ-PARTICIPANT;PARTSTAT=NEEDS-ACTION;RSVP=FALSE;CN=Gentile I
 CANN:MAILTO:gentile.inteam.icann@gmail.com
ATTENDEE;ROLE=REQ-PARTICIPANT;PARTSTAT=NEEDS-ACTION;RSVP=FALSE;CN=Pou ICANN
 :MAILTO:pou.inteam.icann@gmail.com
ATTENDEE;ROLE=REQ-PARTICIPANT;PARTSTAT=NEEDS-ACTION;RSVP=FALSE;CN=Jacques L
 acava:MAILTO:lacava.inteam.icann@gmail.com
ATTENDEE;ROLE=REQ-PARTICIPANT;PARTSTAT=NEEDS-ACTION;RSVP=FALSE;CN=Alaniz IC
 ANN:MAILTO:alaniz.inteam.icann@gmail.com
ATTENDEE;ROLE=REQ-PARTICIPANT;PARTSTAT=NEEDS-ACTION;RSVP=FALSE;CN=Isabelle 
 Olesen:MAILTO:isabelle.olesen@gmail.com
DESCRIPTION;LANGUAGE=en-US:***If you require a dial out or need to state an
  apology\, please contact At-Large staff at&nbsp\;staff@atlarge.icann.org<
 mailto:staff@atlarge.icann.org>&nbsp\;with your preferred number***\n\n&nb
 sp\;\n\n&nbsp\;\n\nDear All\,\n\n&nbsp\;\n\nThe next&nbsp\;At-Large&nbsp\;
 Consolidated Policy Working Group (CPWG) Call&nbsp\;is scheduled for&nbsp\
 ;Wednesday\,&nbsp\;16 December&nbsp\;2020&nbsp\;at&nbsp\;13:00&nbsp\;UTC&n
 bsp\;for&nbsp\;90 mins. &nbsp\;\n\n&nbsp\;\n\nFor other times:&nbsp\; http
 s://tinyurl.com/y4jdacff\n\n&nbsp\;\n\nThe agenda&nbsp\;(to be updated)&nb
 sp\;and call details can be found at: &nbsp\;https://community.icann.org/x
 /74QmCQ\n\n&nbsp\;\n\n&nbsp\;\n\nZoom Room: https://icann.zoom.us/j/765717
 566?pwd=UTJCdWRSZVdJNEhOYW02OVBqQVQ1Zz09&nbsp\;/&nbsp\;Passcode: #CPWG2345
 *\n\n\n\n&nbsp\;\n\nReal time transcription (RTT) available at&nbsp\;(subj
 ect to availability):&nbsp\;https://www.streamtext.net/player?event=ICANN 
 [streamtext.net]<https://www.streamtext.net/player?event=ICANN%20%5bstream
 text.net%5d>\n\n&nbsp\;\n\n&nbsp\;\n\nADIGO Conference Bridge:\n\nEN: 1638
 \n\nES: 1738\n\nFR: 1838\n\n&nbsp\;\n\nToll-free access number (US and Can
 ada): 800 550 6865\n\n&nbsp\;\n\nOther toll-free numbers:&nbsp\;https://ww
 w.adigo.com/icann [adigo.com]<https://urldefense.proofpoint.com/v2/url?u=h
 ttps-3A__www.adigo.com_icann&d=DwMFAw&c=FmY1u3PJp6wrcrwll3mSVzgfkbPSS6sJms
 7xcl4I5cM&r=8_WhWIPqsLT6TmF1Zmyci866vcPSFO4VShFqESGe_5iHWGlBLwwwehFBfjrsjW
 v9&m=v_dW7H6jSlA9nOi38W8-O0NNugHRJaIXFir99n2INTw&s=2UDiAMNbva1Qtvc7Gxe4uYE
 mKjLJ0Ue93B3VR6GVJPw&e=>\n\n&nbsp\;\n\nAt-Large Consolidated Policy Workin
 g Group (CPWG) Wiki Space:https://community.icann.org/x/jYDpB\n\n&nbsp\;\n
 \nIf you require a dial-out please contact At-Large staff at:&nbsp\;staff@
 atlarge.icann.org<mailto:staff@atlarge.icann.org>\n\n&nbsp\;\n\n&nbsp\;\n\
 nThank you.\n\nKind Regards\,\n\n&nbsp\;\n\nAt-Large Staff\n\nICANN Policy
  Staff in support of the At-Large Community\n\nWebsite:&nbsp\;atlarge.ican
 n.org [atlarge.icann.org]<https://urldefense.com/v3/__https:/atlarge.icann
 .org/__\;!!PtGJab4!oFDrFMfw8jcjbiOENoZWHopXy8rfZTOTGMshqKH1tB-ybt4i4Zew7NI
 WrlmNODxdPGi3M3lgXw$>\n\nFacebook:&nbsp\;facebook.com/icann [facebook.com]
 <https://urldefense.com/v3/__https:/www.facebook.com/icannatlarge__\;!!PtG
 Jab4!oFDrFMfw8jcjbiOENoZWHopXy8rfZTOTGMshqKH1tB-ybt4i4Zew7NIWrlmNODxdPGgTF
 L9A8Q$>atlarge [facebook.com]<https://urldefense.com/v3/__https:/www.faceb
 ook.com/icannatlarge__\;!!PtGJab4!oFDrFMfw8jcjbiOENoZWHopXy8rfZTOTGMshqKH1
 tB-ybt4i4Zew7NIWrlmNODxdPGgTFL9A8Q$>\n\nTwitter:&nbsp\;@ [twitter.com]<htt
 ps://urldefense.com/v3/__https:/twitter.com/ICANNAtLarge__\;!!PtGJab4!oFDr
 FMfw8jcjbiOENoZWHopXy8rfZTOTGMshqKH1tB-ybt4i4Zew7NIWrlmNODxdPGidRNUXkg$>IC
 ANNAtLarge [twitter.com]<https://urldefense.com/v3/__https:/twitter.com/IC
 ANNAtLarge__\;!!PtGJab4!oFDrFMfw8jcjbiOENoZWHopXy8rfZTOTGMshqKH1tB-ybt4i4Z
 ew7NIWrlmNODxdPGidRNUXkg$>\n\n&nbsp\;\n\n&nbsp\;\n\n&nbsp\;\n\n&nbsp\;\n\n
 &nbsp\;\n\n&nbsp\;\n\n&nbsp\;\n\n\n\n\n\n\n\n\n
UID:8DF8D772-F034-4358-A9A4-2040CAAAA3B0
SUMMARY;LANGUAGE=en-US:At-Large Consolidated Policy Working Group (CPWG)	Ca
 ll
DTSTART;TZID=UTC:20201216T130000
DTEND;TZID=UTC:20201216T143000
CLASS:PUBLIC
PRIORITY:5
DTSTAMP:20201209T224541Z
TRANSP:OPAQUE
STATUS:CONFIRMED
SEQUENCE:0
LOCATION;LANGUAGE=en-US:13:00 UTC - ADIGO EN:1638 ES:1738 FR:1838 - https:/
 /icann.zoom.us/j/765717566?pwd=UTJCdWRSZVdJNEhOYW02OVBqQVQ1Zz09 
X-MICROSOFT-CDO-APPT-SEQUENCE:0
X-MICROSOFT-CDO-OWNERAPPTID:2118929716
X-MICROSOFT-CDO-BUSYSTATUS:TENTATIVE
X-MICROSOFT-CDO-INTENDEDSTATUS:BUSY
X-MICROSOFT-CDO-ALLDAYEVENT:FALSE
X-MICROSOFT-CDO-IMPORTANCE:1
X-MICROSOFT-CDO-INSTTYPE:0
X-MICROSOFT-DONOTFORWARDMEETING:FALSE
X-MICROSOFT-DISALLOW-COUNTER:TRUE
BEGIN:VALARM
DESCRIPTION:REMINDER
TRIGGER;RELATED=START:-PT15M
ACTION:DISPLAY
END:VALARM
END:VEVENT
END:VCALENDAR
