BEGIN:VCALENDAR
METHOD:REQUEST
PRODID:Microsoft Exchange Server 2010
VERSION:2.0
BEGIN:VTIMEZONE
TZID:UTC
BEGIN:STANDARD
DTSTART:16010101T000000
TZOFFSETFROM:+0000
TZOFFSETTO:+0000
END:STANDARD
BEGIN:DAYLIGHT
DTSTART:16010101T000000
TZOFFSETFROM:+0000
TZOFFSETTO:+0000
END:DAYLIGHT
END:VTIMEZONE
BEGIN:VEVENT
ORGANIZER;CN=ICANN Policy Calendar:MAILTO:PolicyCalendar@icann.org
ATTENDEE;ROLE=REQ-PARTICIPANT;PARTSTAT=NEEDS-ACTION;RSVP=FALSE;CN=Heidi Ull
 rich:MAILTO:Heidi.Ullrich@icann.org
ATTENDEE;ROLE=REQ-PARTICIPANT;PARTSTAT=NEEDS-ACTION;RSVP=FALSE;CN=Silvia Vi
 vanco:MAILTO:silvia.vivanco@icann.org
ATTENDEE;ROLE=REQ-PARTICIPANT;PARTSTAT=NEEDS-ACTION;RSVP=FALSE;CN=atlasiiip
 articipants@icann.org:MAILTO:atlasiiiparticipants@icann.org
ATTENDEE;ROLE=REQ-PARTICIPANT;PARTSTAT=NEEDS-ACTION;RSVP=FALSE;CN=Gisella G
 ruber:MAILTO:Gisella.Gruber@icann.org
ATTENDEE;ROLE=REQ-PARTICIPANT;PARTSTAT=NEEDS-ACTION;RSVP=FALSE;CN=Evin Erdo
 gdu:MAILTO:evin.erdogdu@icann.org
ATTENDEE;ROLE=REQ-PARTICIPANT;PARTSTAT=NEEDS-ACTION;RSVP=FALSE;CN=Claudia R
 uiz:MAILTO:claudia.ruiz@icann.org
ATTENDEE;ROLE=REQ-PARTICIPANT;PARTSTAT=NEEDS-ACTION;RSVP=FALSE;CN=Alperen E
 ken:MAILTO:alperen.eken@icann.org
ATTENDEE;ROLE=REQ-PARTICIPANT;PARTSTAT=NEEDS-ACTION;RSVP=FALSE;CN=Yesim Naz
 lar:MAILTO:yesim.nazlar@icann.org
ATTENDEE;ROLE=REQ-PARTICIPANT;PARTSTAT=NEEDS-ACTION;RSVP=FALSE;CN=cpwg@ican
 n.org:MAILTO:cpwg@icann.org
ATTENDEE;ROLE=REQ-PARTICIPANT;PARTSTAT=NEEDS-ACTION;RSVP=FALSE;CN=lac-discu
 ss-en:MAILTO:lac-discuss-en@atlarge-lists.icann.org
ATTENDEE;ROLE=REQ-PARTICIPANT;PARTSTAT=NEEDS-ACTION;RSVP=FALSE;CN=TEL ES-Te
 leconf-Interpretation:MAILTO:ES-Teleconf-Interpretation@icann.org
ATTENDEE;ROLE=REQ-PARTICIPANT;PARTSTAT=NEEDS-ACTION;RSVP=FALSE;CN=TEL FR-Te
 leconf-Interpretation:MAILTO:FR-Teleconf-Interpretation@icann.org
ATTENDEE;ROLE=REQ-PARTICIPANT;PARTSTAT=NEEDS-ACTION;RSVP=FALSE;CN=Sabrina M
 osquera:MAILTO:sabrina.mosquera@icann.org
ATTENDEE;ROLE=REQ-PARTICIPANT;PARTSTAT=NEEDS-ACTION;RSVP=FALSE;CN=Maria Vil
 ardo:MAILTO:maria.vilardo@icann.org
ATTENDEE;ROLE=REQ-PARTICIPANT;PARTSTAT=NEEDS-ACTION;RSVP=FALSE;CN=Jamie:MAI
 LTO:jamie@alacarteconnection.com
ATTENDEE;ROLE=REQ-PARTICIPANT;PARTSTAT=NEEDS-ACTION;RSVP=FALSE;CN=Office:MA
 ILTO:Office@alacarteconnection.com
ATTENDEE;ROLE=REQ-PARTICIPANT;PARTSTAT=NEEDS-ACTION;RSVP=FALSE;CN=Bram Fudz
 ulani:MAILTO:beatblam@hotmail.com
ATTENDEE;ROLE=REQ-PARTICIPANT;PARTSTAT=NEEDS-ACTION;RSVP=FALSE;CN=Roberto G
 aetano:MAILTO:roberto_gaetano@hotmail.com
ATTENDEE;ROLE=REQ-PARTICIPANT;PARTSTAT=NEEDS-ACTION;RSVP=FALSE;CN=bukkiepha
 rworley@gmail.com:MAILTO:bukkiepharworley@gmail.com
ATTENDEE;ROLE=REQ-PARTICIPANT;PARTSTAT=NEEDS-ACTION;RSVP=FALSE;CN=Herb Waye
 :MAILTO:herb.waye@icann.org
ATTENDEE;ROLE=REQ-PARTICIPANT;PARTSTAT=NEEDS-ACTION;RSVP=FALSE;CN=Dave Kiss
 oondoyal:MAILTO:dave@kmpglobal.com
ATTENDEE;ROLE=REQ-PARTICIPANT;PARTSTAT=NEEDS-ACTION;RSVP=FALSE;CN=Amrita:MA
 ILTO:amritachoudhury8@gmail.com
ATTENDEE;ROLE=REQ-PARTICIPANT;PARTSTAT=NEEDS-ACTION;RSVP=FALSE;CN=Fahd Bata
 yneh:MAILTO:fahd.batayneh@icann.org
ATTENDEE;ROLE=REQ-PARTICIPANT;PARTSTAT=NEEDS-ACTION;RSVP=FALSE;CN=Andrew Ma
 ck:MAILTO:AMack@amglobal.com
ATTENDEE;ROLE=REQ-PARTICIPANT;PARTSTAT=NEEDS-ACTION;RSVP=FALSE;CN=Christina
  Rodriguez:MAILTO:christina.rodriguez@icann.org
ATTENDEE;ROLE=REQ-PARTICIPANT;PARTSTAT=NEEDS-ACTION;RSVP=FALSE;CN=Ephraim P
 ercy Kenyanito:MAILTO:ephraim@article19.org
ATTENDEE;ROLE=REQ-PARTICIPANT;PARTSTAT=NEEDS-ACTION;RSVP=FALSE;CN=Alberto S
 oto:MAILTO:sotoroldan@outlook.com.ar
ATTENDEE;ROLE=REQ-PARTICIPANT;PARTSTAT=NEEDS-ACTION;RSVP=FALSE;CN=gordontc@
 gmail.com:MAILTO:gordontc@gmail.com
ATTENDEE;ROLE=REQ-PARTICIPANT;PARTSTAT=NEEDS-ACTION;RSVP=FALSE;CN=Rodrigo d
 e la Parra:MAILTO:rodrigo.delaparra@icann.org
ATTENDEE;ROLE=REQ-PARTICIPANT;PARTSTAT=NEEDS-ACTION;RSVP=FALSE;CN=Maritza Y
 . Aguero Minano:MAILTO:myaguero@msn.com
ATTENDEE;ROLE=REQ-PARTICIPANT;PARTSTAT=NEEDS-ACTION;RSVP=FALSE;CN=Брик 
 Марина:MAILTO:mbrik@nic.ru
ATTENDEE;ROLE=REQ-PARTICIPANT;PARTSTAT=NEEDS-ACTION;RSVP=FALSE;CN=Claire Av
 ellan:MAILTO:avellan.inteam.icann@gmail.com
ATTENDEE;ROLE=REQ-PARTICIPANT;PARTSTAT=NEEDS-ACTION;RSVP=FALSE;CN=Camila Oe
 yen:MAILTO:oeyen.inteam.icann@gmail.com
ATTENDEE;ROLE=REQ-PARTICIPANT;PARTSTAT=NEEDS-ACTION;RSVP=FALSE;CN=Epstein I
 CANN:MAILTO:epstein.inteam.icann@gmail.com
ATTENDEE;ROLE=REQ-PARTICIPANT;PARTSTAT=NEEDS-ACTION;RSVP=FALSE;CN=Skok ICAN
 N:MAILTO:skok.inteam.icann@gmail.com
ATTENDEE;ROLE=REQ-PARTICIPANT;PARTSTAT=NEEDS-ACTION;RSVP=FALSE;CN=Matthias 
 M. Hudobnik:MAILTO:matthias@hudobnik.at
ATTENDEE;ROLE=REQ-PARTICIPANT;PARTSTAT=NEEDS-ACTION;RSVP=FALSE;CN=David Plu
 mb:MAILTO:dplumb@cbi.org
ATTENDEE;ROLE=REQ-PARTICIPANT;PARTSTAT=NEEDS-ACTION;RSVP=FALSE;CN=Hadia  Ab
 delsalam Mokhtar EL miniawi:MAILTO:Hadia@tra.gov.eg
ATTENDEE;ROLE=REQ-PARTICIPANT;PARTSTAT=NEEDS-ACTION;RSVP=FALSE;CN=Aurelie P
 inzon:MAILTO:pinzon.inteam.icann@gmail.com
ATTENDEE;ROLE=REQ-PARTICIPANT;PARTSTAT=NEEDS-ACTION;RSVP=FALSE;CN=olesen.in
 team.icann@gmail.com:MAILTO:olesen.inteam.icann@gmail.com
ATTENDEE;ROLE=REQ-PARTICIPANT;PARTSTAT=NEEDS-ACTION;RSVP=FALSE;CN=Penelas I
 CANN:MAILTO:penelas.inteam.icann@gmail.com
ATTENDEE;ROLE=REQ-PARTICIPANT;PARTSTAT=NEEDS-ACTION;RSVP=FALSE;CN=Gentile I
 CANN:MAILTO:gentile.inteam.icann@gmail.com
ATTENDEE;ROLE=REQ-PARTICIPANT;PARTSTAT=NEEDS-ACTION;RSVP=FALSE;CN=Pou ICANN
 :MAILTO:pou.inteam.icann@gmail.com
ATTENDEE;ROLE=REQ-PARTICIPANT;PARTSTAT=NEEDS-ACTION;RSVP=FALSE;CN=Jacques L
 acava:MAILTO:lacava.inteam.icann@gmail.com
ATTENDEE;ROLE=REQ-PARTICIPANT;PARTSTAT=NEEDS-ACTION;RSVP=FALSE;CN=Alaniz IC
 ANN:MAILTO:alaniz.inteam.icann@gmail.com
ATTENDEE;ROLE=REQ-PARTICIPANT;PARTSTAT=NEEDS-ACTION;RSVP=FALSE;CN=Isabelle 
 Olesen:MAILTO:isabelle.olesen@gmail.com
DESCRIPTION;LANGUAGE=en-US:*****PLEASE NOTE THE TIME CHANGE AND UPDATE YOUR
  CALENDAR ACCORDINGLY*****\n\n\n\n***If you require a dial out or need to 
 state an apology\, please contact At-Large staff at&nbsp\;staff@atlarge.ic
 ann.org<mailto:staff@atlarge.icann.org>&nbsp\;with your preferred number**
 *\n\n&nbsp\;\n\n&nbsp\;\n\nDear All\,\n\n&nbsp\;\n\nThe next&nbsp\;At-Larg
 e&nbsp\;Consolidated Policy Working Group (CPWG) Call&nbsp\;is scheduled f
 or&nbsp\;Wednesday\,&nbsp\;13 January&nbsp\;2021&nbsp\;at&nbsp\;21:00&nbsp
 \;UTC&nbsp\;for&nbsp\;90 mins. &nbsp\;\n\n&nbsp\;\n\nFor other times:&nbsp
 \; https://tinyurl.com/y2ob8bqz\n\n\n\nThe agenda&nbsp\;(to be updated)&nb
 sp\;and call details can be found at: https://community.icann.org/x/FgNACQ
 \n\n&nbsp\;\n\n&nbsp\;Zoom Room: https://icann.zoom.us/j/765717566?pwd=UTJ
 CdWRSZVdJNEhOYW02OVBqQVQ1Zz09/&nbsp\;Passcode: #CPWG2345*\n\n\n\n&nbsp\;\n
 \nReal time transcription (RTT) available at&nbsp\;(subject to availabilit
 y):&nbsp\;https://www.streamtext.net/player?event=ICANN [streamtext.net] [
 streamtext.net]<https://urldefense.com/v3/__https:/www.streamtext.net/play
 er?event=ICANN*20*5bstreamtext.net*5d__\;JSUl!!PtGJab4!oC0Tdx0Gd0KKjTpxYPQ
 5bQ2G2L2xuGyr_Z5PoqKMeUIxn0rvdv4JEfbkFJFhZNkVjcdOVb4Z2nys$>\n\n&nbsp\;\n\n
 &nbsp\;\n\nADIGO Conference Bridge:\n\nEN: 1638\n\nES: 1738\n\nFR: 1838\n\
 n&nbsp\;\n\nToll-free access number (US and Canada): 800 550 6865\n\n&nbsp
 \;\n\nOther toll-free numbers:&nbsp\;https://www.adigo.com/icann [adigo.co
 m]<https://urldefense.proofpoint.com/v2/url?u=https-3A__www.adigo.com_ican
 n&d=DwMFAw&c=FmY1u3PJp6wrcrwll3mSVzgfkbPSS6sJms7xcl4I5cM&r=8_WhWIPqsLT6TmF
 1Zmyci866vcPSFO4VShFqESGe_5iHWGlBLwwwehFBfjrsjWv9&m=v_dW7H6jSlA9nOi38W8-O0
 NNugHRJaIXFir99n2INTw&s=2UDiAMNbva1Qtvc7Gxe4uYEmKjLJ0Ue93B3VR6GVJPw&e=>\n\
 n&nbsp\;\n\nAt-Large Consolidated Policy Working Group (CPWG) Wiki Space:h
 ttps://community.icann.org/x/jYDpB\n\n&nbsp\;\n\nIf you require a dial-out
  please contact At-Large staff at:&nbsp\;staff@atlarge.icann.org<mailto:st
 aff@atlarge.icann.org>\n\n&nbsp\;\n\n&nbsp\;\n\nThank you.\n\nKind Regards
 \,\n\n&nbsp\;\n\nAt-Large Staff\n\nICANN Policy Staff in support of the At
 -Large Community\n\nWebsite:&nbsp\;atlarge.icann.org [atlarge.icann.org]<h
 ttps://urldefense.com/v3/__https:/atlarge.icann.org/__\;!!PtGJab4!oFDrFMfw
 8jcjbiOENoZWHopXy8rfZTOTGMshqKH1tB-ybt4i4Zew7NIWrlmNODxdPGi3M3lgXw$>\n\nFa
 cebook:&nbsp\;facebook.com/icann [facebook.com]<https://urldefense.com/v3/
 __https:/www.facebook.com/icannatlarge__\;!!PtGJab4!oFDrFMfw8jcjbiOENoZWHo
 pXy8rfZTOTGMshqKH1tB-ybt4i4Zew7NIWrlmNODxdPGgTFL9A8Q$>atlarge [facebook.co
 m]<https://urldefense.com/v3/__https:/www.facebook.com/icannatlarge__\;!!P
 tGJab4!oFDrFMfw8jcjbiOENoZWHopXy8rfZTOTGMshqKH1tB-ybt4i4Zew7NIWrlmNODxdPGg
 TFL9A8Q$>\n\nTwitter:&nbsp\;@ [twitter.com]<https://urldefense.com/v3/__ht
 tps:/twitter.com/ICANNAtLarge__\;!!PtGJab4!oFDrFMfw8jcjbiOENoZWHopXy8rfZTO
 TGMshqKH1tB-ybt4i4Zew7NIWrlmNODxdPGidRNUXkg$>ICANNAtLarge [twitter.com]<ht
 tps://urldefense.com/v3/__https:/twitter.com/ICANNAtLarge__\;!!PtGJab4!oFD
 rFMfw8jcjbiOENoZWHopXy8rfZTOTGMshqKH1tB-ybt4i4Zew7NIWrlmNODxdPGidRNUXkg$>\
 n\n&nbsp\;\n\n&nbsp\;\n\n&nbsp\;\n\n&nbsp\;\n\n&nbsp\;\n\n&nbsp\;\n\n&nbsp
 \;\n\n\n\n\n\n\n\n\n\n\n\n\n
UID:40108633-AA7B-48D4-9F92-6B59AEA4EB97
SUMMARY;LANGUAGE=en-US:At-Large Consolidated Policy Working Group	(CPWG)	Ca
 ll
DTSTART;TZID=UTC:20210113T210000
DTEND;TZID=UTC:20210113T223000
CLASS:PUBLIC
PRIORITY:5
DTSTAMP:20210111T192040Z
TRANSP:OPAQUE
STATUS:CONFIRMED
SEQUENCE:1
LOCATION;LANGUAGE=en-US:21:00 UTC - ADIGO EN:1638 ES:1738 FR:1838 - https:/
 /icann.zoom.us/j/765717566?pwd=UTJCdWRSZVdJNEhOYW02OVBqQVQ1Zz09 
X-MICROSOFT-CDO-APPT-SEQUENCE:1
X-MICROSOFT-CDO-OWNERAPPTID:2119250529
X-MICROSOFT-CDO-BUSYSTATUS:TENTATIVE
X-MICROSOFT-CDO-INTENDEDSTATUS:BUSY
X-MICROSOFT-CDO-ALLDAYEVENT:FALSE
X-MICROSOFT-CDO-IMPORTANCE:1
X-MICROSOFT-CDO-INSTTYPE:0
X-MICROSOFT-DONOTFORWARDMEETING:FALSE
X-MICROSOFT-DISALLOW-COUNTER:TRUE
BEGIN:VALARM
DESCRIPTION:REMINDER
TRIGGER;RELATED=START:-PT15M
ACTION:DISPLAY
END:VALARM
END:VEVENT
END:VCALENDAR
