BEGIN:VCALENDAR
METHOD:REQUEST
PRODID:Microsoft Exchange Server 2010
VERSION:2.0
BEGIN:VTIMEZONE
TZID:(UTC-06:00) Central Time (US & Canada)
BEGIN:STANDARD
DTSTART:16010101T020000
TZOFFSETFROM:-0500
TZOFFSETTO:-0600
RRULE:FREQ=YEARLY;INTERVAL=1;BYDAY=1SU;BYMONTH=11
END:STANDARD
BEGIN:DAYLIGHT
DTSTART:16010101T020000
TZOFFSETFROM:-0600
TZOFFSETTO:-0500
RRULE:FREQ=YEARLY;INTERVAL=1;BYDAY=2SU;BYMONTH=3
END:DAYLIGHT
END:VTIMEZONE
BEGIN:VEVENT
ORGANIZER;CN=ICANN Policy Calendar:MAILTO:PolicyCalendar@icann.org
ATTENDEE;ROLE=REQ-PARTICIPANT;PARTSTAT=NEEDS-ACTION;RSVP=TRUE;CN=Heidi Ullr
 ich:MAILTO:Heidi.Ullrich@icann.org
ATTENDEE;ROLE=REQ-PARTICIPANT;PARTSTAT=NEEDS-ACTION;RSVP=TRUE;CN=Silvia Viv
 anco:MAILTO:silvia.vivanco@icann.org
ATTENDEE;ROLE=REQ-PARTICIPANT;PARTSTAT=NEEDS-ACTION;RSVP=TRUE;CN=Gisella Gr
 uber:MAILTO:Gisella.Gruber@icann.org
ATTENDEE;ROLE=REQ-PARTICIPANT;PARTSTAT=NEEDS-ACTION;RSVP=TRUE;CN=Yesim Nazl
 ar:MAILTO:yesim.nazlar@icann.org
ATTENDEE;ROLE=REQ-PARTICIPANT;PARTSTAT=NEEDS-ACTION;RSVP=TRUE;CN=Claudia Ru
 iz:MAILTO:claudia.ruiz@icann.org
ATTENDEE;ROLE=REQ-PARTICIPANT;PARTSTAT=NEEDS-ACTION;RSVP=TRUE;CN=Michelle D
 eSmyter:MAILTO:michelle.desmyter@icann.org
ATTENDEE;ROLE=REQ-PARTICIPANT;PARTSTAT=NEEDS-ACTION;RSVP=TRUE;CN=cpwg@icann
 .org:MAILTO:cpwg@icann.org
ATTENDEE;ROLE=REQ-PARTICIPANT;PARTSTAT=NEEDS-ACTION;RSVP=TRUE;CN=ac-discuss
 -en@atlarge-lists.icann.org:MAILTO:ac-discuss-en@atlarge-lists.icann.org
ATTENDEE;ROLE=REQ-PARTICIPANT;PARTSTAT=NEEDS-ACTION;RSVP=TRUE;CN=TEL ES-Tel
 econf-Interpretation:MAILTO:ES-Teleconf-Interpretation@icann.org
ATTENDEE;ROLE=REQ-PARTICIPANT;PARTSTAT=NEEDS-ACTION;RSVP=TRUE;CN=TEL FR-Tel
 econf-Interpretation:MAILTO:FR-Teleconf-Interpretation@icann.org
ATTENDEE;ROLE=REQ-PARTICIPANT;PARTSTAT=NEEDS-ACTION;RSVP=TRUE;CN=Sabrina Mo
 squera:MAILTO:sabrina.mosquera@icann.org
ATTENDEE;ROLE=REQ-PARTICIPANT;PARTSTAT=NEEDS-ACTION;RSVP=TRUE;CN=Maria Vila
 rdo:MAILTO:maria.vilardo@icann.org
ATTENDEE;ROLE=REQ-PARTICIPANT;PARTSTAT=NEEDS-ACTION;RSVP=TRUE;CN=jamie@alac
 arteconnection.com:MAILTO:jamie@alacarteconnection.com
ATTENDEE;ROLE=REQ-PARTICIPANT;PARTSTAT=NEEDS-ACTION;RSVP=TRUE;CN=Herb Waye:
 MAILTO:herb.waye@icann.org
ATTENDEE;ROLE=REQ-PARTICIPANT;PARTSTAT=NEEDS-ACTION;RSVP=TRUE;CN=Christina 
 Rodriguez:MAILTO:christina.rodriguez@icann.org
ATTENDEE;ROLE=REQ-PARTICIPANT;PARTSTAT=NEEDS-ACTION;RSVP=TRUE;CN=maureen.hi
 lyard@gmail.com:MAILTO:maureen.hilyard@gmail.com
ATTENDEE;ROLE=REQ-PARTICIPANT;PARTSTAT=NEEDS-ACTION;RSVP=TRUE;CN=ocl@gih.co
 m:MAILTO:ocl@gih.com
ATTENDEE;ROLE=REQ-PARTICIPANT;PARTSTAT=NEEDS-ACTION;RSVP=TRUE;CN=JZuck@inno
 vatorsnetwork.org:MAILTO:JZuck@innovatorsnetwork.org
ATTENDEE;ROLE=REQ-PARTICIPANT;PARTSTAT=NEEDS-ACTION;RSVP=TRUE;CN=alan.green
 berg@mcgill.ca:MAILTO:alan.greenberg@mcgill.ca
ATTENDEE;ROLE=REQ-PARTICIPANT;PARTSTAT=NEEDS-ACTION;RSVP=TRUE;CN=priyatoshj
 ana@gmail.com:MAILTO:priyatoshjana@gmail.com
ATTENDEE;ROLE=REQ-PARTICIPANT;PARTSTAT=NEEDS-ACTION;RSVP=TRUE;CN=dplumb@cbi
 .org:MAILTO:dplumb@cbi.org
ATTENDEE;ROLE=REQ-PARTICIPANT;PARTSTAT=NEEDS-ACTION;RSVP=TRUE;CN=langdonorr
 @gmail.com:MAILTO:langdonorr@gmail.com
ATTENDEE;ROLE=REQ-PARTICIPANT;PARTSTAT=NEEDS-ACTION;RSVP=TRUE;CN=Fahd Batay
 neh:MAILTO:fahd.batayneh@icann.org
ATTENDEE;ROLE=REQ-PARTICIPANT;PARTSTAT=NEEDS-ACTION;RSVP=TRUE;CN=roberto_ga
 etano@hotmail.com:MAILTO:roberto_gaetano@hotmail.com
ATTENDEE;ROLE=REQ-PARTICIPANT;PARTSTAT=NEEDS-ACTION;RSVP=TRUE;CN=joanhopek@
 gmail.com:MAILTO:joanhopek@gmail.com
ATTENDEE;ROLE=REQ-PARTICIPANT;PARTSTAT=NEEDS-ACTION;RSVP=TRUE;CN=beatblam@h
 otmail.com:MAILTO:beatblam@hotmail.com
ATTENDEE;ROLE=REQ-PARTICIPANT;PARTSTAT=NEEDS-ACTION;RSVP=TRUE;CN=vanda@scar
 tezini.org:MAILTO:vanda@scartezini.org
ATTENDEE;ROLE=REQ-PARTICIPANT;PARTSTAT=NEEDS-ACTION;RSVP=TRUE;CN=Albert Dan
 iels:MAILTO:albert.daniels@icann.org
ATTENDEE;ROLE=REQ-PARTICIPANT;PARTSTAT=NEEDS-ACTION;RSVP=TRUE;CN=michele@bl
 acknight.com:MAILTO:michele@blacknight.com
ATTENDEE;ROLE=REQ-PARTICIPANT;PARTSTAT=NEEDS-ACTION;RSVP=TRUE;CN=mbrik@nic.
 ru:MAILTO:mbrik@nic.ru
ATTENDEE;ROLE=REQ-PARTICIPANT;PARTSTAT=NEEDS-ACTION;RSVP=TRUE;CN=skok.intea
 m.icann@gmail.com:MAILTO:skok.inteam.icann@gmail.com
ATTENDEE;ROLE=REQ-PARTICIPANT;PARTSTAT=NEEDS-ACTION;RSVP=TRUE;CN=alaniz.int
 eam.icann@gmail.com:MAILTO:alaniz.inteam.icann@gmail.com
ATTENDEE;ROLE=REQ-PARTICIPANT;PARTSTAT=NEEDS-ACTION;RSVP=TRUE;CN=joanna_kul
 esza@wpia.uni.lodz.pl:MAILTO:joanna_kulesza@wpia.uni.lodz.pl
ATTENDEE;ROLE=REQ-PARTICIPANT;PARTSTAT=NEEDS-ACTION;RSVP=TRUE;CN=avellan.in
 team.icann@gmail.com:MAILTO:avellan.inteam.icann@gmail.com
ATTENDEE;ROLE=REQ-PARTICIPANT;PARTSTAT=NEEDS-ACTION;RSVP=TRUE;CN=Hadia@tra.
 gov.eg:MAILTO:Hadia@tra.gov.eg
ATTENDEE;ROLE=REQ-PARTICIPANT;PARTSTAT=NEEDS-ACTION;RSVP=TRUE;CN=Rodrigo de
  la Parra:MAILTO:rodrigo.delaparra@icann.org
ATTENDEE;ROLE=REQ-PARTICIPANT;PARTSTAT=NEEDS-ACTION;RSVP=TRUE;CN=atlasiiipa
 rticipants@icann.org:MAILTO:atlasiiiparticipants@icann.org
DESCRIPTION;LANGUAGE=en-US:***If you require a dial out or need to state an
  apology\, please contact At-Large staff at staff@atlarge.icann.org<mailto
 :staff@atlarge.icann.org> with your preferred number***\n\n\n\n\n\nDear Al
 l\,\n\n\n\nThe next At-Large Consolidated Policy Working Group (CPWG) Call
  is scheduled for Wednesday\, 10 February 2021 at 19:00 UTC for 90 mins.\n
 \n\n\nFor other times: https://community.icann.org/tinyurl.com/4rutk6o8\n\
 n\nThe agenda (to be updated) and call details can be found at: https://co
 mmunity.icann.org/x/X4NeCQ\n\n\n\n Zoom Room: https://icann.zoom.us/j/7657
 17566?pwd=UTJCdWRSZVdJNEhOYW02OVBqQVQ1Zz09/ Passcode: #CPWG2345*\n\n\n\n\n
 Real time transcription (RTT) available at (subject to availability): http
 s://www.streamtext.net/player?event=ICANN [streamtext.net] [streamtext.net
 ]<https://urldefense.com/v3/__https:/www.streamtext.net/player?event=ICANN
 *20*5bstreamtext.net*5d__\;JSUl!!PtGJab4!oC0Tdx0Gd0KKjTpxYPQ5bQ2G2L2xuGyr_
 Z5PoqKMeUIxn0rvdv4JEfbkFJFhZNkVjcdOVb4Z2nys$>\n\n\n\n\n\nADIGO Conference 
 Bridge:\n\nEN: 1638\n\nES: 1738\n\nFR: 1838\n\n\n\nToll-free access number
  (US and Canada): 800 550 6865\n\n\n\nOther toll-free numbers: https://www
 .adigo.com/icann [adigo.com]<https://urldefense.proofpoint.com/v2/url?u=ht
 tps-3A__www.adigo.com_icann&d=DwMFAw&c=FmY1u3PJp6wrcrwll3mSVzgfkbPSS6sJms7
 xcl4I5cM&r=8_WhWIPqsLT6TmF1Zmyci866vcPSFO4VShFqESGe_5iHWGlBLwwwehFBfjrsjWv
 9&m=v_dW7H6jSlA9nOi38W8-O0NNugHRJaIXFir99n2INTw&s=2UDiAMNbva1Qtvc7Gxe4uYEm
 KjLJ0Ue93B3VR6GVJPw&e=>\n\n\n\nAt-Large Consolidated Policy Working Group 
 (CPWG) Wiki Space: https://community.icann.org/x/jYDpB\n\n\n\nIf you requi
 re a dial-out please contact At-Large staff at: staff@atlarge.icann.org<ma
 ilto:staff@atlarge.icann.org>\n\n\n\n\n\nThank you.\n\nKind Regards\,\n\n\
 n\nAt-Large Staff\n\nICANN Policy Staff in support of the At-Large Communi
 ty\n\nWebsite: atlarge.icann.org [atlarge.icann.org]<https://urldefense.co
 m/v3/__https:/atlarge.icann.org/__\;!!PtGJab4!oFDrFMfw8jcjbiOENoZWHopXy8rf
 ZTOTGMshqKH1tB-ybt4i4Zew7NIWrlmNODxdPGi3M3lgXw$>\n\nFacebook: facebook.com
 /icann [facebook.com]<https://urldefense.com/v3/__https:/www.facebook.com/
 icannatlarge__\;!!PtGJab4!oFDrFMfw8jcjbiOENoZWHopXy8rfZTOTGMshqKH1tB-ybt4i
 4Zew7NIWrlmNODxdPGgTFL9A8Q$>atlarge [facebook.com]<https://urldefense.com/
 v3/__https:/www.facebook.com/icannatlarge__\;!!PtGJab4!oFDrFMfw8jcjbiOENoZ
 WHopXy8rfZTOTGMshqKH1tB-ybt4i4Zew7NIWrlmNODxdPGgTFL9A8Q$>\n\nTwitter: @ [t
 witter.com]<https://urldefense.com/v3/__https:/twitter.com/ICANNAtLarge__\
 ;!!PtGJab4!oFDrFMfw8jcjbiOENoZWHopXy8rfZTOTGMshqKH1tB-ybt4i4Zew7NIWrlmNODx
 dPGidRNUXkg$>ICANNAtLarge [twitter.com]<https://urldefense.com/v3/__https:
 /twitter.com/ICANNAtLarge__\;!!PtGJab4!oFDrFMfw8jcjbiOENoZWHopXy8rfZTOTGMs
 hqKH1tB-ybt4i4Zew7NIWrlmNODxdPGidRNUXkg$>\n\n\n
UID:040000008200E00074C5B7101A82E00800000000472A3080A1FAD601000000000000000
 010000000A43C9F37DBE7B1478ADDEA49897AA653
SUMMARY;LANGUAGE=en-US:At-Large Consolidated Policy Working Group (CPWG) Ca
 ll
DTSTART;TZID="(UTC-06:00) Central Time (US & Canada)":20210210T130000
DTEND;TZID="(UTC-06:00) Central Time (US & Canada)":20210210T143000
CLASS:PUBLIC
PRIORITY:5
DTSTAMP:20210204T025740Z
TRANSP:OPAQUE
STATUS:CONFIRMED
SEQUENCE:0
LOCATION;LANGUAGE=en-US:19:00 UTC - ADIGO EN:1638 ES:1738 FR:1838 - https:/
 /icann.zoom.us/j/765717566?pwd=UTJCdWRSZVdJNEhOYW02OVBqQVQ1Zz09
X-MICROSOFT-CDO-APPT-SEQUENCE:0
X-MICROSOFT-CDO-OWNERAPPTID:2119311175
X-MICROSOFT-CDO-BUSYSTATUS:TENTATIVE
X-MICROSOFT-CDO-INTENDEDSTATUS:BUSY
X-MICROSOFT-CDO-ALLDAYEVENT:FALSE
X-MICROSOFT-CDO-IMPORTANCE:1
X-MICROSOFT-CDO-INSTTYPE:0
X-MICROSOFT-DONOTFORWARDMEETING:FALSE
X-MICROSOFT-DISALLOW-COUNTER:FALSE
BEGIN:VALARM
DESCRIPTION:REMINDER
TRIGGER;RELATED=START:-PT15M
ACTION:DISPLAY
END:VALARM
X-MICROSOFT-LOCATIONDISPLAYNAME:19:00 UTC - ADIGO EN:1638 ES:1738 FR:1838 -
  https://icann.zoom.us/j/765717566?pwd=UTJCdWRSZVdJNEhOYW02OVBqQVQ1Zz09
X-MICROSOFT-LOCATIONSOURCE:None
END:VEVENT
END:VCALENDAR
