BEGIN:VCALENDAR
METHOD:REQUEST
PRODID:Microsoft Exchange Server 2010
VERSION:2.0
BEGIN:VTIMEZONE
TZID:(UTC-06:00) Central Time (US & Canada)
BEGIN:STANDARD
DTSTART:16010101T020000
TZOFFSETFROM:-0500
TZOFFSETTO:-0600
RRULE:FREQ=YEARLY;INTERVAL=1;BYDAY=1SU;BYMONTH=11
END:STANDARD
BEGIN:DAYLIGHT
DTSTART:16010101T020000
TZOFFSETFROM:-0600
TZOFFSETTO:-0500
RRULE:FREQ=YEARLY;INTERVAL=1;BYDAY=2SU;BYMONTH=3
END:DAYLIGHT
END:VTIMEZONE
BEGIN:VEVENT
ORGANIZER;CN=ICANN Policy Calendar:MAILTO:PolicyCalendar@icann.org
ATTENDEE;ROLE=REQ-PARTICIPANT;PARTSTAT=NEEDS-ACTION;RSVP=TRUE;CN=atlasiiipa
 rticipants@icann.org:MAILTO:atlasiiiparticipants@icann.org
DESCRIPTION;LANGUAGE=en-US:***If you require a dial out or need to state an
  apology\, please contact At-Large staff at staff@atlarge.icann.org<mailto
 :staff@atlarge.icann.org> with your preferred number***\n\n\n\n\n\nDear Al
 l\,\n\n\n\nThe next At-Large Consolidated Policy Working Group (CPWG) Call
  is scheduled for Wednesday\, 03 March 2021 at 13:00 UTC for 90 mins.\n\n\
 n\nFor other times: https://tinyurl.com/w3trcubh\n\n\nThe agenda (to be up
 dated) and call details can be found at: https://community.icann.org/x/pgl
 tCQ\n\n\n\n Zoom Room: https://icann.zoom.us/j/765717566?pwd=UTJCdWRSZVdJN
 EhOYW02OVBqQVQ1Zz09/ Passcode: #CPWG2345*\n\n\n\n\nReal time transcription
  (RTT) available at (subject to availability): https://www.streamtext.net/
 player?event=ICANN [streamtext.net] [streamtext.net]<https://urldefense.co
 m/v3/__https:/www.streamtext.net/player?event=ICANN*20*5bstreamtext.net*5d
 __\;JSUl!!PtGJab4!oC0Tdx0Gd0KKjTpxYPQ5bQ2G2L2xuGyr_Z5PoqKMeUIxn0rvdv4JEfbk
 FJFhZNkVjcdOVb4Z2nys$>\n\n\n\n\n\nADIGO Conference Bridge:\n\nEN: 1638\n\n
 ES: 1738\n\nFR: 1838\n\n\n\nToll-free access number (US and Canada): 800 5
 50 6865\n\n\n\nOther toll-free numbers: https://www.adigo.com/icann [adigo
 .com]<https://urldefense.proofpoint.com/v2/url?u=https-3A__www.adigo.com_i
 cann&d=DwMFAw&c=FmY1u3PJp6wrcrwll3mSVzgfkbPSS6sJms7xcl4I5cM&r=8_WhWIPqsLT6
 TmF1Zmyci866vcPSFO4VShFqESGe_5iHWGlBLwwwehFBfjrsjWv9&m=v_dW7H6jSlA9nOi38W8
 -O0NNugHRJaIXFir99n2INTw&s=2UDiAMNbva1Qtvc7Gxe4uYEmKjLJ0Ue93B3VR6GVJPw&e=>
 \n\n\n\nAt-Large Consolidated Policy Working Group (CPWG) Wiki Space:https
 ://community.icann.org/x/jYDpB\n\n\n\nIf you require a dial-out please con
 tact At-Large staff at: staff@atlarge.icann.org<mailto:staff@atlarge.icann
 .org>\n\n\n\n\n\nThank you.\n\nKind Regards\,\n\n\n\nAt-Large Staff\n\nICA
 NN Policy Staff in support of the At-Large Community\n\nWebsite: atlarge.i
 cann.org [atlarge.icann.org]<https://urldefense.com/v3/__https:/atlarge.ic
 ann.org/__\;!!PtGJab4!oFDrFMfw8jcjbiOENoZWHopXy8rfZTOTGMshqKH1tB-ybt4i4Zew
 7NIWrlmNODxdPGi3M3lgXw$>\n\nFacebook: facebook.com/icann [facebook.com]<ht
 tps://urldefense.com/v3/__https:/www.facebook.com/icannatlarge__\;!!PtGJab
 4!oFDrFMfw8jcjbiOENoZWHopXy8rfZTOTGMshqKH1tB-ybt4i4Zew7NIWrlmNODxdPGgTFL9A
 8Q$>atlarge [facebook.com]<https://urldefense.com/v3/__https:/www.facebook
 .com/icannatlarge__\;!!PtGJab4!oFDrFMfw8jcjbiOENoZWHopXy8rfZTOTGMshqKH1tB-
 ybt4i4Zew7NIWrlmNODxdPGgTFL9A8Q$>\n\nTwitter: @ [twitter.com]<https://urld
 efense.com/v3/__https:/twitter.com/ICANNAtLarge__\;!!PtGJab4!oFDrFMfw8jcjb
 iOENoZWHopXy8rfZTOTGMshqKH1tB-ybt4i4Zew7NIWrlmNODxdPGidRNUXkg$>ICANNAtLarg
 e [twitter.com]<https://urldefense.com/v3/__https:/twitter.com/ICANNAtLarg
 e__\;!!PtGJab4!oFDrFMfw8jcjbiOENoZWHopXy8rfZTOTGMshqKH1tB-ybt4i4Zew7NIWrlm
 NODxdPGidRNUXkg$>\n\n\n\n\n\n\n\n\n\n\n\n\n\n
UID:040000008200E00074C5B7101A82E00800000000AB3CF0B11A0BD701000000000000000
 0100000005769F5B5F3D7D2489A893666ACFD7EE3
SUMMARY;LANGUAGE=en-US:At-Large Consolidated Policy Working Group (CPWG) Ca
 ll 
DTSTART;TZID="(UTC-06:00) Central Time (US & Canada)":20210303T070000
DTEND;TZID="(UTC-06:00) Central Time (US & Canada)":20210303T083000
CLASS:PUBLIC
PRIORITY:5
DTSTAMP:20210225T020639Z
TRANSP:OPAQUE
STATUS:CONFIRMED
SEQUENCE:1
LOCATION;LANGUAGE=en-US:13:00 UTC - ADIGO EN:1638 ES:1738 FR:1838 - https:/
 /icann.zoom.us/j/765717566?pwd=UTJCdWRSZVdJNEhOYW02OVBqQVQ1Zz09
X-MICROSOFT-CDO-APPT-SEQUENCE:1
X-MICROSOFT-CDO-OWNERAPPTID:2119352747
X-MICROSOFT-CDO-BUSYSTATUS:TENTATIVE
X-MICROSOFT-CDO-INTENDEDSTATUS:BUSY
X-MICROSOFT-CDO-ALLDAYEVENT:FALSE
X-MICROSOFT-CDO-IMPORTANCE:1
X-MICROSOFT-CDO-INSTTYPE:0
X-MICROSOFT-DONOTFORWARDMEETING:FALSE
X-MICROSOFT-DISALLOW-COUNTER:FALSE
BEGIN:VALARM
DESCRIPTION:REMINDER
TRIGGER;RELATED=START:-PT15M
ACTION:DISPLAY
END:VALARM
X-MICROSOFT-LOCATIONDISPLAYNAME:13:00 UTC - ADIGO EN:1638 ES:1738 FR:1838 -
  https://icann.zoom.us/j/765717566?pwd=UTJCdWRSZVdJNEhOYW02OVBqQVQ1Zz09
X-MICROSOFT-LOCATIONSOURCE:None
END:VEVENT
END:VCALENDAR
