BEGIN:VCALENDAR
METHOD:REQUEST
PRODID:Microsoft Exchange Server 2010
VERSION:2.0
BEGIN:VTIMEZONE
TZID:(UTC-06:00) Central Time (US & Canada)
BEGIN:STANDARD
DTSTART:16010101T020000
TZOFFSETFROM:-0500
TZOFFSETTO:-0600
RRULE:FREQ=YEARLY;INTERVAL=1;BYDAY=1SU;BYMONTH=11
END:STANDARD
BEGIN:DAYLIGHT
DTSTART:16010101T020000
TZOFFSETFROM:-0600
TZOFFSETTO:-0500
RRULE:FREQ=YEARLY;INTERVAL=1;BYDAY=2SU;BYMONTH=3
END:DAYLIGHT
END:VTIMEZONE
BEGIN:VEVENT
ORGANIZER;CN=ICANN Policy Calendar:MAILTO:PolicyCalendar@icann.org
ATTENDEE;ROLE=REQ-PARTICIPANT;PARTSTAT=NEEDS-ACTION;RSVP=TRUE;CN=cpwg@icann
 .org:MAILTO:cpwg@icann.org
ATTENDEE;ROLE=REQ-PARTICIPANT;PARTSTAT=NEEDS-ACTION;RSVP=TRUE;CN=Heidi Ullr
 ich:MAILTO:Heidi.Ullrich@icann.org
ATTENDEE;ROLE=REQ-PARTICIPANT;PARTSTAT=NEEDS-ACTION;RSVP=TRUE;CN=Gisella Gr
 uber:MAILTO:Gisella.Gruber@icann.org
ATTENDEE;ROLE=REQ-PARTICIPANT;PARTSTAT=NEEDS-ACTION;RSVP=TRUE;CN=Silvia Viv
 anco:MAILTO:silvia.vivanco@icann.org
ATTENDEE;ROLE=REQ-PARTICIPANT;PARTSTAT=NEEDS-ACTION;RSVP=TRUE;CN=Evin Erdog
 du:MAILTO:evin.erdogdu@icann.org
ATTENDEE;ROLE=REQ-PARTICIPANT;PARTSTAT=NEEDS-ACTION;RSVP=TRUE;CN=Claudia Ru
 iz:MAILTO:claudia.ruiz@icann.org
ATTENDEE;ROLE=REQ-PARTICIPANT;PARTSTAT=NEEDS-ACTION;RSVP=TRUE;CN=Michelle D
 eSmyter:MAILTO:michelle.desmyter@icann.org
ATTENDEE;ROLE=REQ-PARTICIPANT;PARTSTAT=NEEDS-ACTION;RSVP=TRUE;CN=Yesim Nazl
 ar:MAILTO:yesim.nazlar@icann.org
ATTENDEE;ROLE=REQ-PARTICIPANT;PARTSTAT=NEEDS-ACTION;RSVP=TRUE;CN=roberto@ga
 etano.org:MAILTO:roberto@gaetano.org
ATTENDEE;ROLE=REQ-PARTICIPANT;PARTSTAT=NEEDS-ACTION;RSVP=TRUE;CN=Herb Waye:
 MAILTO:herb.waye@icann.org
ATTENDEE;ROLE=REQ-PARTICIPANT;PARTSTAT=NEEDS-ACTION;RSVP=TRUE;CN=Fahd Batay
 neh:MAILTO:fahd.batayneh@icann.org
ATTENDEE;ROLE=REQ-PARTICIPANT;PARTSTAT=NEEDS-ACTION;RSVP=TRUE;CN=Christina 
 Rodriguez:MAILTO:christina.rodriguez@icann.org
ATTENDEE;ROLE=REQ-PARTICIPANT;PARTSTAT=NEEDS-ACTION;RSVP=TRUE;CN=alberto@so
 to.net.ar:MAILTO:alberto@soto.net.ar
ATTENDEE;ROLE=REQ-PARTICIPANT;PARTSTAT=NEEDS-ACTION;RSVP=TRUE;CN=Rodrigo de
  la Parra:MAILTO:rodrigo.delaparra@icann.org
ATTENDEE;ROLE=REQ-PARTICIPANT;PARTSTAT=NEEDS-ACTION;RSVP=TRUE;CN=matthias@h
 udobnik.at:MAILTO:matthias@hudobnik.at
ATTENDEE;ROLE=REQ-PARTICIPANT;PARTSTAT=NEEDS-ACTION;RSVP=TRUE;CN=Hadia@tra.
 gov.eg:MAILTO:Hadia@tra.gov.eg
ATTENDEE;ROLE=REQ-PARTICIPANT;PARTSTAT=NEEDS-ACTION;RSVP=TRUE;CN=ICANN At-L
 arge Staff:MAILTO:staff@atlarge.icann.org
ATTENDEE;ROLE=REQ-PARTICIPANT;PARTSTAT=NEEDS-ACTION;RSVP=TRUE;CN=lena.plexi
 da@icann.org:MAILTO:lena.plexida@icann.org
ATTENDEE;ROLE=REQ-PARTICIPANT;PARTSTAT=NEEDS-ACTION;RSVP=TRUE;CN=dplumb@cbi
 .org:MAILTO:dplumb@cbi.org
ATTENDEE;ROLE=REQ-PARTICIPANT;PARTSTAT=NEEDS-ACTION;RSVP=TRUE;CN=mbrik@nic.
 ru:MAILTO:mbrik@nic.ru
ATTENDEE;ROLE=REQ-PARTICIPANT;PARTSTAT=NEEDS-ACTION;RSVP=TRUE;CN=myaguero@m
 sn.com:MAILTO:myaguero@msn.com
ATTENDEE;ROLE=REQ-PARTICIPANT;PARTSTAT=NEEDS-ACTION;RSVP=TRUE;CN=ephraim@ar
 ticle19.org:MAILTO:ephraim@article19.org
ATTENDEE;ROLE=REQ-PARTICIPANT;PARTSTAT=NEEDS-ACTION;RSVP=TRUE;CN=AMack@amgl
 obal.com:MAILTO:AMack@amglobal.com
ATTENDEE;ROLE=REQ-PARTICIPANT;PARTSTAT=NEEDS-ACTION;RSVP=TRUE;CN=mritachoud
 hury8@gmail.com:MAILTO:mritachoudhury8@gmail.com
ATTENDEE;ROLE=REQ-PARTICIPANT;PARTSTAT=NEEDS-ACTION;RSVP=TRUE;CN=dave@kmpgl
 obal.com:MAILTO:dave@kmpglobal.com
ATTENDEE;ROLE=REQ-PARTICIPANT;PARTSTAT=NEEDS-ACTION;RSVP=TRUE;CN=bukkiephar
 worley@gmail.com:MAILTO:bukkiepharworley@gmail.com
ATTENDEE;ROLE=REQ-PARTICIPANT;PARTSTAT=NEEDS-ACTION;RSVP=TRUE;CN=beatblam@h
 otmail.com:MAILTO:beatblam@hotmail.com
ATTENDEE;ROLE=REQ-PARTICIPANT;PARTSTAT=NEEDS-ACTION;RSVP=TRUE;CN=lac-discus
 s-en@atlarge-lists.icann.org:MAILTO:lac-discuss-en@atlarge-lists.icann.org
ATTENDEE;ROLE=REQ-PARTICIPANT;PARTSTAT=NEEDS-ACTION;RSVP=TRUE;CN=atlasiiipa
 rticipants@icann.org:MAILTO:atlasiiiparticipants@icann.org
ATTENDEE;ROLE=REQ-PARTICIPANT;PARTSTAT=NEEDS-ACTION;RSVP=TRUE;CN=amritachou
 dhury8@gmail.com:MAILTO:amritachoudhury8@gmail.com
ATTENDEE;ROLE=REQ-PARTICIPANT;PARTSTAT=NEEDS-ACTION;RSVP=TRUE;CN=joanna_kul
 esza@wpia.uni.lodz.pl:MAILTO:joanna_kulesza@wpia.uni.lodz.pl
ATTENDEE;ROLE=REQ-PARTICIPANT;PARTSTAT=NEEDS-ACTION;RSVP=TRUE;CN=Albert Dan
 iels:MAILTO:albert.daniels@icann.org
ATTENDEE;ROLE=REQ-PARTICIPANT;PARTSTAT=NEEDS-ACTION;RSVP=TRUE;CN=vanda@scar
 tezini.org:MAILTO:vanda@scartezini.org
ATTENDEE;ROLE=REQ-PARTICIPANT;PARTSTAT=NEEDS-ACTION;RSVP=TRUE;CN=judith@jhe
 llerstein.com:MAILTO:judith@jhellerstein.com
ATTENDEE;ROLE=REQ-PARTICIPANT;PARTSTAT=NEEDS-ACTION;RSVP=TRUE;CN=joanhopek@
 gmail.com:MAILTO:joanhopek@gmail.com
ATTENDEE;ROLE=REQ-PARTICIPANT;PARTSTAT=NEEDS-ACTION;RSVP=TRUE;CN=mamattah.r
 aymond@gmail.com:MAILTO:mamattah.raymond@gmail.com
ATTENDEE;ROLE=REQ-PARTICIPANT;PARTSTAT=NEEDS-ACTION;RSVP=TRUE;CN=zak@muscov
 itch.com:MAILTO:zak@muscovitch.com
ATTENDEE;ROLE=REQ-PARTICIPANT;PARTSTAT=NEEDS-ACTION;RSVP=TRUE;CN=hakkrist@g
 mail.com:MAILTO:hakkrist@gmail.com
ATTENDEE;ROLE=REQ-PARTICIPANT;PARTSTAT=NEEDS-ACTION;RSVP=TRUE;CN=priyatoshj
 ana@gmail.com:MAILTO:priyatoshjana@gmail.com
ATTENDEE;ROLE=REQ-PARTICIPANT;PARTSTAT=NEEDS-ACTION;RSVP=TRUE;CN=chokribr@g
 mail.com:MAILTO:chokribr@gmail.com
DESCRIPTION;LANGUAGE=en-US:***If you require a dial out or need to state an
  apology\, please contact At-Large staff at staff@atlarge.icann.org<mailto
 :staff@atlarge.icann.org> with your preferred number***\n\n\n\n\n\nDear Al
 l\,\n\n\n\nThe next At-Large Consolidated Policy Working Group (CPWG) Call
  is scheduled for Wednesday\, 10 March 2021 at 17:00 UTC for 90 mins.\n\n\
 n\nFor other times: https://tinyurl.com/xpfa97nz\n\n\nThe agenda (to be up
 dated) and call details can be found at: https://community.icann.org/x/HoK
 BCQ\n\n\n\n Zoom Room: https://icann.zoom.us/j/765717566?pwd=UTJCdWRSZVdJN
 EhOYW02OVBqQVQ1Zz09/ Passcode: #CPWG2345*\n\n\n\n\nReal time transcription
  (RTT) available at (subject to availability): https://www.streamtext.net/
 player?event=ICANN [streamtext.net] [streamtext.net]<https://urldefense.co
 m/v3/__https:/www.streamtext.net/player?event=ICANN*20*5bstreamtext.net*5d
 __\;JSUl!!PtGJab4!oC0Tdx0Gd0KKjTpxYPQ5bQ2G2L2xuGyr_Z5PoqKMeUIxn0rvdv4JEfbk
 FJFhZNkVjcdOVb4Z2nys$>\n\n\n\n\n\nADIGO Conference Bridge:\n\nEN: 1638\n\n
 (There will not be interpretation)\n\n\n\nToll-free access number (US and 
 Canada): 800 550 6865\n\n\n\nOther toll-free numbers: https://www.adigo.co
 m/icann [adigo.com]<https://urldefense.proofpoint.com/v2/url?u=https-3A__w
 ww.adigo.com_icann&d=DwMFAw&c=FmY1u3PJp6wrcrwll3mSVzgfkbPSS6sJms7xcl4I5cM&
 r=8_WhWIPqsLT6TmF1Zmyci866vcPSFO4VShFqESGe_5iHWGlBLwwwehFBfjrsjWv9&m=v_dW7
 H6jSlA9nOi38W8-O0NNugHRJaIXFir99n2INTw&s=2UDiAMNbva1Qtvc7Gxe4uYEmKjLJ0Ue93
 B3VR6GVJPw&e=>\n\n\n\nAt-Large Consolidated Policy Working Group (CPWG) Wi
 ki Space:https://community.icann.org/x/jYDpB\n\n\n\nIf you require a dial-
 out please contact At-Large staff at: staff@atlarge.icann.org<mailto:staff
 @atlarge.icann.org>\n\n\n\n\n\nThank you.\n\nKind Regards\,\n\n\n\nAt-Larg
 e Staff\n\nICANN Policy Staff in support of the At-Large Community\n\nWebs
 ite: atlarge.icann.org [atlarge.icann.org]<https://urldefense.com/v3/__htt
 ps:/atlarge.icann.org/__\;!!PtGJab4!oFDrFMfw8jcjbiOENoZWHopXy8rfZTOTGMshqK
 H1tB-ybt4i4Zew7NIWrlmNODxdPGi3M3lgXw$>\n\nFacebook: facebook.com/icann [fa
 cebook.com]<https://urldefense.com/v3/__https:/www.facebook.com/icannatlar
 ge__\;!!PtGJab4!oFDrFMfw8jcjbiOENoZWHopXy8rfZTOTGMshqKH1tB-ybt4i4Zew7NIWrl
 mNODxdPGgTFL9A8Q$>atlarge [facebook.com]<https://urldefense.com/v3/__https
 :/www.facebook.com/icannatlarge__\;!!PtGJab4!oFDrFMfw8jcjbiOENoZWHopXy8rfZ
 TOTGMshqKH1tB-ybt4i4Zew7NIWrlmNODxdPGgTFL9A8Q$>\n\nTwitter: @ [twitter.com
 ]<https://urldefense.com/v3/__https:/twitter.com/ICANNAtLarge__\;!!PtGJab4
 !oFDrFMfw8jcjbiOENoZWHopXy8rfZTOTGMshqKH1tB-ybt4i4Zew7NIWrlmNODxdPGidRNUXk
 g$>ICANNAtLarge [twitter.com]<https://urldefense.com/v3/__https:/twitter.c
 om/ICANNAtLarge__\;!!PtGJab4!oFDrFMfw8jcjbiOENoZWHopXy8rfZTOTGMshqKH1tB-yb
 t4i4Zew7NIWrlmNODxdPGidRNUXkg$>\n\n\n\n\n\n\n\n\n\n\n\n\n\n
UID:040000008200E00074C5B7101A82E008000000007B9F42CF8810D701000000000000000
 0100000005280A14FE8CFA34B8A1EE62D50E3DF74
SUMMARY;LANGUAGE=en-US:At-Large Consolidated Policy Working Group (CPWG) Ca
 ll
DTSTART;TZID="(UTC-06:00) Central Time (US & Canada)":20210310T110000
DTEND;TZID="(UTC-06:00) Central Time (US & Canada)":20210310T123000
CLASS:PUBLIC
PRIORITY:5
DTSTAMP:20210303T235621Z
TRANSP:OPAQUE
STATUS:CONFIRMED
SEQUENCE:0
LOCATION;LANGUAGE=en-US:17:00 UTC - ADIGO EN:1638  - https://icann.zoom.us/
 j/765717566?pwd=UTJCdWRSZVdJNEhOYW02OVBqQVQ1Zz09
X-MICROSOFT-CDO-APPT-SEQUENCE:0
X-MICROSOFT-CDO-OWNERAPPTID:2119375995
X-MICROSOFT-CDO-BUSYSTATUS:TENTATIVE
X-MICROSOFT-CDO-INTENDEDSTATUS:BUSY
X-MICROSOFT-CDO-ALLDAYEVENT:FALSE
X-MICROSOFT-CDO-IMPORTANCE:1
X-MICROSOFT-CDO-INSTTYPE:0
X-MICROSOFT-DONOTFORWARDMEETING:FALSE
X-MICROSOFT-DISALLOW-COUNTER:FALSE
BEGIN:VALARM
DESCRIPTION:REMINDER
TRIGGER;RELATED=START:-PT15M
ACTION:DISPLAY
END:VALARM
X-MICROSOFT-LOCATIONDISPLAYNAME:17:00 UTC - ADIGO EN:1638  - https://icann.
 zoom.us/j/765717566?pwd=UTJCdWRSZVdJNEhOYW02OVBqQVQ1Zz09
X-MICROSOFT-LOCATIONSOURCE:None
END:VEVENT
END:VCALENDAR
