BEGIN:VCALENDAR
METHOD:REQUEST
PRODID:Microsoft Exchange Server 2010
VERSION:2.0
BEGIN:VTIMEZONE
TZID:UTC
BEGIN:STANDARD
DTSTART:16010101T000000
TZOFFSETFROM:+0000
TZOFFSETTO:+0000
END:STANDARD
BEGIN:DAYLIGHT
DTSTART:16010101T000000
TZOFFSETFROM:+0000
TZOFFSETTO:+0000
END:DAYLIGHT
END:VTIMEZONE
BEGIN:VEVENT
ORGANIZER;CN=ICANN Policy Calendar:MAILTO:PolicyCalendar@icann.org
ATTENDEE;ROLE=REQ-PARTICIPANT;PARTSTAT=NEEDS-ACTION;RSVP=FALSE;CN=Heidi Ull
 rich:MAILTO:Heidi.Ullrich@icann.org
ATTENDEE;ROLE=REQ-PARTICIPANT;PARTSTAT=NEEDS-ACTION;RSVP=FALSE;CN=Silvia Vi
 vanco:MAILTO:silvia.vivanco@icann.org
ATTENDEE;ROLE=REQ-PARTICIPANT;PARTSTAT=NEEDS-ACTION;RSVP=FALSE;CN=Gisella G
 ruber:MAILTO:Gisella.Gruber@icann.org
ATTENDEE;ROLE=REQ-PARTICIPANT;PARTSTAT=NEEDS-ACTION;RSVP=FALSE;CN=Evin Erdo
 gdu:MAILTO:evin.erdogdu@icann.org
ATTENDEE;ROLE=REQ-PARTICIPANT;PARTSTAT=NEEDS-ACTION;RSVP=FALSE;CN=Yesim Naz
 lar:MAILTO:yesim.nazlar@icann.org
ATTENDEE;ROLE=REQ-PARTICIPANT;PARTSTAT=NEEDS-ACTION;RSVP=FALSE;CN=Claudia R
 uiz:MAILTO:claudia.ruiz@icann.org
ATTENDEE;ROLE=REQ-PARTICIPANT;PARTSTAT=NEEDS-ACTION;RSVP=FALSE;CN=Michelle 
 DeSmyter:MAILTO:michelle.desmyter@icann.org
ATTENDEE;ROLE=REQ-PARTICIPANT;PARTSTAT=NEEDS-ACTION;RSVP=FALSE;CN=cpwg@ican
 n.org:MAILTO:cpwg@icann.org
ATTENDEE;ROLE=REQ-PARTICIPANT;PARTSTAT=NEEDS-ACTION;RSVP=FALSE;CN=atlasiiip
 articipants@icann.org:MAILTO:atlasiiiparticipants@icann.org
ATTENDEE;ROLE=REQ-PARTICIPANT;PARTSTAT=NEEDS-ACTION;RSVP=FALSE;CN=Sabrina M
 osquera:MAILTO:sabrina.mosquera@icann.org
ATTENDEE;ROLE=REQ-PARTICIPANT;PARTSTAT=NEEDS-ACTION;RSVP=FALSE;CN=lac-discu
 ss-en@atlarge-lists.icann.org:MAILTO:lac-discuss-en@atlarge-lists.icann.or
 g
ATTENDEE;ROLE=REQ-PARTICIPANT;PARTSTAT=NEEDS-ACTION;RSVP=FALSE;CN=jamie@ala
 carteconnection.com:MAILTO:jamie@alacarteconnection.com
ATTENDEE;ROLE=REQ-PARTICIPANT;PARTSTAT=NEEDS-ACTION;RSVP=FALSE;CN=beatblam@
 hotmail.com:MAILTO:beatblam@hotmail.com
ATTENDEE;ROLE=REQ-PARTICIPANT;PARTSTAT=NEEDS-ACTION;RSVP=FALSE;CN=roberto_g
 aetano@hotmail.com:MAILTO:roberto_gaetano@hotmail.com
ATTENDEE;ROLE=REQ-PARTICIPANT;PARTSTAT=NEEDS-ACTION;RSVP=FALSE;CN=Herb Waye
 :MAILTO:herb.waye@icann.org
ATTENDEE;ROLE=REQ-PARTICIPANT;PARTSTAT=NEEDS-ACTION;RSVP=FALSE;CN=dave@kmpg
 lobal.com:MAILTO:dave@kmpglobal.com
ATTENDEE;ROLE=REQ-PARTICIPANT;PARTSTAT=NEEDS-ACTION;RSVP=FALSE;CN=amritacho
 udhury8@gmail.com:MAILTO:amritachoudhury8@gmail.com
ATTENDEE;ROLE=REQ-PARTICIPANT;PARTSTAT=NEEDS-ACTION;RSVP=FALSE;CN=Fahd Bata
 yneh:MAILTO:fahd.batayneh@icann.org
ATTENDEE;ROLE=REQ-PARTICIPANT;PARTSTAT=NEEDS-ACTION;RSVP=FALSE;CN=AMack@amg
 lobal.com:MAILTO:AMack@amglobal.com
ATTENDEE;ROLE=REQ-PARTICIPANT;PARTSTAT=NEEDS-ACTION;RSVP=FALSE;CN=Christina
  Rodriguez:MAILTO:christina.rodriguez@icann.org
ATTENDEE;ROLE=REQ-PARTICIPANT;PARTSTAT=NEEDS-ACTION;RSVP=FALSE;CN=ephraim@a
 rticle19.org:MAILTO:ephraim@article19.org
ATTENDEE;ROLE=REQ-PARTICIPANT;PARTSTAT=NEEDS-ACTION;RSVP=FALSE;CN=sotorolda
 n@outlook.com.ar:MAILTO:sotoroldan@outlook.com.ar
ATTENDEE;ROLE=REQ-PARTICIPANT;PARTSTAT=NEEDS-ACTION;RSVP=FALSE;CN=gordontc@
 gmail.com:MAILTO:gordontc@gmail.com
ATTENDEE;ROLE=REQ-PARTICIPANT;PARTSTAT=NEEDS-ACTION;RSVP=FALSE;CN=Rodrigo d
 e la Parra:MAILTO:rodrigo.delaparra@icann.org
ATTENDEE;ROLE=REQ-PARTICIPANT;PARTSTAT=NEEDS-ACTION;RSVP=FALSE;CN=myaguero@
 msn.com:MAILTO:myaguero@msn.com
ATTENDEE;ROLE=REQ-PARTICIPANT;PARTSTAT=NEEDS-ACTION;RSVP=FALSE;CN=mbrik@nic
 .ru:MAILTO:mbrik@nic.ru
ATTENDEE;ROLE=REQ-PARTICIPANT;PARTSTAT=NEEDS-ACTION;RSVP=FALSE;CN=matthias@
 hudobnik.at:MAILTO:matthias@hudobnik.at
ATTENDEE;ROLE=REQ-PARTICIPANT;PARTSTAT=NEEDS-ACTION;RSVP=FALSE;CN=dplumb@cb
 i.org:MAILTO:dplumb@cbi.org
ATTENDEE;ROLE=REQ-PARTICIPANT;PARTSTAT=NEEDS-ACTION;RSVP=FALSE;CN=Hadia@tra
 .gov.eg:MAILTO:Hadia@tra.gov.eg
ATTENDEE;ROLE=REQ-PARTICIPANT;PARTSTAT=NEEDS-ACTION;RSVP=FALSE;CN=Maria Vil
 ardo:MAILTO:maria.vilardo@icann.org
ATTENDEE;ROLE=REQ-PARTICIPANT;PARTSTAT=NEEDS-ACTION;RSVP=FALSE;CN=rod@rodra
 smussen.com:MAILTO:rod@rodrasmussen.com
ATTENDEE;ROLE=REQ-PARTICIPANT;PARTSTAT=NEEDS-ACTION;RSVP=FALSE;CN=Graeme Bu
 nton:MAILTO:Graeme@dnsabuseinstitute.org
ATTENDEE;ROLE=REQ-PARTICIPANT;PARTSTAT=NEEDS-ACTION;RSVP=FALSE;CN=Camila Oe
 yen:MAILTO:oeyen.inteam.icann@gmail.com
ATTENDEE;ROLE=REQ-PARTICIPANT;PARTSTAT=NEEDS-ACTION;RSVP=FALSE;CN=Aurelie P
 inzon:MAILTO:pinzon.inteam.icann@gmail.com
ATTENDEE;ROLE=REQ-PARTICIPANT;PARTSTAT=NEEDS-ACTION;RSVP=FALSE;CN=Vanda Sca
 rtezini:MAILTO:vanda@scartezini.org
ATTENDEE;ROLE=REQ-PARTICIPANT;PARTSTAT=NEEDS-ACTION;RSVP=FALSE;CN=Albert Da
 niels:MAILTO:albert.daniels@icann.org
ATTENDEE;ROLE=REQ-PARTICIPANT;PARTSTAT=NEEDS-ACTION;RSVP=FALSE;CN=Jonathan 
 Zuck:MAILTO:JZuck@innovatorsnetwork.org
ATTENDEE;ROLE=REQ-PARTICIPANT;PARTSTAT=NEEDS-ACTION;RSVP=FALSE;CN=joanhopek
 @gmail.com:MAILTO:joanhopek@gmail.com
ATTENDEE;ROLE=REQ-PARTICIPANT;PARTSTAT=NEEDS-ACTION;RSVP=FALSE;CN=mail@chri
 stopherwilkinson.eu CW:MAILTO:mail@christopherwilkinson.eu
ATTENDEE;ROLE=REQ-PARTICIPANT;PARTSTAT=NEEDS-ACTION;RSVP=FALSE;CN=dndannang
 @gmail.com:MAILTO:dndannang@gmail.com
ATTENDEE;ROLE=REQ-PARTICIPANT;PARTSTAT=NEEDS-ACTION;RSVP=FALSE;CN=chokribr@
 gmail.com:MAILTO:chokribr@gmail.com
ATTENDEE;ROLE=REQ-PARTICIPANT;PARTSTAT=NEEDS-ACTION;RSVP=FALSE;CN=Michele N
 eylon - Blacknight:MAILTO:michele@blacknight.com
ATTENDEE;ROLE=REQ-PARTICIPANT;PARTSTAT=NEEDS-ACTION;RSVP=FALSE;CN=lonergan@
 donuts.email:MAILTO:lonergan@donuts.email
ATTENDEE;ROLE=REQ-PARTICIPANT;PARTSTAT=NEEDS-ACTION;RSVP=FALSE;CN=Penelas I
 CANN:MAILTO:penelas.inteam.icann@gmail.com
ATTENDEE;ROLE=REQ-PARTICIPANT;PARTSTAT=NEEDS-ACTION;RSVP=FALSE;CN=Skok ICAN
 N:MAILTO:skok.inteam.icann@gmail.com
ATTENDEE;ROLE=REQ-PARTICIPANT;PARTSTAT=NEEDS-ACTION;RSVP=FALSE;CN=Joanna Ku
 lesza:MAILTO:joanna_kulesza@wpia.uni.lodz.pl
ATTENDEE;ROLE=REQ-PARTICIPANT;PARTSTAT=NEEDS-ACTION;RSVP=FALSE;CN=John Lapr
 ise:MAILTO:jlaprise@gmail.com
ATTENDEE;ROLE=REQ-PARTICIPANT;PARTSTAT=NEEDS-ACTION;RSVP=FALSE;CN=Sergio Sa
 linas Porto:MAILTO:presidencia@internauta.org.ar
ATTENDEE;ROLE=REQ-PARTICIPANT;PARTSTAT=NEEDS-ACTION;RSVP=FALSE;CN=Steve Cha
 n:MAILTO:steve.chan@icann.org
ATTENDEE;ROLE=REQ-PARTICIPANT;PARTSTAT=NEEDS-ACTION;RSVP=FALSE;CN=langdonor
 r@gmail.com:MAILTO:langdonorr@gmail.com
ATTENDEE;ROLE=REQ-PARTICIPANT;PARTSTAT=NEEDS-ACTION;RSVP=FALSE;CN=sana.pryh
 od@gmail.com:MAILTO:sana.pryhod@gmail.com
ATTENDEE;ROLE=REQ-PARTICIPANT;PARTSTAT=NEEDS-ACTION;RSVP=FALSE;CN=gregshata
 nalac@gmail.com:MAILTO:gregshatanalac@gmail.com
ATTENDEE;ROLE=REQ-PARTICIPANT;PARTSTAT=NEEDS-ACTION;RSVP=FALSE;CN=Judith He
 llerstein:MAILTO:judith@jhellerstein.com
ATTENDEE;ROLE=REQ-PARTICIPANT;PARTSTAT=NEEDS-ACTION;RSVP=FALSE;CN=Rosa DELG
 ADO:MAILTO:rosa@delgado.aero
DESCRIPTION;LANGUAGE=en-US:***If you require a dial out or need to state an
  apology\, please contact At-Large staff at staff@atlarge.icann.org with y
 our preferred number***\n\n\n\n\n&nbsp\;Dear All\,\n\nThe next At-Large Co
 nsolidated Policy Working Group (CPWG) Call is scheduled for Wednesday\, 2
 1 April 2021 at 19:00 UTC for 90 mins.&nbsp\;&nbsp\;\n\nFor other times:&n
 bsp\; https://tinyurl.com/uk52h35k\n\nThe agenda (to be updated) and call 
 details can be found at:&nbsp\;https://community.icann.org/x/XQSlCQ\n\n&nb
 sp\;Zoom Room:&nbsp\;https://icann.zoom.us/j/765717566?pwd=UTJCdWRSZVdJNEh
 OYW02OVBqQVQ1Zz09/&nbsp\;Passcode: #CPWG2345*\n\nReal time transcription (
 RTT) available at (subject to availability):&nbsp\;https://www.streamtext.
 net/player?event=ICANN&nbsp\;[streamtext.net] [streamtext.net]\n\n&nbsp\;\
 n\nADIGO Conference Bridge:\n\nEN: 1638\n\nES: 1738\n\nFR: 1838\n\n\n\nTol
 l-free access number (US and Canada): 800 550 686\n\nOther toll-free numbe
 rs:&nbsp\;https://www.adigo.com/icann&nbsp\;[adigo.com]\n\nAt-Large Consol
 idated Policy Working Group (CPWG) Wiki Space:https://community.icann.org/
 x/jYDpB\n\nIf you require a dial-out please contact At-Large staff at: sta
 ff@atlarge.icann.org\n\n&nbsp\;\n\nThank you.\n\nKind Regards\,\n\n&nbsp\;
 \n\nAt-Large Staff\n\nICANN Policy Staff in support of the At-Large Commun
 ity\n\nWebsite: atlarge.icann.org [atlarge.icann.org]\n\nFacebook: faceboo
 k.com/icann [facebook.com]atlarge [facebook.com]\n\nTwitter: @ [twitter.co
 m]ICANNAtLarge [twitter.com]\n\n&nbsp\;\n\n&nbsp\;\n\n&nbsp\;\n\n&nbsp\;\n
 \n&nbsp\;\n\n\n\n\n\n\n\n&nbsp\;\n
UID:CD5AF14B-38C8-46CF-93C2-65310A91BB07
SUMMARY;LANGUAGE=en-US:At-Large Consolidated Policy Working Group (CPWG) Ca
 ll 
DTSTART;TZID=UTC:20210421T190000
DTEND;TZID=UTC:20210421T203000
CLASS:PUBLIC
PRIORITY:5
DTSTAMP:20210414T162048Z
TRANSP:OPAQUE
STATUS:CONFIRMED
SEQUENCE:0
LOCATION;LANGUAGE=en-US:19:00 UTC - ADIGO EN:1638 ES:1738 FR: 1838 - https:
 //icann.zoom.us/j/765717566?pwd=UTJCdWRSZVdJNEhOYW02OVBqQVQ1Zz09
X-MICROSOFT-CDO-APPT-SEQUENCE:0
X-MICROSOFT-CDO-OWNERAPPTID:2119462923
X-MICROSOFT-CDO-BUSYSTATUS:TENTATIVE
X-MICROSOFT-CDO-INTENDEDSTATUS:BUSY
X-MICROSOFT-CDO-ALLDAYEVENT:FALSE
X-MICROSOFT-CDO-IMPORTANCE:1
X-MICROSOFT-CDO-INSTTYPE:0
X-MICROSOFT-DONOTFORWARDMEETING:FALSE
X-MICROSOFT-DISALLOW-COUNTER:TRUE
BEGIN:VALARM
DESCRIPTION:REMINDER
TRIGGER;RELATED=START:-PT15M
ACTION:DISPLAY
END:VALARM
END:VEVENT
END:VCALENDAR
