BEGIN:VCALENDAR
METHOD:CANCEL
PRODID:Microsoft Exchange Server 2010
VERSION:2.0
BEGIN:VTIMEZONE
TZID:America/Denver
BEGIN:STANDARD
DTSTART:16010101T020000
TZOFFSETFROM:-0600
TZOFFSETTO:-0700
RRULE:FREQ=YEARLY;INTERVAL=1;BYDAY=1SU;BYMONTH=11
END:STANDARD
BEGIN:DAYLIGHT
DTSTART:16010101T020000
TZOFFSETFROM:-0700
TZOFFSETTO:-0600
RRULE:FREQ=YEARLY;INTERVAL=1;BYDAY=2SU;BYMONTH=3
END:DAYLIGHT
END:VTIMEZONE
BEGIN:VEVENT
ORGANIZER;CN=Troy Harwood-Jones:MAILTO:troy@harwoodjones.com
ATTENDEE;ROLE=REQ-PARTICIPANT;PARTSTAT=NEEDS-ACTION;RSVP=FALSE;CN='Bc GNSO 
 list ' (bc-gnso@icann.org):MAILTO:bc-gnso@icann.org
ATTENDEE;ROLE=REQ-PARTICIPANT;PARTSTAT=NEEDS-ACTION;RSVP=FALSE;CN="Boam, Chr
 istopher P (Chris)":MAILTO:chris.boam@verizon.com
ATTENDEE;ROLE=REQ-PARTICIPANT;PARTSTAT=NEEDS-ACTION;RSVP=FALSE;CN=Bryce Cou
 ghlin:MAILTO:Bryce.Coughlin@fox.com
ATTENDEE;ROLE=REQ-PARTICIPANT;PARTSTAT=NEEDS-ACTION;RSVP=FALSE;CN=Camille S
 tewart:MAILTO:cstewart@Cyveillance.com
ATTENDEE;ROLE=REQ-PARTICIPANT;PARTSTAT=NEEDS-ACTION;RSVP=FALSE;CN=Chris Cha
 plow:MAILTO:chris@andalucia.com
ATTENDEE;ROLE=REQ-PARTICIPANT;PARTSTAT=NEEDS-ACTION;RSVP=FALSE;CN=Elizabeth
  Sweezey:MAILTO:liz.sweezey@fairwindspartners.com
ATTENDEE;ROLE=REQ-PARTICIPANT;PARTSTAT=NEEDS-ACTION;RSVP=FALSE;CN="Fares, Da
 vid":MAILTO:DFares@newscorp.com
ATTENDEE;ROLE=REQ-PARTICIPANT;PARTSTAT=NEEDS-ACTION;RSVP=FALSE;CN=Glen de S
 aint Géry:MAILTO:Glen@icann.org
ATTENDEE;ROLE=REQ-PARTICIPANT;PARTSTAT=NEEDS-ACTION;RSVP=FALSE;CN=HASSAN Ay
 esha:MAILTO:aha@iccwbo.org
ATTENDEE;ROLE=REQ-PARTICIPANT;PARTSTAT=NEEDS-ACTION;RSVP=FALSE;CN="Hansen, A
 njali":MAILTO:AHansen@council.bbb.org
ATTENDEE;ROLE=REQ-PARTICIPANT;PARTSTAT=NEEDS-ACTION;RSVP=FALSE;CN=Mark.A.Sl
 oan@wellsfargo.com:MAILTO:Mark.A.Sloan@wellsfargo.com
ATTENDEE;ROLE=REQ-PARTICIPANT;PARTSTAT=NEEDS-ACTION;RSVP=FALSE;CN=Phil Corw
 in:MAILTO:psc@vlaw-dc.com
ATTENDEE;ROLE=REQ-PARTICIPANT;PARTSTAT=NEEDS-ACTION;RSVP=FALSE;CN=Phil Lodi
 co:MAILTO:phil.lodico@fairwindspartners.com
ATTENDEE;ROLE=REQ-PARTICIPANT;PARTSTAT=NEEDS-ACTION;RSVP=FALSE;CN=Steve Del
 Bianco:MAILTO:sdelbianco@netchoice.org
ATTENDEE;ROLE=REQ-PARTICIPANT;PARTSTAT=NEEDS-ACTION;RSVP=FALSE;CN=Susan Kaw
 aguchi:MAILTO:susank@fb.com
ATTENDEE;ROLE=REQ-PARTICIPANT;PARTSTAT=NEEDS-ACTION;RSVP=FALSE;CN=Tim Smith
 :MAILTO:tim.smith@ciparx.ca
ATTENDEE;ROLE=REQ-PARTICIPANT;PARTSTAT=NEEDS-ACTION;RSVP=FALSE;CN=Zahid Jam
 il:MAILTO:zahid@jamilandjamil.com
ATTENDEE;ROLE=REQ-PARTICIPANT;PARTSTAT=NEEDS-ACTION;RSVP=FALSE;CN=martinsut
 ton@hsbc.com:MAILTO:martinsutton@hsbc.com
DESCRIPTION;LANGUAGE=en-US:BC Member\,\n\n\n\nPlease attend this meeting fo
 r an update on the progress of the three Working Groups.\n\n\n\nThe purpos
 e of this call is to review the status of the Working Groups.\n\n\n\n  1. 
  Working Group #1 led by J. Scott Evans – Discussion to be led by Steve 
 DelBianco and others\n\n   *   Focused on Trademark Clearinghouse technica
 l implementation\; Sunrise and Claims extension\; and inclusion of abusive
 ly registered names into the Trademark Clearinghouse\n\n\n\n  2.  Working 
 Group #2 led by Fabricio Vayra\n
SUMMARY;LANGUAGE=en-US:[bc-gnso] Canceled: Update on New gTLD RPM Working G
 roups
DTSTART;TZID=America/Denver:20121025T100000
DTEND;TZID=America/Denver:20121025T110000
UID:040000008200E00074C5B7101A82E0080000000020D4D8229AB0CD01000000000000000
 010000000BD38510A75559F44BB8B20B059FFD914
CLASS:PUBLIC
PRIORITY:5
DTSTAMP:20121024T183149Z
TRANSP:OPAQUE
STATUS:CANCELLED
SEQUENCE:6
LOCATION;LANGUAGE=en-US:Dial-In Details Below
X-MICROSOFT-CDO-APPT-SEQUENCE:6
X-MICROSOFT-CDO-BUSYSTATUS:BUSY
X-MICROSOFT-CDO-INTENDEDSTATUS:BUSY
X-MICROSOFT-CDO-ALLDAYEVENT:FALSE
X-MICROSOFT-CDO-IMPORTANCE:1
X-MICROSOFT-CDO-INSTTYPE:0
X-MICROSOFT-DISALLOW-COUNTER:FALSE
END:VEVENT
END:VCALENDAR
