BEGIN:VCALENDAR
METHOD:REQUEST
PRODID:Microsoft Exchange Server 2010
VERSION:2.0
BEGIN:VTIMEZONE
TZID:Eastern Standard Time
BEGIN:STANDARD
DTSTART:16010101T020000
TZOFFSETFROM:-0400
TZOFFSETTO:-0500
RRULE:FREQ=YEARLY;INTERVAL=1;BYDAY=1SU;BYMONTH=11
END:STANDARD
BEGIN:DAYLIGHT
DTSTART:16010101T020000
TZOFFSETFROM:-0500
TZOFFSETTO:-0400
RRULE:FREQ=YEARLY;INTERVAL=1;BYDAY=2SU;BYMONTH=3
END:DAYLIGHT
END:VTIMEZONE
BEGIN:VEVENT
ORGANIZER;CN=Steve DelBianco:MAILTO:sdelbianco@netchoice.org
ATTENDEE;ROLE=REQ-PARTICIPANT;PARTSTAT=NEEDS-ACTION;RSVP=TRUE;CN=BC List:MA
 ILTO:bc-gnso@icann.org
ATTENDEE;ROLE=REQ-PARTICIPANT;PARTSTAT=NEEDS-ACTION;RSVP=TRUE;CN=Andrea Gla
 ndon:MAILTO:andrea.glandon@icann.org
DESCRIPTION;LANGUAGE=en-US:If you plan to attend in-person in Washington or
  Brussels\, or use Adobe Connect\, RSVP at https://surveys.concep.com/s/20
 11f22192e9e9ed1a7345a963ba220c354eca9f/h=ff003732f997d8d06ad58706084087920
 adc4b09\n\n\nAdobe Connect (AC) Room Call Details\n\nAC Room Link -  https
 ://participate.icann.org/strategicinit/<https://urldefense.proofpoint.com/
 v2/url?u=https-3A__participate.icann.org_strategicinit_&d=DwMGaQ&c=XRWvQHn
 pdBDRh-yzrHjqLpXuHNC_9nanQc6pPG_SpT0&r=6lUxzkhJPN5qts-Nve5TYqxoGjP81z1kCvX
 gsmw-MiQ&m=77xOMOimfrZfWTQD4NvCiErogy9dVDVca7_cU5GtoRA&s=XAQ_7nHCGRxjlpRbG
 X0NG__HUkTQN0GT4im-CsimbPo&e=>\n\nMain Number - 1-605-475-5618  (US Toll)\
 n\nParticipant Code – 5312003584\n\n\n\nFor additional national/internat
 ional access numbers:\n\nhttps://www.myrcplus.com/cnums.asp?bwebid=8369444
 &ppc=5312003584&num=1-605-475-5618<https://urldefense.proofpoint.com/v2/ur
 l?u=https-3A__www.myrcplus.com_cnums.asp-3Fbwebid-3D8369444-26ppc-3D531200
 3584-26num-3D1-2D605-2D475-2D5618&d=DwMGaQ&c=XRWvQHnpdBDRh-yzrHjqLpXuHNC_9
 nanQc6pPG_SpT0&r=6lUxzkhJPN5qts-Nve5TYqxoGjP81z1kCvXgsmw-MiQ&m=77xOMOimfrZ
 fWTQD4NvCiErogy9dVDVca7_cU5GtoRA&s=l38Ux1V40MvDD6rxPGXYLqBzXmX6nD2OU4eIcIW
 K6yY&e=>\n\n\n\n\n
UID:FF73221E-E80D-493E-848A-C22518A2E7EA
SUMMARY;LANGUAGE=en-US:Conversation on Access to WHOIS and Compliance with 
 EU’s GDPR and ICANN Contracts
DTSTART;TZID=Eastern Standard Time:20180124T090000
DTEND;TZID=Eastern Standard Time:20180124T130000
CLASS:PUBLIC
PRIORITY:5
DTSTAMP:20180123T014452Z
TRANSP:OPAQUE
STATUS:CONFIRMED
SEQUENCE:0
LOCATION;LANGUAGE=en-US:700 13th Street NW\, Suite 600\, Washington\, DC   
 --or--   ICANN Brussels\, at 6 Rond-Point Schuman\, B-1040 Brussels\, Belg
 ium 
X-MICROSOFT-CDO-APPT-SEQUENCE:0
X-MICROSOFT-CDO-OWNERAPPTID:2116137490
X-MICROSOFT-CDO-BUSYSTATUS:TENTATIVE
X-MICROSOFT-CDO-INTENDEDSTATUS:BUSY
X-MICROSOFT-CDO-ALLDAYEVENT:FALSE
X-MICROSOFT-CDO-IMPORTANCE:1
X-MICROSOFT-CDO-INSTTYPE:0
X-MICROSOFT-DONOTFORWARDMEETING:FALSE
X-MICROSOFT-DISALLOW-COUNTER:FALSE
X-MICROSOFT-LOCATIONS:[{"DisplayName":"700 13th Street NW\, Suite 600\, Was
 hington\, DC   --or--   ICANN Brussels\, at 6 Rond-Point Schuman\, B-1040 
 Brussels\, Belgium "\,"LocationAnnotation":""\,"LocationUri":""\,"Location
 Street":""\,"LocationCity":""\,"LocationState":""\,"LocationCountry":""\,"
 LocationPostalCode":""\,"LocationFullAddress":""}]
BEGIN:VALARM
DESCRIPTION:REMINDER
TRIGGER;RELATED=START:-PT15M
ACTION:DISPLAY
END:VALARM
END:VEVENT
END:VCALENDAR
