BEGIN:VCALENDAR
VERSION:2.0
PRODID:-//Microsoft Corporation//Outlook for Mac MIMEDIR//EN
METHOD:PUBLISH
BEGIN:VTIMEZONE
TZID:Coordinated Universal Time
X-ENTOURAGE-CFTIMEZONE:UTC
X-ENTOURAGE-TZID:93
BEGIN:STANDARD
TZOFFSETFROM:+0000
TZOFFSETTO:+0000
DTSTART:16010101T000000
END:STANDARD
END:VTIMEZONE
BEGIN:VEVENT
UID:2FA64F1E-4AFB-4D20-8D9B-E13F35911D6E
X-ENTOURAGE_UUID:2FA64F1E-4AFB-4D20-8D9B-E13F35911D6E
X-MICROSOFT-EXCHANGE-ID:AAMkADFlMDNlNjQ5LTNjNTUtNDJkMC04ZTI0LWFiMTFkOTgwND
 JhMQBGAAAAAAAdZPIZTDF9SJl4Q9bAl0gQBwAFskP3JLIoSYZSK2rNBQTXAIjV8WqdAAANV5p2
 g4V9S6g+Ry+Q0bRJAANoXlcHAAA=
X-MICROSOFT-EXCHANGE-CHANGEKEY:DwAAABYAAAANV5p2g4V9S6g+Ry+Q0bRJAANokO6y
DTSTAMP:20180403T201635Z
DTSTART;TZID="Coordinated Universal Time":20180406T140000
DTEND;TZID="Coordinated Universal Time":20180406T160000
LAST-MODIFIED:20180403T201635Z
SUMMARY:Accreditation and Access Model for Non-Public WHOIS Data
DESCRIPTION:Meeting: Accreditation and Access Model for Non-Public WHOIS
  Data Call \n\nDate/time: Friday\, 6 April 2018 at 14:00 UTC for 120
  minutes\n\n\n\n07:00 PDT\, 10:00 EDT\, 16:00 Paris CEST\, 19:00 Karachi
  PKT\, 23:00 Tokyo JST\, (Saturday) 00:00 Melbourne AEST\n\nFor other
  times: https://tinyurl.com/ybj7fkk7\n\nNew Connection Information\n\nNew
  Web conference tool: Webex\n\nPlease join the meeting room here: \n\n1.
  Click here[mytrials.webex.com] to join the online event.\nOr copy and
  paste the following link to a browser:
  \nhttps://mytrials.webex.com/mytrials/onstage/g.php?MTID=ef97af68549ec7e2
 ed65bfd4cf2a5defb\n2. Click "Join Now".\n\n\n\nAudio
  connection:\n\nIt’s possible to connect via Webex VoIP\, but audio
  quality cannot be guaranteed. We recommend you connect to the audio
  bridge with your telephone. \nTo receive a call back\, provide your
  phone number when you join the event\, or call the number below and
  enter the access code.\nUSA Toll\n1-240-454-0879\nShow all global
  call-in numbers\nAccess code: 921 995 866\n\n\n\nIf you require a
  dial-out (do not send to full email group) please send an email request
  with your preferred contact number to ozan.sahin@icann.org\n\n\n\nIf you
  cannot join the WebEx room join via telephone listed
  below.\n\n\n\nPlease let me know if you have any questions.\n\n\n\nThank
  you.\n\nKind regards\,\n\n\n\nOzan
  Sahin\n\n\n\n____________________________________________________________
 __________\n\nParticipant passcode: ACCREDITATION\n\n\n\nDial in
  numbers:\n\n\nCountry Toll Free\nARGENTINA \n0800-777-0519 \nAUSTRALIA
  \nADELAIDE: \n61-8-8121-4842 \n1-800-657-260 \nAUSTRALIA \nBRISBANE:
  \n61-7-3102-0944 \n1-800-657-260 \nAUSTRALIA \nCANBERRA:
  \n61-2-6100-1944 \n1-800-657-260 \nAUSTRALIA \nMELBOURNE:
  \n61-3-9010-7713 \n1-800-657-260 \nAUSTRALIA \nPERTH: \n61-8-9467-5223
  \n1-800-657-260 \nAUSTRALIA \nSYDNEY: \n61-2-8205-8129 \n1-800-657-260
  \nAUSTRIA \n43-1-92-81-113 \n0800-005-259 \nBELGIUM \n32-2-400-9861
  \n0800-3-8795 \nBRAZIL \nRIO DE JANEIRO: \n55-21-40421490 \n0800-7610651
  \nBRAZIL \nSAO PAULO: \n55-11-3958-0779 \n0800-7610651 \nCHILE
  \n1230-020-2863 \nCHINA \nCHINA A: \n86-400-810-4789 \n10800-712-1670
  \nCHINA \nCHINA B: \n86-400-810-4789 \n10800-120-1670 \nCOLOMBIA
  \n01800-9-156474 \nCROATIA \n080-08-06-309 \nCZECH REPUBLIC
  \n420-2-25-98-56-64 \n800-700-177 \nDENMARK \n45-7014-0284 \n8088-8324
  \nEGYPT \n0800000-9029 \nESTONIA \n800-011-1093 \nFINLAND
  \n358-9-5424-7162 \n0-800-9-14610 \nFRANCE \nLYON: \n33-4-26-69-12-85
  \n080-511-1496 \nFRANCE \nMARSEILLE: \n33-4-86-06-00-85 \n080-511-1496
  \nFRANCE \nPARIS: \n33-1-70-70-60-72 \n080-511-1496 \nGERMANY
  \n49-69-2222-20362 \n0800-664-4247 \nGREECE \n30-80-1-100-0687
  \n00800-12-7312 \nHONG KONG \n852-3001-3863 \n800-962-856 \nHUNGARY
  \n36-1-700-8856 \n06-800-12755 \nINDONESIA \n001-803-011-3982 \nIRELAND
  \n353-1-246-7646 \n1800-992-368 \nISRAEL \n1-80-9216162 \nITALY \nMILAN:
  \n39-02-3600-6007 \n800-986-383 \nITALY \nROME: \n39-06-8751-6018
  \n800-986-383 \nITALY \nTORINO: \n39-011-510-0118 \n800-986-383 \nJAPAN
  \nOSAKA: \n81-6-7878-2631 \n0066-33-132439 \nJAPAN \nTOKYO:
  \n81-3-6868-2631 \n0066-33-132439 \nLATVIA \n8000-3185 \nLUXEMBOURG
  \n352-27-000-1364 \n8002-9246 \nMALAYSIA \n1-800-81-3065 \nMEXICO
  \nGUADALAJARA (JAL): \n52-33-3208-7310 \n001-866-376-9696 \nMEXICO
  \nMEXICO CITY: \n52-55-5062-9110 \n001-866-376-9696 \nMEXICO
  \nMONTERREY: \n52-81-2482-0610 \n001-866-376-9696 \nNETHERLANDS
  \n31-20-718-8588 \n0800-023-4378 \nNEW ZEALAND \n64-9-970-4771
  \n0800-447-722 \nNORWAY \n47-21-590-062 \n800-15157 \nPANAMA
  \n011-001-800-5072065 \nPERU \n0800-53713 \nPHILIPPINES \n63-2-858-3716
  \n1800-111-42453 \nPOLAND \n00-800-1212572 \nPORTUGAL \n351-2-10054705
  \n8008-14052 \nROMANIA \n40-31-630-01-79 \nRUSSIA \n8-10-8002-0144011
  \nSAUDI ARABIA \n800-8-110087 \nSINGAPORE \n65-6883-9230 \n800-120-4663
  \nSLOVAK REPUBLIC \n421-2-322-422-25 \n0800-002066 \nSOUTH AFRICA
  \n080-09-80414 \nSOUTH KOREA \n82-2-6744-1083 \n00798-14800-7352 \nSPAIN
  \n34-91-414-25-33 \n800-300-053 \nSWEDEN \n46-8-566-19-348
  \n0200-884-622 \nSWITZERLAND \n41-44-580-6398 \n0800-120-032 \nTAIWAN
  \n886-2-2795-7379 \n00801-137-797 \nTHAILAND \n001-800-1206-66056
  \nTURKEY \n00-800-151-0516 \nUNITED ARAB EMIRATES \n8000-35702370
  \nUNITED KINGDOM \nBIRMINGHAM: \n44-121-210-9025 \n0808-238-6029
  \nUNITED KINGDOM \nGLASGOW: \n44-141-202-3225 \n0808-238-6029 \nUNITED
  KINGDOM \nLEEDS: \n44-113-301-2125 \n0808-238-6029 \nUNITED KINGDOM
  \nLONDON: \n44-20-7108-6370 \n0808-238-6029 \nUNITED KINGDOM
  \nMANCHESTER: \n44-161-601-1425 \n0808-238-6029 \nURUGUAY
  \n000-413-598-3421 \nUSA \n1-517-345-9004 \n866-692-5726 \nVENEZUELA
  \n0800-1-00-3702 \nVIETNAM \n120-11751 \n\n\n\n\n\n\n\n\n
LOCATION:14:00 UTC /
  https://mytrials.webex.com/mytrials/onstage/g.php?MTID=ef97af68549ec7e2ed
 65bfd4cf2a5defb
ORGANIZER:MAILTO:PolicyCalendar@icann.org
SEQUENCE:0
ATTENDEE;ROLE=REQ-PARTICIPANT;RSVP=FALSE;CN="Ozan
  Sahin";PARTSTAT=ACCEPTED:MAILTO:ozan.sahin@icann.org
X-MICROSOFT-CDO-BUSYSTATUS:BUSY
X-MICROSOFT-CDO-ALLDAYEVENT:FALSE
X-MICROSOFT-DISALLOW-COUNTER:FALSE
X-MICROSOFT-CDO-INSTTYPE:0
BEGIN:VALARM
ACTION:DISPLAY
DESCRIPTION:REMINDER
TRIGGER;RELATED=START:-PT00H15M00S
END:VALARM
END:VEVENT
END:VCALENDAR
