BEGIN:VCALENDAR
METHOD:REQUEST
PRODID:Microsoft Exchange Server 2010
VERSION:2.0
BEGIN:VTIMEZONE
TZID:UTC
BEGIN:STANDARD
DTSTART:16010101T000000
TZOFFSETFROM:+0000
TZOFFSETTO:+0000
END:STANDARD
BEGIN:DAYLIGHT
DTSTART:16010101T000000
TZOFFSETFROM:+0000
TZOFFSETTO:+0000
END:DAYLIGHT
END:VTIMEZONE
BEGIN:VEVENT
ORGANIZER;CN=ICANN Policy Calendar;SENT-BY="MAILTO:sdelbianco@netchoice.org":
 MAILTO:PolicyCalendar@icann.org
ATTENDEE;ROLE=REQ-PARTICIPANT;PARTSTAT=NEEDS-ACTION;RSVP=FALSE;CN=BC List:M
 AILTO:bc-gnso@icann.org
ATTACH:CID:7AD1814593EB6049A75FB7780DC434BA@pexch112.icann.org
ATTACH:CID:0BC03A7E79542243B79B8022A88E6DDE@namprd08.prod.outlook.com
DESCRIPTION;LANGUAGE=en-US:Just a reminder about the GDPR/Whois call tomorr
 ow at 10am Eastern/ 14 UTC.\n\nFirst attachment is the calendar item.\n   
    To join by Webex\, go to https://mytrials.webex.com/mytrials/onstage/g.
 php?MTID=ef97af68549ec7e2ed65bfd4cf2a5defb\n      To join by phone\, call 
 1-240-454-0879 in the US\, or see all global call-in numbers here<https://
 mytrials.webex.com/cmp3200/webcomponents/widget/globalcallin/globalcallin.
 do?siteurl=mytrials&serviceType=EC&eventID=660289977&tollFree=0>\n      Ac
 cess code: 921 995 866\n\nSecond attachment is the draft Accreditation mod
 el\, v1.3 (same as what we circulated on 27-Mar)\n\nThird attachment is a 
 summary of comments on v1.3 received over the last 10 days.\n\nOverview\n\
 nThis meeting is intended to be an interactive and collaborative event. Af
 ter 10 minutes of introduction we will begin our substantive discussion of
  implementing an accreditation and access model for non-public Whois data\
 , for 1 hour and 30 minutes.  Please see attached version 1.3 of the model
  and a summary table of the comments.\n\nThe discussion moderator will int
 roduce topics and take a queue for community discourse\, and each person i
 n the queue may ask a question or present a refinement of the solution for
  accreditation and access. Participants will have 2 minutes to make their 
 statement or ask their question\, and the moderator will manage appropriat
 e follow-up (question\, answer\, note for further consideration\, etc.).\n
 \nVolunteers on the model drafting group will chronicle comments\, suggest
 ions and questions and attempt to resolve them in the next draft of the do
 cument (version 1.4).\n\nGround Rules\n\n   *   Criticism is welcome when 
 accompanied by a solution – this is a working session\, and we assume th
 at everyone attending has the good intent to solve the problems identified
  by the Article 29 Working Party\, DPAs\, EU Commissioners\, GAC\, LEA\, C
 ybersecurity\, IP/Consumer Protection and other communities with a legitim
 ate need to use non-public Whois data.\n   *   Time constraints will be st
 rictly enforced. If participants are unable to articulate their issue\, so
 lution or comment in the allotted time they are able to follow-up with an 
 email or document to 3amcomments@gmail.com<mailto:3amcomments@gmail.com>. 
 Input will be publicly archived. When ICANN Org staff creates the necessar
 y archived email address and website\, data will be posted there.\n   *   
 Polite and constructive discourse is welcome\; criticisms without viable\,
  proposed solutions are not constructive.\nAgenda\n\nTime    Subject Leade
 r\n5 Minutes       Welcome and Introduction\n   *   Objective\, Format\,Ti
 me Limits\n        Steve DelBianco\n5 Minutes       Accreditation and Acce
 ss Model History and Overview     Brian Winterfeldt\n  90. Minutes\n      
   Open discussion of model and comments submitted\n  1.  Overview of comme
 nts (see table)\n  2.  Discussion of comments (see table)\n  3.  Other inp
 ut\n        Fabricio Vayra (moderator)\n10 Minutes      Temporary Access P
 rotocol       Susan Kawaguchi\n10 Minutes      Summary\, Next Steps & Clos
 e     Steve DelBianco\, Brian Winterfeldt\n\n\n\nFrom: Accred-Model <accre
 d-model-bounces@icann.org> on behalf of ICANN Policy Calendar <PolicyCalen
 dar@icann.org>\nDate: Thursday\, April 5\, 2018 at 6:41 PM\nTo: "accred-mo
 del@icann.org" <accred-model@icann.org>\nSubject: [Accred-Model] Accredita
 tion and Access Model for Non-Public WHOIS Data\n\n**Resending the invite 
 as more members have requested the join information**\n\nMeeting: Accredit
 ation and Access Model for Non-Public WHOIS Data Call\nDate/time: Friday\,
  6 April 2018 at 14:00 UTC for 120 minutes\n\n07:00 PDT\, 10:00 EDT\, 16:0
 0 Paris CEST\, 19:00 Karachi PKT\, 23:00 Tokyo JST\, (Saturday) 00:00 Melb
 ourne AEST\n\nFor other times: https://tinyurl.com/ybj7fkk7\n\nNew Connect
 ion Information\n\nNew Web conference tool: Webex\n\nPlease join the meeti
 ng room here:\n1. Click here[mytrials.webex.com]<https://urldefense.proofp
 oint.com/v2/url?u=https-3A__mytrials.webex.com_mytrials_onstage_g.php-3FMT
 ID-3Def97af68549ec7e2ed65bfd4cf2a5defb&d=DwMGaQ&c=FmY1u3PJp6wrcrwll3mSVzgf
 kbPSS6sJms7xcl4I5cM&r=SJoAZJPf4sll7c5HM-90jeUSDBNV8i1H6DgoihUn1_U&m=HmjqIS
 DlssIr8ZxD9uQYIx7FJoldmzpp0KkpOcGFWwU&s=5MQryG2XY26hgs-2UsArSZ7xi29-Qg3mdp
 EdNN31SB8&e=> to join the online event.\nOr copy and paste the following l
 ink to a browser:\nhttps://mytrials.webex.com/mytrials/onstage/g.php?MTID=
 ef97af68549ec7e2ed65bfd4cf2a5defb\n2. Click "Join Now".\n\n\nAudio connect
 ion:\n\nIt’s possible to connect via Webex VoIP\, but audio quality cann
 ot be guaranteed. We recommend you connect to the audio bridge with your t
 elephone.\n\n\n\n\n\nTo receive a call back\, provide your phone number wh
 en you join the event\, or call the number below and enter the access code
 .\nUSA Toll\n1-240-454-0879\nShow all global call-in numbers<https://mytri
 als.webex.com/cmp3200/webcomponents/widget/globalcallin/globalcallin.do?si
 teurl=mytrials&serviceType=EC&eventID=660289977&tollFree=0>\nAccess code: 
 921 995 866\n\nIf you require a dial-out (do not send to full email group)
  please send an email request with your preferred contact number to ozan.s
 ahin@icann.org<mailto:ozan.sahin@icann.org>\n\nIf you cannot join the WebE
 x room join via telephone listed below.\n\nPlease let me know if you have 
 any questions.\n\nThank you.\nKind regards\,\n\nOzan Sahin\n\n____________
 __________________________________________________________\n\nParticipant 
 passcode: ACCREDITATION\n\nDial in numbers:\n\nCountry Toll Free\n\n\n\n\n
 \n\n\n\n\n\n\n\n\n\n\n\n\n\n\n\n\n\n\n\n\n\n\n\n\n\n\n\n\n\n\n\n\n\n\n\n\n
 \n\n\n\n\n\n\n\n\n\n\n\n\n\n\n\n\n\n\n\n\n\n\n\n\n\n\n\n\n\n\n\n\n\n\n\n\n
 \n\n\n\n\n\n\n\n\n\n\n\n\n\n\n\n\n\n\n\n\n\n\n\n\n\n\n\n\n\n\n\n\n\n\n\n\n
 \n\n\n\n\n\n\n\n\n\n\n\n\n\n\n\n\n\n\n\n\n\n\n\n\n\n\n\n\n\n\n\n\n\n\n\n\n
 \n\n\n\n\n\n\n\n\n\n\n\n\n\n\n\n\n\n\n\n\n\n\n\n\n\n\n\n\n\n\n\n\n\n\n\n\n
 \n\n\n\n\n\n\n\n\n\n\n\n\n\n\n\n\n\n\n\n\n\n\n\n\n\n\n\n\n\n\n\n\n\n\n\n\n
 \n\n\n\n\n\n\n\n\n\n\n\n\n\n\n\n\n\n\n\n\n\n\n\n\n\n\n\n\n\n\n\n\n\n\n\n\n
 \n\n\n\n\n\n\n\n\n\n\n\n\n\n\n\n\n\n\n\n\n\n\n\n\n\n\n\n\nARGENTINA       
                 0800-777-0519\nAUSTRALIA       ADELAIDE:       61-8-8121-4
 842          1-800-657-260\nAUSTRALIA       BRISBANE:       61-7-3102-0944
           1-800-657-260\nAUSTRALIA       CANBERRA:       61-2-6100-1944   
        1-800-657-260\nAUSTRALIA       MELBOURNE:      61-3-9010-7713      
     1-800-657-260\nAUSTRALIA       PERTH:          61-8-9467-5223         
  1-800-657-260\nAUSTRALIA       SYDNEY:         61-2-8205-8129          1-
 800-657-260\nAUSTRIA                 43-1-92-81-113          0800-005-259\
 nBELGIUM                 32-2-400-9861   0800-3-8795\nBRAZIL          RIO 
 DE JANEIRO:         55-21-40421490          0800-7610651\nBRAZIL          
 SAO PAULO:      55-11-3958-0779         0800-7610651\nCHILE               
     1230-020-2863\nCHINA   CHINA A:        86-400-810-4789         10800-7
 12-1670\nCHINA   CHINA B:        86-400-810-4789         10800-120-1670\nC
 OLOMBIA                        01800-9-156474\nCROATIA                    
      080-08-06-309\nCZECH REPUBLIC                  420-2-25-98-56-64     
   800-700-177\nDENMARK                 45-7014-0284    8088-8324\nEGYPT   
                 0800000-9029\nESTONIA                         800-011-1093
 \nFINLAND                 358-9-5424-7162         0-800-9-14610\nFRANCE   
        LYON:   33-4-26-69-12-85        080-511-1496\nFRANCE          MARSE
 ILLE:      33-4-86-06-00-85        080-511-1496\nFRANCE          PARIS:   
        33-1-70-70-60-72        080-511-1496\nGERMANY                 49-69
 -2222-20362        0800-664-4247\nGREECE                  30-80-1-100-0687
         00800-12-7312\nHONG KONG               852-3001-3863   800-962-856
 \nHUNGARY                 36-1-700-8856   06-800-12755\nINDONESIA         
               001-803-011-3982\nIRELAND                 353-1-246-7646    
       1800-992-368\nISRAEL                          1-80-9216162\nITALY   
 MILAN:          39-02-3600-6007         800-986-383\nITALY   ROME:   39-06
 -8751-6018         800-986-383\nITALY   TORINO:         39-011-510-0118   
       800-986-383\nJAPAN   OSAKA:          81-6-7878-2631          0066-33
 -132439\nJAPAN   TOKYO:          81-3-6868-2631          0066-33-132439\nL
 ATVIA                          8000-3185\nLUXEMBOURG              352-27-0
 00-1364         8002-9246\nMALAYSIA                        1-800-81-3065\n
 MEXICO          GUADALAJARA (JAL):      52-33-3208-7310         001-866-37
 6-9696\nMEXICO          MEXICO CITY:    52-55-5062-9110         001-866-37
 6-9696\nMEXICO          MONTERREY:      52-81-2482-0610         001-866-37
 6-9696\nNETHERLANDS             31-20-718-8588          0800-023-4378\nNEW
  ZEALAND             64-9-970-4771   0800-447-722\nNORWAY                 
  47-21-590-062   800-15157\nPANAMA                          011-001-800-50
 72065\nPERU                    0800-53713\nPHILIPPINES             63-2-85
 8-3716   1800-111-42453\nPOLAND                          00-800-1212572\nP
 ORTUGAL                351-2-10054705          8008-14052\nROMANIA        
          40-31-630-01-79\nRUSSIA                          8-10-8002-014401
 1\nSAUDI ARABIA                    800-8-110087\nSINGAPORE               6
 5-6883-9230    800-120-4663\nSLOVAK REPUBLIC                 421-2-322-422
 -25        0800-002066\nSOUTH AFRICA                    080-09-80414\nSOUT
 H KOREA             82-2-6744-1083          00798-14800-7352\nSPAIN       
     34-91-414-25-33         800-300-053\nSWEDEN                  46-8-566-
 19-348         0200-884-622\nSWITZERLAND             41-44-580-6398       
    0800-120-032\nTAIWAN                  886-2-2795-7379         00801-137
 -797\nTHAILAND                        001-800-1206-66056\nTURKEY          
                 00-800-151-0516\nUNITED ARAB EMIRATES                    8
 000-35702370\nUNITED KINGDOM          BIRMINGHAM:     44-121-210-9025     
     0808-238-6029\nUNITED KINGDOM          GLASGOW:        44-141-202-3225
          0808-238-6029\nUNITED KINGDOM          LEEDS:          44-113-301
 -2125         0808-238-6029\nUNITED KINGDOM          LONDON:         44-20
 -7108-6370         0808-238-6029\nUNITED KINGDOM          MANCHESTER:     
 44-161-601-1425         0808-238-6029\nURUGUAY                         000
 -413-598-3421\nUSA             1-517-345-9004          866-692-5726\nVENEZ
 UELA                       0800-1-00-3702\nVIETNAM                        
  120-11751\n\n\n\n\n_______________________________________________ Accred
 -Model mailing list Accred-Model@icann.org https://mm.icann.org/mailman/li
 stinfo/accred-model\n
UID:2FA64F1E-4AFB-4D20-8D9B-E13F35911D6E
SUMMARY;LANGUAGE=en-US:REMINDER: GDPR Accreditation and Access Model for No
 n-Public WHOIS Data
DTSTART;TZID=UTC:20180406T140000
DTEND;TZID=UTC:20180406T160000
CLASS:PUBLIC
PRIORITY:5
DTSTAMP:20180405T224102Z
TRANSP:OPAQUE
STATUS:CONFIRMED
SEQUENCE:5
LOCATION;LANGUAGE=en-US:14:00 UTC / https://mytrials.webex.com/mytrials/ons
 tage/g.php?MTID=ef97af68549ec7e2ed65bfd4cf2a5defb
X-MICROSOFT-CDO-APPT-SEQUENCE:5
X-MICROSOFT-CDO-OWNERAPPTID:2116294914
X-MICROSOFT-CDO-BUSYSTATUS:TENTATIVE
X-MICROSOFT-CDO-INTENDEDSTATUS:BUSY
X-MICROSOFT-CDO-ALLDAYEVENT:FALSE
X-MICROSOFT-CDO-IMPORTANCE:1
X-MICROSOFT-CDO-INSTTYPE:0
X-MICROSOFT-DONOTFORWARDMEETING:FALSE
X-MICROSOFT-DISALLOW-COUNTER:TRUE
X-MICROSOFT-LOCATIONS:[{"DisplayName":"14:00 UTC / https://mytrials.webex.c
 om/mytrials/onstage/g.php?MTID=ef97af68549ec7e2ed65bfd4cf2a5defb"\,"Locati
 onAnnotation":""\,"LocationUri":""\,"LocationStreet":""\,"LocationCity":""
 \,"LocationState":""\,"LocationCountry":""\,"LocationPostalCode":""\,"Loca
 tionFullAddress":""}]
BEGIN:VALARM
DESCRIPTION:REMINDER
TRIGGER;RELATED=START:-PT30M
ACTION:DISPLAY
END:VALARM
END:VEVENT
END:VCALENDAR
