BEGIN:VCALENDAR
VERSION:2.0
PRODID:-//Microsoft Corporation//Outlook for Mac MIMEDIR//EN
METHOD:PUBLISH
BEGIN:VTIMEZONE
TZID:Coordinated Universal Time
X-ENTOURAGE-CFTIMEZONE:UTC
X-ENTOURAGE-TZID:93
BEGIN:STANDARD
TZOFFSETFROM:+0000
TZOFFSETTO:+0000
DTSTART:16010101T000000
END:STANDARD
END:VTIMEZONE
BEGIN:VEVENT
UID:0642493E-B4AA-4D11-A746-3EB3AD3D33CB
X-ENTOURAGE_UUID:0642493E-B4AA-4D11-A746-3EB3AD3D33CB
X-MICROSOFT-EXCHANGE-ID:AAMkADFlMDNlNjQ5LTNjNTUtNDJkMC04ZTI0LWFiMTFkOTgwND
 JhMQBGAAAAAAAdZPIZTDF9SJl4Q9bAl0gQBwAFskP3JLIoSYZSK2rNBQTXAIjV8WqdAAANV5p2
 g4V9S6g+Ry+Q0bRJAAOcRyWyAAA=
X-MICROSOFT-EXCHANGE-CHANGEKEY:DwAAABYAAAANV5p2g4V9S6g+Ry+Q0bRJAAOcX21R
DTSTAMP:20180517T174400Z
DTSTART;TZID="Coordinated Universal Time":20180521T210000
DTEND;TZID="Coordinated Universal Time":20180521T223000
LAST-MODIFIED:20180517T174403Z
SUMMARY:Webinar: Next steps temporary policy GDPR compliance
DESCRIPTION:Meeting: Information webinar: Next steps temporary policy GDPR
  compliance\n\n\n\nDate/time: Monday\, 21 May 2018 at 21:00 UTC for 90
  minutes\n\n\n\nFor other places see:
  https://tinyurl.com/yclphu6k\n\n\n\nAudio cast (for non-councilors and
  SG C leaders): http://stream.icann.org:8000/stream01\n\n\n\nAdobe
  Connect room: https://participate.icann.org/gnsocouncil \n\n\n\nAudio
  bridge participant passcode: RDS\n\n\n\nIf you require a dial-out\,
  please send an email request with your preferred contact number to
  gnso-secs@icann.org \n\n\nDial in numbers:\nCountry\nToll
  Numbers\nFreephone/\nToll Free Number\nARGENTINA \n0800-777-0519
  \nAUSTRALIA \nADELAIDE: \n61-8-8121-4842 \n1-800-657-260 \nAUSTRALIA
  \nBRISBANE: \n61-7-3102-0944 \n1-800-657-260 \nAUSTRALIA \nCANBERRA:
  \n61-2-6100-1944 \n1-800-657-260 \nAUSTRALIA \nMELBOURNE:
  \n61-3-9010-7713 \n1-800-657-260 \nAUSTRALIA \nPERTH: \n61-8-9467-5223
  \n1-800-657-260 \nAUSTRALIA \nSYDNEY: \n61-2-8205-8129 \n1-800-657-260
  \nAUSTRIA \n43-1-92-81-113 \n0800-005-259 \nBELGIUM \n32-2-400-9861
  \n0800-3-8795 \nBRAZIL \nRIO DE JANEIRO: \n55-21-40421490 \n0800-7610651
  \nBRAZIL \nSAO PAULO: \n55-11-3958-0779 \n0800-7610651 \nCHILE
  \n1230-020-2863 \nCHINA \nCHINA A: \n86-400-810-4789 \n10800-712-1670
  \nCHINA \nCHINA B: \n86-400-810-4789 \n10800-120-1670 \nCOLOMBIA
  \n01800-9-156474 \nCROATIA \n080-08-06-309 \nCZECH REPUBLIC
  \n420-2-25-98-56-64 \n800-700-177 \nDENMARK \n45-7014-0284 \n8088-8324
  \nEGYPT \n0800000-9029 \nESTONIA \n800-011-1093 \nFINLAND
  \n358-9-5424-7162 \n0-800-9-14610 \nFRANCE \nLYON: \n33-4-26-69-12-85
  \n080-511-1496 \nFRANCE \nMARSEILLE: \n33-4-86-06-00-85 \n080-511-1496
  \nFRANCE \nPARIS: \n33-1-70-70-60-72 \n080-511-1496 \nGERMANY
  \n49-69-2222-20362 \n0800-664-4247 \nGREECE \n30-80-1-100-0687
  \n00800-12-7312 \nHONG KONG \n852-3001-3863 \n800-962-856 \nHUNGARY
  \n36-1-700-8856 \n06-800-12755 \nINDIA \nINDIA A: \n000-800-852-1268
  \nINDIA \nINDIA B: \n000-800-001-6305 \nINDIA \nINDIA C:
  \n1800-300-00491 \nINDONESIA \n001-803-011-3982 \nIRELAND
  \n353-1-246-7646 \n1800-992-368 \nISRAEL \n1-80-9216162 \nITALY \nMILAN:
  \n39-02-3600-6007 \n800-986-383 \nITALY \nROME: \n39-06-8751-6018
  \n800-986-383 \nITALY \nTORINO: \n39-011-510-0118 \n800-986-383 \nJAPAN
  \nOSAKA: \n81-6-7878-2631 \n0066-33-132439 \nJAPAN \nTOKYO:
  \n81-3-6868-2631 \n0066-33-132439 \nLATVIA \n8000-3185 \nLUXEMBOURG
  \n352-27-000-1364 \n8002-9246 \nMALAYSIA \n1-800-81-3065 \nMEXICO
  \nGUADALAJARA (JAL): \n52-33-3208-7310 \n001-866-376-9696 \nMEXICO
  \nMEXICO CITY: \n52-55-5062-9110 \n001-866-376-9696 \nMEXICO
  \nMONTERREY: \n52-81-2482-0610 \n001-866-376-9696 \nNETHERLANDS
  \n31-20-718-8588 \n0800-023-4378 \nNEW ZEALAND \n64-9-970-4771
  \n0800-447-722 \nNORWAY \n47-21-590-062 \n800-15157 \nPANAMA
  \n011-001-800-5072065 \nPERU \n0800-53713 \nPHILIPPINES \n63-2-858-3716
  \n1800-111-42453 \nPOLAND \n00-800-1212572 \nPORTUGAL \n351-2-10054705
  \n8008-14052 \nROMANIA \n40-31-630-01-79 \nRUSSIA \n8-10-8002-0144011
  \nSAUDI ARABIA \n800-8-110087 \nSINGAPORE \n65-6883-9230 \n800-120-4663
  \nSLOVAK REPUBLIC \n421-2-322-422-25 \n0800-002066 \nSOUTH AFRICA
  \n080-09-80414 \nSOUTH KOREA \n82-2-6744-1083 \n00798-14800-7352 \nSPAIN
  \n34-91-414-25-33 \n800-300-053 \nSWEDEN \n46-8-566-19-348
  \n0200-884-622 \nSWITZERLAND \n41-44-580-6398 \n0800-120-032 \nTAIWAN
  \n886-2-2795-7379 \n00801-137-797 \nTHAILAND \n001-800-1206-66056
  \nTURKEY \n00-800-151-0516 \nUNITED ARAB EMIRATES \n8000-35702370
  \nUNITED KINGDOM \nBIRMINGHAM: \n44-121-210-9025 \n0808-238-6029
  \nUNITED KINGDOM \nGLASGOW: \n44-141-202-3225 \n0808-238-6029 \nUNITED
  KINGDOM \nLEEDS: \n44-113-301-2125 \n0808-238-6029 \nUNITED KINGDOM
  \nLONDON: \n44-20-7108-6370 \n0808-238-6029 \nUNITED KINGDOM
  \nMANCHESTER: \n44-161-601-1425 \n0808-238-6029 \nURUGUAY
  \n000-413-598-3421 \nUSA \n1-517-345-9004 \n866-692-5726 \nVENEZUELA
  \n0800-1-00-3702 \nVIETNAM \n120-11751\n\n\n\n\n\n\n
LOCATION:21:00 UTC
ORGANIZER:MAILTO:PolicyCalendar@icann.org
SEQUENCE:2
ATTENDEE;ROLE=REQ-PARTICIPANT;RSVP=FALSE;CN=farzaneh.badii@gmail.com;PARTS
 TAT=NEEDS-ACTION:MAILTO:farzaneh.badii@gmail.com
ATTENDEE;ROLE=REQ-PARTICIPANT;RSVP=FALSE;CN=joan@npoc.org;PARTSTAT=NEEDS-A
 CTION:MAILTO:joan@npoc.org
ATTENDEE;ROLE=REQ-PARTICIPANT;RSVP=FALSE;CN=joankerr@fbsc.org;PARTSTAT=NEE
 DS-ACTION:MAILTO:joankerr@fbsc.org
ATTENDEE;ROLE=REQ-PARTICIPANT;RSVP=FALSE;CN="Renata Aquino
  Ribeiro";PARTSTAT=NEEDS-ACTION:MAILTO:raquino@gmail.com
ATTENDEE;ROLE=REQ-PARTICIPANT;RSVP=FALSE;CN="Paul
  Diaz";PARTSTAT=NEEDS-ACTION:MAILTO:pdiaz@pir.org
ATTENDEE;ROLE=REQ-PARTICIPANT;RSVP=FALSE;CN=gbunton@tucows.com;PARTSTAT=NE
 EDS-ACTION:MAILTO:gbunton@tucows.com
ATTENDEE;ROLE=REQ-PARTICIPANT;RSVP=FALSE;CN="Selli,
  Claudia";PARTSTAT=NEEDS-ACTION:MAILTO:cs574w@intl.att.com
ATTENDEE;ROLE=REQ-PARTICIPANT;RSVP=FALSE;CN="Brian
  Winterfeldt";PARTSTAT=NEEDS-ACTION:MAILTO:Brian@Winterfeldt.law
ATTENDEE;ROLE=REQ-PARTICIPANT;RSVP=FALSE;CN="Wolf-Ulrich
  Knoben";PARTSTAT=NEEDS-ACTION:MAILTO:Wolf-Ulrich.Knoben@t-online.de
ATTENDEE;ROLE=REQ-PARTICIPANT;RSVP=FALSE;CN="mail=ntfy-gnso-council@icann.
  org";PARTSTAT=NEEDS-ACTION:MAILTO:ntfy-gnso-council@icann.org
ATTENDEE;ROLE=REQ-PARTICIPANT;RSVP=FALSE;CN="Marika
  Konings";PARTSTAT=NEEDS-ACTION:MAILTO:marika.konings@icann.org
ATTENDEE;ROLE=REQ-PARTICIPANT;RSVP=FALSE;CN="Mary
  Wong";PARTSTAT=NEEDS-ACTION:MAILTO:mary.wong@icann.org
ATTENDEE;ROLE=REQ-PARTICIPANT;RSVP=FALSE;CN="Steve
  Chan";PARTSTAT=NEEDS-ACTION:MAILTO:steve.chan@icann.org
ATTENDEE;ROLE=REQ-PARTICIPANT;RSVP=FALSE;CN="Emily
  Barabas";PARTSTAT=NEEDS-ACTION:MAILTO:emily.barabas@icann.org
ATTENDEE;ROLE=REQ-PARTICIPANT;RSVP=FALSE;CN="Caitlin
  Tubergen";PARTSTAT=NEEDS-ACTION:MAILTO:caitlin.tubergen@icann.org
ATTENDEE;ROLE=REQ-PARTICIPANT;RSVP=FALSE;CN="Berry
  Cobb";PARTSTAT=NEEDS-ACTION:MAILTO:Berry.Cobb@icann.org
ATTENDEE;ROLE=REQ-PARTICIPANT;RSVP=FALSE;CN="Ariel
  Liang";PARTSTAT=NEEDS-ACTION:MAILTO:ariel.liang@icann.org
ATTENDEE;ROLE=REQ-PARTICIPANT;RSVP=FALSE;CN="Julie
  Hedlund";PARTSTAT=NEEDS-ACTION:MAILTO:julie.hedlund@icann.org
ATTENDEE;ROLE=REQ-PARTICIPANT;RSVP=FALSE;CN="Maryam
  Bakoshi";PARTSTAT=NEEDS-ACTION:MAILTO:maryam.bakoshi@icann.org
ATTENDEE;ROLE=REQ-PARTICIPANT;RSVP=FALSE;CN="Chantelle
  Doerksen";PARTSTAT=NEEDS-ACTION:MAILTO:chantelle.doerksen@icann.org
ATTENDEE;ROLE=REQ-PARTICIPANT;RSVP=FALSE;CN="Terri
  Agnew";PARTSTAT=NEEDS-ACTION:MAILTO:terri.agnew@icann.org
ATTENDEE;ROLE=REQ-PARTICIPANT;RSVP=FALSE;CN="Julie
  Bisland";PARTSTAT=NEEDS-ACTION:MAILTO:julie.bisland@icann.org
ATTENDEE;ROLE=REQ-PARTICIPANT;RSVP=FALSE;CN="Michelle
  DeSmyter";PARTSTAT=NEEDS-ACTION:MAILTO:michelle.desmyter@icann.org
ATTENDEE;ROLE=REQ-PARTICIPANT;RSVP=FALSE;CN="Andrea
  Glandon";PARTSTAT=NEEDS-ACTION:MAILTO:andrea.glandon@icann.org
ATTENDEE;ROLE=REQ-PARTICIPANT;RSVP=FALSE;CN="Nathalie
  Peregrine";PARTSTAT=NEEDS-ACTION:MAILTO:nathalie.peregrine@icann.org
ATTENDEE;ROLE=REQ-PARTICIPANT;RSVP=FALSE;CN="Sara
  Caplis";PARTSTAT=NEEDS-ACTION:MAILTO:sara.caplis@icann.org
ATTENDEE;ROLE=REQ-PARTICIPANT;RSVP=FALSE;CN="Mike
  Brennan";PARTSTAT=NEEDS-ACTION:MAILTO:mike.brennan@icann.org
ATTENDEE;ROLE=OPT-PARTICIPANT;RSVP=FALSE;CN="Berry Cobb
  Mail";PARTSTAT=NEEDS-ACTION:MAILTO:mail@berrycobb.com
X-MICROSOFT-CDO-BUSYSTATUS:BUSY
X-MICROSOFT-CDO-ALLDAYEVENT:FALSE
X-MICROSOFT-DISALLOW-COUNTER:TRUE
X-MICROSOFT-CDO-INSTTYPE:0
BEGIN:VALARM
ACTION:DISPLAY
DESCRIPTION:REMINDER
TRIGGER;RELATED=START:-PT00H15M00S
END:VALARM
END:VEVENT
END:VCALENDAR
