BEGIN:VCALENDAR
VERSION:2.0
PRODID:-//Microsoft Corporation//Outlook for Mac MIMEDIR//EN
METHOD:PUBLISH
BEGIN:VTIMEZONE
TZID:Coordinated Universal Time
X-ENTOURAGE-TZID:93
X-ENTOURAGE-CFTIMEZONE:UTC
BEGIN:STANDARD
TZNAME:Standard
TZOFFSETFROM:+0000
TZOFFSETTO:+0000
DTSTART:20140101T010000
END:STANDARD
END:VTIMEZONE
BEGIN:VEVENT
UID:B8238458-5B1D-4525-AE07-85408CE9DB06
X-ENTOURAGE_UUID:B8238458-5B1D-4525-AE07-85408CE9DB06
DTSTAMP:20170921T205200Z
DTSTART;TZID="Coordinated Universal Time":20171017T200000
DTEND;TZID="Coordinated Universal Time":20171017T210000
LAST-MODIFIED:20170921T205200Z
SUMMARY:New gTLD Subsequent Procedures Sub Team - Track 1
DESCRIPTION:Meeting: New gTLD Subsequent Procedures Sub Team – Track 1 -
  Overall Process/Support/Outreach Issue \n\nDate/Time: Tuesday\, 17
  October 2017 at 20:00 UTC for 60 minutes\n\nAdobe Connect room:
  https://participate.icann.org/newgtldsubteams/\n\n \n\nYou're
  Invited.\nYou've been invited to a GlobalMeet® phone only
  meeting.\nHave the meeting call you.\nClick the Connect Me link below.
  No need to dial-in.\nConnect Me [toolbar.conferencinghub.com]\nNot at
  your computer?\nYou can join by dialing one of the access numbers below.
  \n\n \n\nMobile:tel://16054755604\,*\,\,8650457825#\nAccess
  Number:1-605-475-5604\nGuest Passcode:8650457825\nAdditional
  Access:\nUSA:1-605-475-5604\nUSA:1-712-770-4203\nUSA:1-719-457-6209\nCana
 da\, Calgary:+1 403 407 5793\nCanada\, Montreal:+1 514 669 5928\nCanada\,
  Toronto:+1 647 426 9172\nCanada\, Vancouver:+1 604 222 7836\nArgentina\,
  Buenos Aires:+54 (0) 11 5172 6003\nArgentina (toll free):0800 800
  1223\nAustralia\, Sydney:+61 (0) 2 8017 6064\nAustralia\, Melbourne:+61
  (0) 3 8687 0553\nAustralia\, Brisbane:+61 (0) 7 3015 0535\nAustralia
  (toll free):1 800 804 786\nAustria\, Vienna:+43 (0) 1 25302
  1785\nAustria (toll free):0800 8866 3413\nBahrain\, Manama:+973 1619
  8739\nBahrain (toll free):800 04212\nBelarus (toll free):8 820 0011
  0341\nBelgium\, Brussels:+32 (0) 2 400 6928\nBelgium (toll free):0800
  39279\nBrazil\, Sao Paulo:+55 11 4935 7169\nBrazil\, Rio de Janeiro:+55
  21 4560 0072\nBrazil (toll free):0800 887 0233\nBulgaria\, Sofia:+359
  (0) 2 491 6045\nBulgaria (toll free):00800 111 4950\nCambodia\, Phnom
  Penh:+855 23 965 723\nCanada (toll free):1 855 950 3717\nChile\,
  Santiago:+56 (0) 2 2666 0696\nChile (toll free):171 800 835 783\nChina
  (national):+400 613 8103\nChina\, Beijing:+86 10 5667 0003\nChina\,
  Shanghai:+86 21 2039 7081\nColombia\, Bogota:+57 1 508 8137\nColombia
  (toll free):01 800 755 0102\nCosta Rica (toll free):800 542
  5328\nCroatia (toll free):0800 805 940\nCyprus (toll free):800
  97424\nCzech Republic\, Prague:+420 225 986 554\nCzech Republic (toll
  free):800 701 532\nDenmark\, Copenhagen:+45 32 72 78 10\nDenmark (toll
  free):80 70 35 86\nEgypt (toll free):0800 000 0593\nEstonia\,
  Tallinn:+372 622 6551\nEstonia (toll free):800 011 1589\nFiji (toll
  free):00800 3322\nFinland\, Helsinki:+358 (0) 9 2310 1677\nFinland (toll
  free):0800 772 236\nFrance\, Paris:+33 (0) 1 70 37 16 56\nFrance (toll
  free):0800 946 531\nFrance (national):0811 655 100\nFrance
  (national):0821 231 671\nGeorgia\, Tbilisi:+995 32 2 050 778\nGermany\,
  Frankfurt:+49 (0) 69 2222 10612\nGermany\, Munich:+49 (0) 89 2030
  31207\nGermany (national):01801 003 899\nGermany (toll free):0800 588
  9170\nGreece\, Athens:+30 211 181 3824\nGreece (toll free):00800 128
  913\nHong Kong:+852 3018 9111\nHong Kong (toll free):800 901
  787\nHungary\, Budapest:+36 1408 8953\nHungary (toll free):068 001
  9673\nIceland (toll free):800 9847\nIndia\, Delhi:+91 (0) 11 6641
  1394\nIndia\, Bangalore:+91 (0) 80 6127 6710\nIndia\, Mumbai:+91 (0)22
  6187 5028\nIndia\, Chennai:+91 (0)44 6688 6061\nIndia (toll free):1800
  200 9415\nIndonesia\, Jakarta:+62 21 2188 9084\nIndonesia (toll
  free):007 803 321 8927\nIreland\, Dublin:+353 (0) 1 526 9421\nIreland
  (national):0818 270 271\nIreland (toll free):1800 937 649\nIreland
  (national):1890 907 630\nIsrael\, Tel Aviv:+972 (0)3 721 7943\nIsrael
  (toll free):1809 213 168\nItaly\, Milan:+39 02 3600 8006\nItaly\,
  Rome:+39 06 8750 0676\nItaly (toll free):800 146 094\nJapan\, Tokyo:+81
  (0) 3 4560 1270\nJapan\, Osaka:+81 (0) 6 4560 2410\nJapan (toll
  free):0120 305 211\nJapan (mobile):0120 632 611\nJapan (national):0570
  085 744\nKazakhstan (toll free):8800 333 7554\nKenya\, Nairobi:+254
  (0)20 529 3581\nSouth Korea\, Seoul:+82 (0) 2 6007 0079\nSouth Korea
  (toll free):00798 6136 1454\nLatvia\, Riga:+371 6601 3627\nLatvia (toll
  free):8000 4418\nLithuania\, Vilnius:+370 5205 5468\nLithuania (toll
  free):8800 31449\nLuxembourg:+352 2088 1749\nLuxembourg (toll free):800
  28433\nMalaysia\,Kuala Lumpur:+60 (0) 3 7724 8010\nMalaysia (toll
  free):1 800 816 152\nMexico\, Guadalajara:+52 33 4162 4504\nMexico\,
  Mexico City:+52 55 8421 0326\nMexico\, Monterrey:+52 81 4162
  5648\nMexico (toll free):01 800 733 4102\nMorocco\, Casablanca:+212 (0)
  520 48 0022\nMorocco (toll free):0800 091 296\nNetherlands\,
  Amsterdam:+31 (0) 20 716 8345\nNetherlands (toll free):0800 020
  2597\nNew Zealand\, Christchurch:+64 (0) 3 974 2596\nNew Zealand\,
  Wellington:+64 (0) 4 909 4674\nNew Zealand\, Auckland:+64 (0) 9 929
  1825\nNew Zealand (toll free):0800 452 947\nNigeria\, Lagos:+234 1 277
  3944\nNorway\, Oslo:+47 21 00 48 15\nNorway (toll free):800 56081\nOman
  (toll free):800 77265\nPanama\, Panama City:+507 8 335 913\nPanama (toll
  free):00800 223 1390\nPeru\, Lima:+51 (0) 1 700 9571\nPeru (toll
  free):0800 78102\nPhilippines\, Manila:+63 (0)2 395 3426\nPhilippines
  (toll free):1 800 111 013 99\nPoland\, Warsaw:+48 22 295 3570\nPoland
  (toll free):00 800 121 4356\nPortugal\, Lisbon:+351 21 316
  4093\nPortugal (toll free):800 784 442\nQatar (toll free):00 800 100
  491\nRomania\, Bucharest:+40 (0) 21 529 3992\nRomania (toll free):0800
  801 035\nRussia\, Moscow:+7 495 646 9181\nRussia (toll free):8 800 500
  9241\nSaudi Arabia (toll free):800 844 6641\nSaudi Arabia (toll
  free):800 850 0219\nSerbia (toll free):0800 190 712\nSingapore:+65 6622
  1957\nSingapore (toll free):800 616 3192\nSlovakia\, Bratislava:+421
  (0)2 3321 5498\nSlovakia (toll free):0800 002 002\nSlovenia\,
  Ljubljana:+386 1600 8695\nSlovenia (toll free):0800 81193\nSouth
  Africa\, Johannesburg:+27 (0)11 589 8321\nSouth Africa (toll free):0800
  999 434\nSpain\, Madrid:+34 91 114 6653\nSpain\, Barcelona:+34 93 800
  1946\nSpain (toll free):900 828 035\nSri Lanka\, Sri Lanka:+94 720 910
  333\nSweden\, Stockholm:+46 (0) 8 5065 3956\nSweden (toll free):0200 125
  588\nSwitzerland\, Geneva:+41 (0) 22 595 4795\nSwitzerland\, Zurich:+41
  (0) 44 580 7207\nSwitzerland (toll free):0800 740 360\nTaiwan\,
  Taipei:+886 (0) 2 2650 7329\nTaiwan (toll free):0800 666 596\nThailand\,
  Bangkok:+66 (0) 2104 0761\nThailand (toll free):001 800 6136
  1473\nTunisia\, Tunis:+216 31 378 101\nTurkey\, Istanbul:+90 212 375 50
  49\nTurkey (toll free):00800 4488 26642\nUkraine (toll free):0800 500
  896\nUAE (toll free):8000 3570 2662\nUK (03):+44 (0)330 336 6002\nUK
  (toll free):0800 358 6385\nUK (national):0844 473 5010\nUK
  (national):0845 545 0015\nUSA /Canada (toll
  free):1-866-398-2885\nUruguay (toll free):0004 019 0152\nVenezuela\,
  Caracas:+58 212 720 2164\nVenezuela (toll free):0 800 162
  7451\nVietnam\, Hanoi:+84 4 4458 3312\nVietnam (toll free):1800 9226\n
  \n
LOCATION:20:00 UTC / https://participate.icann.org/newgtldsubteams/ / PC:
  8650457825 / tel://16054755604\,*\,\,8650457825#
ORGANIZER:MAILTO:PolicyCalendar@icann.org
SEQUENCE:0
ATTENDEE;ROLE=REQ-PARTICIPANT;RSVP=FALSE;CN=ntfy-gnso-newgtld-wg-wt1@icann
 .org;PARTSTAT=NEEDS-ACTION:MAILTO:ntfy-gnso-newgtld-wg-wt1@icann.org
ATTENDEE;ROLE=REQ-PARTICIPANT;RSVP=FALSE;CN="Mary
  Wong";PARTSTAT=NEEDS-ACTION:MAILTO:mary.wong@icann.org
ATTENDEE;ROLE=REQ-PARTICIPANT;RSVP=FALSE;CN="Julie
  Hedlund";PARTSTAT=NEEDS-ACTION:MAILTO:julie.hedlund@icann.org
ATTENDEE;ROLE=REQ-PARTICIPANT;RSVP=FALSE;CN="Marika
  Konings";PARTSTAT=NEEDS-ACTION:MAILTO:marika.konings@icann.org
ATTENDEE;ROLE=REQ-PARTICIPANT;RSVP=FALSE;CN="Steve
  Chan";PARTSTAT=NEEDS-ACTION:MAILTO:steve.chan@icann.org
ATTENDEE;ROLE=REQ-PARTICIPANT;RSVP=FALSE;CN="Emily
  Barabas";PARTSTAT=NEEDS-ACTION:MAILTO:emily.barabas@icann.org
X-MICROSOFT-CDO-BUSYSTATUS:BUSY
X-MICROSOFT-CDO-ALLDAYEVENT:FALSE
X-MICROSOFT-CDO-INSTTYPE:0
BEGIN:VALARM
ACTION:DISPLAY
DESCRIPTION:REMINDER
TRIGGER;RELATED=START:-PT00H15M00S
END:VALARM
END:VEVENT
END:VCALENDAR
