BEGIN:VCALENDAR
VERSION:2.0
PRODID:-//Microsoft Corporation//Outlook for Mac MIMEDIR//EN
METHOD:PUBLISH
BEGIN:VTIMEZONE
TZID:Coordinated Universal Time
X-ENTOURAGE-CFTIMEZONE:UTC
X-ENTOURAGE-TZID:93
BEGIN:STANDARD
TZOFFSETFROM:+0000
TZOFFSETTO:+0000
DTSTART:16010101T000000
END:STANDARD
END:VTIMEZONE
BEGIN:VEVENT
UID:128F2FF3-0E54-475F-93B9-0140DEA37F73
X-ENTOURAGE_UUID:3F5CA81D-55F4-4F05-A9C7-CDF09F244903
X-MICROSOFT-EXCHANGE-ID:AAMkADFlMDNlNjQ5LTNjNTUtNDJkMC04ZTI0LWFiMTFkOTgwND
 JhMQBGAAAAAAAdZPIZTDF9SJl4Q9bAl0gQBwAFskP3JLIoSYZSK2rNBQTXAIjV8WqdAAANV5p2
 g4V9S6g+Ry+Q0bRJAAWG9bKDAAA=
X-MICROSOFT-EXCHANGE-CHANGEKEY:DwAAABYAAAANV5p2g4V9S6g+Ry+Q0bRJAAWJdB5i
DTSTAMP:20200623T021850Z
DTSTART;TZID="Coordinated Universal Time":20200625T200000
DTEND;TZID="Coordinated Universal Time":20200625T213000
LAST-MODIFIED:20200623T021850Z
SUMMARY:New gTLD Subsequent Procedures Working Group call 
DESCRIPTION:See updated Zoom info below\n\n\n\nMeeting: New gTLD
  Subsequent Procedures Working Group call \n\nDate/time: Thursday\, 25
  June at 20:00 UTC for 90 minutes\n\n\n\nJoin the Zoom Webinar:
  https://icann.zoom.us/j/98927397068?pwd=THUyTVBrZ2dHRTJjSG0zRVF5bW5MUT09
  \n\nPassword: 6P%ffA1^Rk \n\n\n\nBefore joining the call: \n\nPlease
  send apologies and dial out requests to gnso-secs@icann.org
  only\n\nPlease be sure you have read the Expected Standards of Behavior
  [icann.org]\n\nVisit the Wiki agenda page:
  https://community.icann.org/x/4gAdC\n\nCheck your time zone:
  https://tinyurl.com/yars942g\n\n\n\nTo join Audio only:\n\nWebinar ID:
  989 2739 7068\n\nPassword: 379202\n\nInternational numbers available:
  https://icann.zoom.us/u/ayStXMbZK\n\n\n\nIf this is your first time with
  Zoom\, please take a look here: Welcome to
  Zoom\n\n\n\n\n\n\n\n\n\n\n\n\n\n\n\n\n\n\n
LOCATION:20:00 UTC | Webinar link:
  https://icann.zoom.us/j/98927397068?pwd=THUyTVBrZ2dHRTJjSG0zRVF5bW5MUT09
  
ORGANIZER:MAILTO:PolicyCalendar@icann.org
SEQUENCE:2
ATTENDEE;ROLE=REQ-PARTICIPANT;RSVP=FALSE;CN=ntfy-gnso-newgtld-wg@icann.org
 ;PARTSTAT=NEEDS-ACTION:MAILTO:ntfy-gnso-newgtld-wg@icann.org
ATTENDEE;ROLE=REQ-PARTICIPANT;RSVP=FALSE;CN="Mary
  Wong";PARTSTAT=NEEDS-ACTION:MAILTO:mary.wong@icann.org
ATTENDEE;ROLE=REQ-PARTICIPANT;RSVP=FALSE;CN="Caitlin
  Tubergen";PARTSTAT=NEEDS-ACTION:MAILTO:caitlin.tubergen@icann.org
ATTENDEE;ROLE=REQ-PARTICIPANT;RSVP=FALSE;CN="Steve
  Chan";PARTSTAT=NEEDS-ACTION:MAILTO:steve.chan@icann.org
ATTENDEE;ROLE=REQ-PARTICIPANT;RSVP=FALSE;CN="Emily
  Barabas";PARTSTAT=NEEDS-ACTION:MAILTO:emily.barabas@icann.org
ATTENDEE;ROLE=REQ-PARTICIPANT;RSVP=FALSE;CN="Ariel
  Liang";PARTSTAT=NEEDS-ACTION:MAILTO:ariel.liang@icann.org
ATTENDEE;ROLE=REQ-PARTICIPANT;RSVP=FALSE;CN="Marika
  Konings";PARTSTAT=NEEDS-ACTION:MAILTO:marika.konings@icann.org
ATTENDEE;ROLE=REQ-PARTICIPANT;RSVP=FALSE;CN="Berry Cobb
  Mail";PARTSTAT=NEEDS-ACTION:MAILTO:mail@berrycobb.com
ATTENDEE;ROLE=REQ-PARTICIPANT;RSVP=FALSE;CN=policy@bacinblack.com;PARTSTAT
 =NEEDS-ACTION:MAILTO:policy@bacinblack.com
ATTENDEE;ROLE=REQ-PARTICIPANT;RSVP=FALSE;CN="Julie
  Hedlund";PARTSTAT=NEEDS-ACTION:MAILTO:julie.hedlund@icann.org
ATTENDEE;ROLE=REQ-PARTICIPANT;RSVP=FALSE;CN="Dennis
  Chang";PARTSTAT=NEEDS-ACTION:MAILTO:dennis.chang@icann.org
ATTENDEE;ROLE=REQ-PARTICIPANT;RSVP=FALSE;CN="Nathalie
  Peregrine";PARTSTAT=NEEDS-ACTION:MAILTO:nathalie.peregrine@icann.org
ATTENDEE;ROLE=REQ-PARTICIPANT;RSVP=FALSE;CN="Andrea
  Glandon";PARTSTAT=NEEDS-ACTION:MAILTO:andrea.glandon@icann.org
ATTENDEE;ROLE=REQ-PARTICIPANT;RSVP=FALSE;CN="Julie
  Bisland";PARTSTAT=NEEDS-ACTION:MAILTO:julie.bisland@icann.org
ATTENDEE;ROLE=REQ-PARTICIPANT;RSVP=FALSE;CN="Michelle
  DeSmyter";PARTSTAT=NEEDS-ACTION:MAILTO:michelle.desmyter@icann.org
ATTENDEE;ROLE=REQ-PARTICIPANT;RSVP=FALSE;CN="Board
  Calendaring";PARTSTAT=NEEDS-ACTION:MAILTO:Board-Calendaring@icann.org
ATTENDEE;ROLE=REQ-PARTICIPANT;RSVP=FALSE;CN="Terri
  Agnew";PARTSTAT=NEEDS-ACTION:MAILTO:terri.agnew@icann.org
X-MICROSOFT-CDO-BUSYSTATUS:BUSY
X-MICROSOFT-CDO-ALLDAYEVENT:FALSE
X-MICROSOFT-DISALLOW-COUNTER:TRUE
X-MICROSOFT-DONOTFORWARDMEETING:FALSE
X-MICROSOFT-CDO-INSTTYPE:0
BEGIN:VALARM
ACTION:DISPLAY
DESCRIPTION:REMINDER
TRIGGER;RELATED=START:-PT00H15M00S
END:VALARM
END:VEVENT
END:VCALENDAR
