BEGIN:VCALENDAR
METHOD:REQUEST
PRODID:Microsoft Exchange Server 2010
VERSION:2.0
BEGIN:VTIMEZONE
TZID:UTC
BEGIN:STANDARD
DTSTART:16010101T000000
TZOFFSETFROM:+0000
TZOFFSETTO:+0000
END:STANDARD
BEGIN:DAYLIGHT
DTSTART:16010101T000000
TZOFFSETFROM:+0000
TZOFFSETTO:+0000
END:DAYLIGHT
END:VTIMEZONE
BEGIN:VEVENT
ORGANIZER;CN=Michelle DeSmyter:MAILTO:michelle.desmyter@icann.org
ATTENDEE;ROLE=REQ-PARTICIPANT;PARTSTAT=NEEDS-ACTION;RSVP=FALSE;CN=Steve Cha
 n:MAILTO:steve.chan@icann.org
ATTENDEE;ROLE=REQ-PARTICIPANT;PARTSTAT=NEEDS-ACTION;RSVP=FALSE;CN=Emily Bar
 abas:MAILTO:emily.barabas@icann.org
ATTENDEE;ROLE=REQ-PARTICIPANT;PARTSTAT=NEEDS-ACTION;RSVP=FALSE;CN=Antoniett
 a Mangiacotti:MAILTO:antonietta.mangiacotti@icann.org
ATTENDEE;ROLE=REQ-PARTICIPANT;PARTSTAT=NEEDS-ACTION;RSVP=FALSE;CN=Marika Ko
 nings:MAILTO:marika.konings@icann.org
ATTENDEE;ROLE=REQ-PARTICIPANT;PARTSTAT=NEEDS-ACTION;RSVP=FALSE;CN=gnso-rpm-
 tmch@icann.org:MAILTO:gnso-rpm-tmch@icann.org
ATTENDEE;ROLE=REQ-PARTICIPANT;PARTSTAT=NEEDS-ACTION;RSVP=FALSE;CN=Mary Wong
 :MAILTO:mary.wong@icann.org
ATTENDEE;ROLE=REQ-PARTICIPANT;PARTSTAT=NEEDS-ACTION;RSVP=FALSE;CN=David Tai
 t:MAILTO:david.tait@icann.org
ATTENDEE;ROLE=REQ-PARTICIPANT;PARTSTAT=NEEDS-ACTION;RSVP=FALSE;CN=Glen de S
 aint Géry:MAILTO:Glen@icann.org
ATTENDEE;ROLE=REQ-PARTICIPANT;PARTSTAT=NEEDS-ACTION;RSVP=FALSE;CN=Gisella G
 ruber:MAILTO:Gisella.Gruber@icann.org
ATTENDEE;ROLE=REQ-PARTICIPANT;PARTSTAT=NEEDS-ACTION;RSVP=FALSE;CN=Nathalie 
 Peregrine:MAILTO:nathalie.peregrine@icann.org
ATTENDEE;ROLE=REQ-PARTICIPANT;PARTSTAT=NEEDS-ACTION;RSVP=FALSE;CN=Terri Agn
 ew:MAILTO:terri.agnew@icann.org
ATTENDEE;ROLE=REQ-PARTICIPANT;PARTSTAT=NEEDS-ACTION;RSVP=FALSE;CN=Yesim Naz
 lar:MAILTO:yesim.nazlar@icann.org
ATTENDEE;ROLE=REQ-PARTICIPANT;PARTSTAT=NEEDS-ACTION;RSVP=FALSE;CN=Michelle 
 DeSmyter:MAILTO:michelle.desmyter@icann.org
DESCRIPTION;LANGUAGE=en-US:Dear all\,\n\nThe next RPM TMCH sub team will be
  held on Friday\, 16 September 2016 at 15:00 UTC for 60 minutes.\n\n08:00 
 PDT\, 11:00 EDT\, 16:00 London\, 17:00 CEST\nFor other times: http://tinyu
 rl.com/jsg7ej4\n\nAdobe Connect WITH AUDIO enabled:https://icann.adobeconn
 ect.com/gnso-rpm/\n\nFor those of you using the Adobe Connect audio\, you 
 may do so by activating your computer microphone via the Adobe room (Using
  a headset is preferable here).\n\nMake sure your speakers and microphone 
 are not on mute.\n\n- Select the TELEPHONE ICON at the top of the AC toolb
 ar and choose CONNECT MY AUDIO (only option).\n- Select USING COMPUTER twi
 ce\n- Select ALLOW access to the ICANN Adobe room\n- the TELEPHONE ICON at
  the top of the toolbar should then have changed into a MICROPHONE ICON\n-
  You may click on this MICROPHONE ICON to mute yourself (Icon will then ha
 ve a line through it) and to unmute yourself (Line disappears)\n\nParticip
 ants must ALWAYS have their microphone or telephone on MUTE as default set
 ting. You are requested to RAISE YOUR HAND if you wish to participate to a
 void disruption.\n\nDial-in details are below.\n\nPlease confirm your dial
 -out or apology requests to GNSO Secretariats\ngnso-secs@icann.org<mailto:
 gnso-secs@icann.org>\n\n__________________________________________________
 ____________________\n\nParticipant passcode: RPM TMCH\n\nDial in numbers:
 \nCountry         Toll Numbers    Freephone/\nToll Free Number\n\n\nARGENT
 INA                       0800-777-0519\nAUSTRALIA       ADELAIDE:       6
 1-8-8121-4842  1-800-657-260\nAUSTRALIA       BRISBANE:       61-7-3102-09
 44  1-800-657-260\nAUSTRALIA       CANBERRA:       61-2-6100-1944  1-800-6
 57-260\nAUSTRALIA       MELBOURNE:      61-3-9010-7713  1-800-657-260\nAUS
 TRALIA       PERTH:  61-8-9467-5223  1-800-657-260\nAUSTRALIA       SYDNEY
 : 61-2-8205-8129  1-800-657-260\nAUSTRIA         43-1-92-81-113  0800-005-
 259\nBELGIUM         32-2-400-9861   0800-3-8795\nBRAZIL                  
 0800-7610651\nCHILE                   1230-020-2863\nCHINA   CHINA A:     
    86-400-810-4789 10800-712-1670\nCHINA   CHINA B:        86-400-810-4789
  10800-120-1670\nCOLOMBIA                        01800-9-156474\nCZECH REP
 UBLIC          420-2-25-98-56-64       800-700-177\nDENMARK         45-701
 4-0284    8088-8324\nESTONIA                 800-011-1093\nFINLAND        
  358-9-5424-7162 0-800-9-14610\nFRANCE  LYON:   33-4-26-69-12-85        08
 0-511-1496\nFRANCE  MARSEILLE:      33-4-86-06-00-85        080-511-1496\n
 FRANCE  PARIS:  33-1-70-70-60-72        080-511-1496\nGERMANY         49-6
 9-2222-20362        0800-664-4247\nGREECE          30-80-1-100-0687       
  00800-12-7312\nHONG KONG               852-3001-3863   800-962-856\nHUNGA
 RY                 06-800-12755\nINDIA   INDIA A:                000-800-8
 52-1268\nINDIA   INDIA B:                000-800-001-6305\nINDIA   INDIA C
 :                1800-300-00491\nINDONESIA                       001-803-0
 11-3982\nIRELAND         353-1-246-7646  1800-992-368\nISRAEL             
      1-80-9216162\nITALY   MILAN:  39-02-3600-6007 800-986-383\nJAPAN   OS
 AKA:  81-6-7739-4799  0066-33-132439\nJAPAN   TOKYO:  81-3-5539-5191  0066
 -33-132439\nLATVIA                  8000-3185\nLUXEMBOURG              352
 -27-000-1364\nMALAYSIA                        1-800-81-3065\nMEXICO       
            001-866-376-9696\nNETHERLANDS             31-20-718-8588  0800-
 023-4378\nNEW ZEALAND             64-9-970-4771   0800-447-722\nNORWAY    
       47-21-590-062   800-15157\nPANAMA                  011-001-800-50720
 65\nPERU                    0800-53713\nPHILIPPINES             63-2-858-3
 716\nPOLAND                  00-800-1212572\nPORTUGAL                     
    8008-14052\nRUSSIA                  8-10-8002-0144011\nSAUDI ARABIA    
                 800-8-110087\nSINGAPORE               65-6883-9230    800-
 120-4663\nSLOVAK REPUBLIC         421-2-322-422-25\nSOUTH AFRICA          
           080-09-80414\nSOUTH KOREA             82-2-6744-1083  00798-1480
 0-7352\nSPAIN           34-91-414-25-33 800-300-053\nSWEDEN          46-8-
 566-19-348 0200-884-622\nSWITZERLAND             41-44-580-6398  0800-120-
 032\nTAIWAN          886-2-2795-7379 00801-137-797\nTHAILAND              
           001-800-1206-66056\nUNITED KINGDOM  BIRMINGHAM:     44-121-210-9
 025 0808-238-6029\nUNITED KINGDOM  GLASGOW:        44-141-202-3225 0808-23
 8-6029\nUNITED KINGDOM  LEEDS:  44-113-301-2125 0808-238-6029\nUNITED KING
 DOM  LONDON: 44-20-7108-6370 0808-238-6029\nUNITED KINGDOM  MANCHESTER:   
   44-161-601-1425 0808-238-6029\nURUGUAY                 000-413-598-3421\
 nUSA             1-517-345-9004  866-692-5726\nVENEZUELA                  
      0800-1-00-3702\n\n\n\nThank you.\n\nKind regards\,\n\nMichelle\n
SUMMARY;LANGUAGE=en-US:RPM TMCH sub team meeting
DTSTART;TZID=UTC:20160916T150000
DTEND;TZID=UTC:20160916T160000
UID:33FE33C4-CE2A-4B6F-836F-B750823743AE
CLASS:PUBLIC
PRIORITY:5
DTSTAMP:20160909T160217Z
TRANSP:OPAQUE
STATUS:CONFIRMED
SEQUENCE:0
LOCATION;LANGUAGE=en-US:15:00 UTC
X-MICROSOFT-CDO-APPT-SEQUENCE:0
X-MICROSOFT-CDO-OWNERAPPTID:2114538897
X-MICROSOFT-CDO-BUSYSTATUS:TENTATIVE
X-MICROSOFT-CDO-INTENDEDSTATUS:BUSY
X-MICROSOFT-CDO-ALLDAYEVENT:FALSE
X-MICROSOFT-CDO-IMPORTANCE:1
X-MICROSOFT-CDO-INSTTYPE:0
X-MICROSOFT-DISALLOW-COUNTER:FALSE
BEGIN:VALARM
DESCRIPTION:REMINDER
TRIGGER;RELATED=START:-PT15M
ACTION:DISPLAY
END:VALARM
END:VEVENT
END:VCALENDAR
