BEGIN:VCALENDAR
VERSION:2.0
PRODID:-//Microsoft Corporation//Outlook for Mac MIMEDIR//EN
METHOD:PUBLISH
BEGIN:VTIMEZONE
TZID:Coordinated Universal Time
X-ENTOURAGE-TZID:93
X-ENTOURAGE-CFTIMEZONE:UTC
BEGIN:STANDARD
TZNAME:Standard
TZOFFSETFROM:+0000
TZOFFSETTO:+0000
DTSTART:20130101T010000
END:STANDARD
END:VTIMEZONE
BEGIN:VEVENT
UID:B86CF3A7-43B4-4FCD-AFA1-E1E2B9E944E9
X-ENTOURAGE_UUID:B86CF3A7-43B4-4FCD-AFA1-E1E2B9E944E9
DTSTAMP:20160916T161000Z
DTSTART;TZID="Coordinated Universal Time":20160923T150000
DTEND;TZID="Coordinated Universal Time":20160923T160000
LAST-MODIFIED:20160916T161000Z
SUMMARY:RPM TMCH sub team meeting
DESCRIPTION:Dear all\, \nThe next RPM TMCH sub team will be held on
  Friday\, 23 September 2016 at 15:00 UTC for 60 minutes.\n08:00 PDT\,
  11:00 EDT\, 16:00 London\, 17:00 CEST\nFor other times:
  http://tinyurl.com/jf2ytub\nAdobe Connect WITH AUDIO
  enabled:https://icann.adobeconnect.com/gnso-rpm/\nFor those of you using
  the Adobe Connect audio\, you may do so by activating your computer
  microphone via the Adobe room (Using a headset is preferable
  here).\nMake sure your speakers and microphone are not on mute.\n\n-
  Select the TELEPHONE ICON at the top of the AC toolbar and choose
  CONNECT MY AUDIO (only option). \n- Select USING COMPUTER twice\n-
  Select ALLOW access to the ICANN Adobe room\n- the TELEPHONE ICON at the
  top of the toolbar should then have changed into a MICROPHONE ICON\n-
  You may click on this MICROPHONE ICON to mute yourself (Icon will then
  have a line through it) and to unmute yourself (Line
  disappears)\nParticipants must ALWAYS have their microphone or telephone
  on MUTE as default setting. You are requested to RAISE YOUR HAND if you
  wish to participate to avoid disruption.\nDial-in details are
  below.\nPlease confirm your dial-out or apology requests to GNSO
  Secretariats\ngnso-secs@icann.org\n______________________________________
 ________________________________\nParticipant passcode: RPM TMCH\nDial in
  numbers:\nCountryToll NumbersFreephone/\nToll Free
  Number\nARGENTINA0800-777-0519\nAUSTRALIAADELAIDE:61-8-8121-48421-800-657
 -260\nAUSTRALIABRISBANE:61-7-3102-09441-800-657-260\nAUSTRALIACANBERRA:61-
 2-6100-19441-800-657-260\nAUSTRALIAMELBOURNE:61-3-9010-77131-800-657-260\n
 AUSTRALIAPERTH:61-8-9467-52231-800-657-260\nAUSTRALIASYDNEY:61-2-8205-8129
 1-800-657-260\nAUSTRIA43-1-92-81-1130800-005-259\nBELGIUM32-2-400-98610800
 -3-8795\nBRAZIL0800-7610651\nCHILE1230-020-2863\nCHINACHINA
  A:86-400-810-478910800-712-1670\nCHINACHINA
  B:86-400-810-478910800-120-1670\nCOLOMBIA01800-9-156474\nCZECH
  REPUBLIC420-2-25-98-56-64800-700-177\nDENMARK45-7014-02848088-8324\nESTON
 IA800-011-1093\nFINLAND358-9-5424-71620-800-9-14610\nFRANCELYON:33-4-26-69
 -12-85080-511-1496\nFRANCEMARSEILLE:33-4-86-06-00-85080-511-1496\nFRANCEPA
 RIS:33-1-70-70-60-72080-511-1496\nGERMANY49-69-2222-203620800-664-4247\nGR
 EECE30-80-1-100-068700800-12-7312\nHONG
  KONG852-3001-3863800-962-856\nHUNGARY06-800-12755\nINDIAINDIA
  A:000-800-852-1268\nINDIAINDIA B:000-800-001-6305\nINDIAINDIA
  C:1800-300-00491\nINDONESIA001-803-011-3982\nIRELAND353-1-246-76461800-99
 2-368\nISRAEL1-80-9216162\nITALYMILAN:39-02-3600-6007800-986-383\nJAPANOSA
 KA:81-6-7739-47990066-33-132439\nJAPANTOKYO:81-3-5539-51910066-33-132439\n
 LATVIA8000-3185\nLUXEMBOURG352-27-000-1364\nMALAYSIA1-800-81-3065\nMEXICO0
 01-866-376-9696\nNETHERLANDS31-20-718-85880800-023-4378\nNEW
  ZEALAND64-9-970-47710800-447-722\nNORWAY47-21-590-062800-15157\nPANAMA011
 -001-800-5072065\nPERU0800-53713\nPHILIPPINES63-2-858-3716\nPOLAND00-800-1
 212572\nPORTUGAL8008-14052\nRUSSIA8-10-8002-0144011\nSAUDI
  ARABIA800-8-110087\nSINGAPORE65-6883-9230800-120-4663\nSLOVAK
  REPUBLIC421-2-322-422-25\nSOUTH AFRICA080-09-80414\nSOUTH
  KOREA82-2-6744-108300798-14800-7352\nSPAIN34-91-414-25-33800-300-053\nSWE
 DEN46-8-566-19-3480200-884-622\nSWITZERLAND41-44-580-63980800-120-032\nTAI
 WAN886-2-2795-737900801-137-797\nTHAILAND001-800-1206-66056\nUNITED
  KINGDOMBIRMINGHAM:44-121-210-90250808-238-6029\nUNITED
  KINGDOMGLASGOW:44-141-202-32250808-238-6029\nUNITED
  KINGDOMLEEDS:44-113-301-21250808-238-6029\nUNITED
  KINGDOMLONDON:44-20-7108-63700808-238-6029\nUNITED
  KINGDOMMANCHESTER:44-161-601-14250808-238-6029\nURUGUAY000-413-598-3421\n
 USA1-517-345-9004866-692-5726\nVENEZUELA0800-1-00-3702\nThank you.\nKind
  regards\, \nMichelle\n
LOCATION:15:00 UTC
ORGANIZER:MAILTO:PolicyCalendar@icann.org
SEQUENCE:0
ATTENDEE;ROLE=REQ-PARTICIPANT;RSVP=FALSE;CN="Steve
  Chan";PARTSTAT=NEEDS-ACTION:MAILTO:steve.chan@icann.org
ATTENDEE;ROLE=REQ-PARTICIPANT;RSVP=FALSE;CN="Emily
  Barabas";PARTSTAT=NEEDS-ACTION:MAILTO:emily.barabas@icann.org
ATTENDEE;ROLE=REQ-PARTICIPANT;RSVP=FALSE;CN="Antonietta
  Mangiacotti";PARTSTAT=NEEDS-ACTION:MAILTO:antonietta.mangiacotti@icann.or
 g
ATTENDEE;ROLE=REQ-PARTICIPANT;RSVP=FALSE;CN="Marika
  Konings";PARTSTAT=NEEDS-ACTION:MAILTO:marika.konings@icann.org
ATTENDEE;ROLE=REQ-PARTICIPANT;RSVP=FALSE;CN=gnso-rpm-tmch@icann.org;PARTST
 AT=NEEDS-ACTION:MAILTO:gnso-rpm-tmch@icann.org
ATTENDEE;ROLE=REQ-PARTICIPANT;RSVP=FALSE;CN="Mary
  Wong";PARTSTAT=NEEDS-ACTION:MAILTO:mary.wong@icann.org
ATTENDEE;ROLE=REQ-PARTICIPANT;RSVP=FALSE;CN="David
  Tait";PARTSTAT=NEEDS-ACTION:MAILTO:david.tait@icann.org
ATTENDEE;ROLE=REQ-PARTICIPANT;RSVP=FALSE;CN="Glen de Saint
  Géry";PARTSTAT=NEEDS-ACTION:MAILTO:Glen@icann.org
ATTENDEE;ROLE=REQ-PARTICIPANT;RSVP=FALSE;CN="Gisella
  Gruber";PARTSTAT=NEEDS-ACTION:MAILTO:Gisella.Gruber@icann.org
ATTENDEE;ROLE=REQ-PARTICIPANT;RSVP=FALSE;CN="Nathalie
  Peregrine";PARTSTAT=NEEDS-ACTION:MAILTO:nathalie.peregrine@icann.org
ATTENDEE;ROLE=REQ-PARTICIPANT;RSVP=FALSE;CN="Terri
  Agnew";PARTSTAT=NEEDS-ACTION:MAILTO:terri.agnew@icann.org
ATTENDEE;ROLE=REQ-PARTICIPANT;RSVP=FALSE;CN="Yesim
  Nazlar";PARTSTAT=NEEDS-ACTION:MAILTO:yesim.nazlar@icann.org
ATTENDEE;ROLE=REQ-PARTICIPANT;RSVP=FALSE;CN="Michelle
  DeSmyter";PARTSTAT=NEEDS-ACTION:MAILTO:michelle.desmyter@icann.org
ATTENDEE;ROLE=REQ-PARTICIPANT;RSVP=FALSE;CN="ICANN Policy
  Calendar";PARTSTAT=NEEDS-ACTION:MAILTO:PolicyCalendar@icann.org
X-MICROSOFT-CDO-BUSYSTATUS:BUSY
X-MICROSOFT-CDO-ALLDAYEVENT:FALSE
X-MICROSOFT-CDO-INSTTYPE:0
BEGIN:VALARM
ACTION:DISPLAY
DESCRIPTION:REMINDER
TRIGGER;RELATED=START:-PT00H15M00S
END:VALARM
END:VEVENT
END:VCALENDAR
