BEGIN:VCALENDAR
METHOD:REQUEST
PRODID:Microsoft Exchange Server 2010
VERSION:2.0
BEGIN:VTIMEZONE
TZID:UTC
BEGIN:STANDARD
DTSTART:16010101T000000
TZOFFSETFROM:+0000
TZOFFSETTO:+0000
END:STANDARD
BEGIN:DAYLIGHT
DTSTART:16010101T000000
TZOFFSETFROM:+0000
TZOFFSETTO:+0000
END:DAYLIGHT
END:VTIMEZONE
BEGIN:VEVENT
ORGANIZER;CN=Kimberly Carlson:MAILTO:kimberly.carlson@icann.org
ATTENDEE;ROLE=REQ-PARTICIPANT;PARTSTAT=NEEDS-ACTION;RSVP=TRUE;CN=ifrt@icann
 .org:MAILTO:ifrt@icann.org
DESCRIPTION;LANGUAGE=en-US:Dear IFRT\,\n\n\n\nAs a follow up to Frederico
 ’s email from November 14th\, we would like to schedule the review team 
 kick-off call for December 3rd at 1700 UTC.\n\n\n\nPlease find the draft a
 genda below:\n\n\n\n  1.  Agenda Bashing\n\n  2.  Introductions\n\n   3.  
      Proposed Rules of Engagement:   https://community.icann.org/display/i
 fr/Rules+of+Engagement\n\n   4.       Proposed Regular Meetings schedule\n
 \n         a)       Every two weeks\n\n   5.       Mandate:   https://comm
 unity.icann.org/display/ifr/Mandate\n\n      Special attention to Sections
  18.3 and 18.4\n\n   6.       ICANN/PTI Contract:  https://community.icann
 .org/display/ifr/IFR+Bylaws+and+IANA+Naming+Contract\n\n   7.       IANA N
 aming Function Contract / Amendment 1 / SLA\n\n   8.       AOB\n\n\n\nCall
  details:\n\n\n\nIANA Naming Function Review Team (IFRT) - Call #1\n\nTime
 : Dec 3\, 2019 05:00 PM Universal Time UTC\n\nJoin Zoom Meeting\n\nhttps:/
 /icann.zoom.us/j/910601701?pwd=aEE5aE1Xeng2UHBXT09kdHlrWW10dz09\n\nMeeting
  ID: 910 601 701\n\n*Password: 135034\n\n**Please note this added security
 /privacy feature. Participants will only be required to enter the password
  if they are joining via the application and typing in the meeting ID manu
 ally. Anyone who joins a meeting via a link in a calendar or e-mail invita
 tion will not be required to enter the password upon joining**\n\nFind you
 r local number: https://icann.zoom.us/u/aAAP6aGAx\n\nWiki:  https://commun
 ity.icann.org/x/EZMzBw (recording\, background material\, attendance\, etc
 . will be posted here as it becomes available)\n\n\n\nAdditionally\, as a 
 reminder:\n\nA review of the IANA Naming Function Webinar will be offered 
 to any interested IFRT member during the second week of Dec. Time and date
  will be determined according to subscribed attendees. Please RSVP to amy@
 creamer@icann.org<mailto:amy@creamer@icann.org> by Nov 22nd.\n\n\n\nThank 
 you\,\n\nKim\n\n\n
SUMMARY;LANGUAGE=en-US:IFRT kick-off call | December 3rd @ 1700 UTC
DTSTART;TZID=UTC:20191203T170000
DTEND;TZID=UTC:20191203T183000
UID:86F3FABB-ECE5-4243-8F45-72BC7A82D2E5
CLASS:PUBLIC
PRIORITY:5
DTSTAMP:20191117T212516Z
TRANSP:OPAQUE
STATUS:CONFIRMED
SEQUENCE:0
LOCATION;LANGUAGE=en-US:https://icann.zoom.us/j/910601701?pwd=aEE5aE1Xeng2U
 HBXT09kdHlrWW10dz09 
X-MICROSOFT-CDO-APPT-SEQUENCE:0
X-MICROSOFT-CDO-OWNERAPPTID:2117831077
X-MICROSOFT-CDO-BUSYSTATUS:TENTATIVE
X-MICROSOFT-CDO-INTENDEDSTATUS:BUSY
X-MICROSOFT-CDO-ALLDAYEVENT:FALSE
X-MICROSOFT-CDO-IMPORTANCE:1
X-MICROSOFT-CDO-INSTTYPE:0
X-MICROSOFT-DISALLOW-COUNTER:FALSE
BEGIN:VALARM
DESCRIPTION:REMINDER
TRIGGER;RELATED=START:-PT15M
ACTION:DISPLAY
END:VALARM
END:VEVENT
END:VCALENDAR
