BEGIN:VCALENDAR
METHOD:REQUEST
PRODID:Microsoft Exchange Server 2010
VERSION:2.0
BEGIN:VTIMEZONE
TZID:UTC
BEGIN:STANDARD
DTSTART:16010101T000000
TZOFFSETFROM:+0000
TZOFFSETTO:+0000
END:STANDARD
BEGIN:DAYLIGHT
DTSTART:16010101T000000
TZOFFSETFROM:+0000
TZOFFSETTO:+0000
END:DAYLIGHT
END:VTIMEZONE
BEGIN:VEVENT
ORGANIZER;CN=Kimberly Carlson:MAILTO:kimberly.carlson@icann.org
ATTENDEE;ROLE=REQ-PARTICIPANT;PARTSTAT=NEEDS-ACTION;RSVP=TRUE;CN=ifr@icann.
 org:MAILTO:ifr@icann.org
ATTENDEE;ROLE=REQ-PARTICIPANT;PARTSTAT=NEEDS-ACTION;RSVP=TRUE;CN=ifrt@icann
 .org:MAILTO:ifrt@icann.org
ATTENDEE;ROLE=OPT-PARTICIPANT;PARTSTAT=NEEDS-ACTION;RSVP=TRUE;CN=Isabelle C
 olas:MAILTO:isabelle.colas@icann.org
DESCRIPTION;LANGUAGE=en-US:Dear IFRT\,\n\n\n\nPlease find below the call de
 tails for the IANA Naming Function Review Team (IFRT) - Call #2 – Decemb
 er 17th at 17:00 UTC (time zone converter<https://www.timeanddate.com/worl
 dclock/fixedtime.html?msg=IANA+Naming+Function+Review+Team+%28IFRT%29+-+Ca
 ll+%232&iso=20191217T17&ah=1>)\n\n\n\nTENTATIVE Draft agenda (agenda will 
 be finalized during the call on 5 December):\n\n\n1. Agenda Bashing\n2. Ad
 ministrative items (if any)\nAction Items\n\n3. Rules of Engagement approv
 al\n\n4. Regular Meeting Schedule approval\n\n5. Proposed Work Plan presen
 tation\n\n6. AOB\n\n\n\n\n\nZoom Meeting URL:\n\nhttps://icann.zoom.us/j/7
 04331250\n\nMeeting ID: 704 331 250\n\n\n\nOne tap mobile\n\n+16699006833\
 ,\,704331250# US (San Jose)\n\n+19294362866\,\,704331250# US (New York)\n\
 nFind your local number: https://icann.zoom.us/u/aAAP6aGAx\n\nWiki space: 
 https://community.icann.org/x/-JczBw\n\n\n\n\n
SUMMARY;LANGUAGE=en-US:IANA Naming Function Review Team (IFRT) - Call #2 
 – December  17th at 17:00 UTC 
DTSTART;TZID=UTC:20191217T170000
DTEND;TZID=UTC:20191217T180000
UID:396A790A-B75F-4823-BD1E-4C767F0690A7
CLASS:PUBLIC
PRIORITY:5
DTSTAMP:20191203T174923Z
TRANSP:OPAQUE
STATUS:CONFIRMED
SEQUENCE:1
LOCATION;LANGUAGE=en-US:https://icann.zoom.us/j/704331250 
X-MICROSOFT-CDO-APPT-SEQUENCE:1
X-MICROSOFT-CDO-OWNERAPPTID:2117866800
X-MICROSOFT-CDO-BUSYSTATUS:TENTATIVE
X-MICROSOFT-CDO-INTENDEDSTATUS:BUSY
X-MICROSOFT-CDO-ALLDAYEVENT:FALSE
X-MICROSOFT-CDO-IMPORTANCE:1
X-MICROSOFT-CDO-INSTTYPE:0
X-MICROSOFT-DISALLOW-COUNTER:FALSE
BEGIN:VALARM
DESCRIPTION:REMINDER
TRIGGER;RELATED=START:-PT15M
ACTION:DISPLAY
END:VALARM
END:VEVENT
END:VCALENDAR
