BEGIN:VCALENDAR
METHOD:REQUEST
PRODID:Microsoft Exchange Server 2010
VERSION:2.0
BEGIN:VTIMEZONE
TZID:UTC
BEGIN:STANDARD
DTSTART:16010101T000000
TZOFFSETFROM:+0000
TZOFFSETTO:+0000
END:STANDARD
BEGIN:DAYLIGHT
DTSTART:16010101T000000
TZOFFSETFROM:+0000
TZOFFSETTO:+0000
END:DAYLIGHT
END:VTIMEZONE
BEGIN:VEVENT
ORGANIZER;CN=Kimberly Carlson:MAILTO:kimberly.carlson@icann.org
ATTENDEE;ROLE=REQ-PARTICIPANT;PARTSTAT=NEEDS-ACTION;RSVP=TRUE;CN=IFRT@icann
 .org:MAILTO:IFRT@icann.org
ATTENDEE;ROLE=REQ-PARTICIPANT;PARTSTAT=NEEDS-ACTION;RSVP=TRUE;CN=ifrt-leade
 rship@icann.org:MAILTO:ifrt-leadership@icann.org
DESCRIPTION;LANGUAGE=en-US:Dear IFRT\,\n\n\n\nAs the discussed on the last 
 call\, the first three calls of 2020 for the IANA Function Review Team (IF
 RT) will be January 7th\, 21st and February 4th at 17:00 UTC. (time zone<h
 ttps://www.timeanddate.com/worldclock/fixedtime.html?msg=IANA+Function+Rev
 iew+Team+%28IFRT%29+Teleconference&iso=20200107T17>)\n\n\n\nAn agenda will
  be circulated prior to the call.\n\n\n\nPlease find the call details belo
 w:\n\n\n\nTime: Jan 7\, 2020 05:00 PM Universal Time UTC\n\n        Every 
 week on Tue\, until Feb 4\, 2020\, 3 occurrence(s)\n\n        Jan 7\, 2020
  05:00 PM\n\n        Jan 21\, 2020 05:00 PM\n\n        Feb 4\, 2020 05:00 
 PM\n\n\n\nJoin Zoom Meeting\n\nhttps://icann.zoom.us/j/756865211\n\n\n\nMe
 eting ID: 756 865 211\n\n\n\nOne tap mobile\n\n+16699006833\,\,756865211# 
 US (San Jose)\n\n+19294362866\,\,756865211# US (New York)\n\nFind your loc
 al number: https://icann.zoom.us/u/aAAP6aGAx\n
RRULE:FREQ=WEEKLY;UNTIL=20200204T170000Z;INTERVAL=2;BYDAY=TU;WKST=SU
SUMMARY;LANGUAGE=en-US:IANA Function Review Team (IFRT) | January 7th\, 21s
 t and February 4th at 17:00 UTC
DTSTART;TZID=UTC:20200107T170000
DTEND;TZID=UTC:20200107T180000
UID:DEDAC600-04F6-4639-AF5B-D817EF64FF07
CLASS:PUBLIC
PRIORITY:5
DTSTAMP:20191219T171145Z
TRANSP:OPAQUE
STATUS:CONFIRMED
SEQUENCE:0
LOCATION;LANGUAGE=en-US:https://icann.zoom.us/j/756865211 
X-MICROSOFT-CDO-APPT-SEQUENCE:0
X-MICROSOFT-CDO-OWNERAPPTID:2117902291
X-MICROSOFT-CDO-BUSYSTATUS:TENTATIVE
X-MICROSOFT-CDO-INTENDEDSTATUS:BUSY
X-MICROSOFT-CDO-ALLDAYEVENT:FALSE
X-MICROSOFT-CDO-IMPORTANCE:1
X-MICROSOFT-CDO-INSTTYPE:1
X-MICROSOFT-DISALLOW-COUNTER:FALSE
BEGIN:VALARM
DESCRIPTION:REMINDER
TRIGGER;RELATED=START:-PT15M
ACTION:DISPLAY
END:VALARM
END:VEVENT
END:VCALENDAR
