BEGIN:VCALENDAR
METHOD:REQUEST
PRODID:Microsoft Exchange Server 2010
VERSION:2.0
BEGIN:VTIMEZONE
TZID:UTC
BEGIN:STANDARD
DTSTART:16010101T000000
TZOFFSETFROM:+0000
TZOFFSETTO:+0000
END:STANDARD
BEGIN:DAYLIGHT
DTSTART:16010101T000000
TZOFFSETFROM:+0000
TZOFFSETTO:+0000
END:DAYLIGHT
END:VTIMEZONE
BEGIN:VEVENT
ORGANIZER;CN=Kimberly Carlson:MAILTO:kimberly.carlson@icann.org
ATTENDEE;ROLE=REQ-PARTICIPANT;PARTSTAT=NEEDS-ACTION;RSVP=TRUE;CN=IFRT@icann
 .org:MAILTO:IFRT@icann.org
ATTENDEE;ROLE=REQ-PARTICIPANT;PARTSTAT=NEEDS-ACTION;RSVP=TRUE;CN=ifrt-leade
 rship@icann.org:MAILTO:ifrt-leadership@icann.org
DESCRIPTION;LANGUAGE=en-US:Dear IFRT\,\n\n\n\nAs discussed\, there will be 
 an  “IANA Overview for the IFRT” webinar on 24 January from 1700-1830 
 UTC. (time zone<https://www.timeanddate.com/worldclock/fixedtime.html?msg=
 IANA+Overview+for+IFRT&iso=20200124T17&ah=1&am=30>)\n\n\n\nPlease find the
  call details below:\n\n\n\nJoin Zoom Meeting\n\nhttps://icann.zoom.us/j/4
 72297611\n\n\n\nMeeting ID: 472 297 611\n\nFind your local number: https:/
 /icann.zoom.us/u/aAAP6aGAx\n\nWebinar wiki:  https://community.icann.org/x
 /EQOJBw (recording and slides will be published here as they become availa
 ble)\n\n\n\nThank you\,\n\nKim\n\n\n
SUMMARY;LANGUAGE=en-US:IANA Overview for the IFRT webinar | 24 January from
  1700-1830 UTC
DTSTART;TZID=UTC:20200124T170000
DTEND;TZID=UTC:20200124T183000
UID:D0FF29D3-0E2C-4609-88FF-F52BBA76E46E
CLASS:PUBLIC
PRIORITY:5
DTSTAMP:20200108T174120Z
TRANSP:OPAQUE
STATUS:CONFIRMED
SEQUENCE:0
LOCATION;LANGUAGE=en-US:https://icann.zoom.us/j/472297611 
X-MICROSOFT-CDO-APPT-SEQUENCE:0
X-MICROSOFT-CDO-OWNERAPPTID:2118207481
X-MICROSOFT-CDO-BUSYSTATUS:TENTATIVE
X-MICROSOFT-CDO-INTENDEDSTATUS:BUSY
X-MICROSOFT-CDO-ALLDAYEVENT:FALSE
X-MICROSOFT-CDO-IMPORTANCE:1
X-MICROSOFT-CDO-INSTTYPE:0
X-MICROSOFT-DISALLOW-COUNTER:FALSE
BEGIN:VALARM
DESCRIPTION:REMINDER
TRIGGER;RELATED=START:-PT15M
ACTION:DISPLAY
END:VALARM
END:VEVENT
END:VCALENDAR
