BEGIN:VCALENDAR
METHOD:REQUEST
PRODID:Microsoft Exchange Server 2010
VERSION:2.0
BEGIN:VTIMEZONE
TZID:UTC
BEGIN:STANDARD
DTSTART:16010101T000000
TZOFFSETFROM:+0000
TZOFFSETTO:+0000
END:STANDARD
BEGIN:DAYLIGHT
DTSTART:16010101T000000
TZOFFSETFROM:+0000
TZOFFSETTO:+0000
END:DAYLIGHT
END:VTIMEZONE
BEGIN:VEVENT
ORGANIZER;CN=Kimberly Carlson:MAILTO:kimberly.carlson@icann.org
ATTENDEE;ROLE=REQ-PARTICIPANT;PARTSTAT=NEEDS-ACTION;RSVP=TRUE;CN=IFRT@icann
 .org:MAILTO:IFRT@icann.org
ATTENDEE;ROLE=REQ-PARTICIPANT;PARTSTAT=NEEDS-ACTION;RSVP=TRUE;CN=ifrt-leade
 rship@icann.org:MAILTO:ifrt-leadership@icann.org
ATTENDEE;ROLE=OPT-PARTICIPANT;PARTSTAT=NEEDS-ACTION;RSVP=TRUE;CN=James Gann
 on:MAILTO:james@cyberinvasion.net
ATTENDEE;ROLE=OPT-PARTICIPANT;PARTSTAT=NEEDS-ACTION;RSVP=TRUE;CN=Steve Cont
 e:MAILTO:steve.conte@icann.org
ATTENDEE;ROLE=OPT-PARTICIPANT;PARTSTAT=NEEDS-ACTION;RSVP=TRUE;CN=Amy Creame
 r:MAILTO:amy.creamer@icann.org
ATTENDEE;ROLE=OPT-PARTICIPANT;PARTSTAT=NEEDS-ACTION;RSVP=TRUE;CN=paf@netnod
 .se:MAILTO:paf@netnod.se
ATTENDEE;ROLE=OPT-PARTICIPANT;PARTSTAT=NEEDS-ACTION;RSVP=TRUE;CN=mesumbesli
 n@gmail.com:MAILTO:mesumbeslin@gmail.com
ATTENDEE;ROLE=OPT-PARTICIPANT;PARTSTAT=NEEDS-ACTION;RSVP=TRUE;CN=Isabelle C
 olas:MAILTO:isabelle.colas@icann.org
ATTENDEE;ROLE=OPT-PARTICIPANT;PARTSTAT=NEEDS-ACTION;RSVP=TRUE;CN=dawson@i2c
 oalition.com:MAILTO:dawson@i2coalition.com
ATTENDEE;ROLE=OPT-PARTICIPANT;PARTSTAT=NEEDS-ACTION;RSVP=TRUE;CN=Kim Davies
 :MAILTO:kim.davies@iana.org
DESCRIPTION;LANGUAGE=en-US:STARTING NOW\n\n\n\nDear IFRT\,\n\n\n\nAs the di
 scussed on the last call\, the first three calls of 2020 for the IANA Func
 tion Review Team (IFRT) will be January 7th\, 21st and February 4th at 17:
 00 UTC. (time zone<https://www.timeanddate.com/worldclock/fixedtime.html?m
 sg=IANA+Function+Review+Team+%28IFRT%29+Teleconference&iso=20200107T17>)\n
 \n\n\nAn agenda will be circulated prior to the call.\n\n\n\nPlease find t
 he call details below:\n\n\n\nTime: Jan 7\, 2020 05:00 PM Universal Time U
 TC\n\nEvery week on Tue\, until Feb 4\, 2020\, 3 occurrence(s)\n\nJan 7\, 
 2020 05:00 PM\n\nJan 21\, 2020 05:00 PM\n\nFeb 4\, 2020 05:00 PM\n\n\n\nJo
 in Zoom Meeting\n\nhttps://icann.zoom.us/j/756865211\n\n\n\nMeeting ID: 75
 6 865 211\n\n\n\nOne tap mobile\n\n+16699006833\,\,756865211# US (San Jose
 )\n\n+19294362866\,\,756865211# US (New York)\n\nFind your local number: h
 ttps://icann.zoom.us/u/aAAP6aGAx\n
SUMMARY;LANGUAGE=en-US:IANA Function Review Team (IFRT) | January 7th\, 21s
 t and February 4th at 17:00 UTC
DTSTART;TZID=UTC:20200204T170000
DTEND;TZID=UTC:20200204T180000
UID:DEDAC600-04F6-4639-AF5B-D817EF64FF07
RECURRENCE-ID;TZID=UTC:20200204T170000
CLASS:PUBLIC
PRIORITY:5
DTSTAMP:20200204T170057Z
TRANSP:OPAQUE
STATUS:CONFIRMED
SEQUENCE:5
LOCATION;LANGUAGE=en-US:https://icann.zoom.us/j/756865211 
X-MICROSOFT-CDO-APPT-SEQUENCE:5
X-MICROSOFT-CDO-OWNERAPPTID:2117902291
X-MICROSOFT-CDO-BUSYSTATUS:TENTATIVE
X-MICROSOFT-CDO-INTENDEDSTATUS:BUSY
X-MICROSOFT-CDO-ALLDAYEVENT:FALSE
X-MICROSOFT-CDO-IMPORTANCE:1
X-MICROSOFT-CDO-INSTTYPE:3
X-MICROSOFT-DISALLOW-COUNTER:FALSE
BEGIN:VALARM
DESCRIPTION:REMINDER
TRIGGER;RELATED=START:-PT15M
ACTION:DISPLAY
END:VALARM
END:VEVENT
END:VCALENDAR
