BEGIN:VCALENDAR
METHOD:REQUEST
PRODID:Microsoft Exchange Server 2010
VERSION:2.0
BEGIN:VTIMEZONE
TZID:UTC
BEGIN:STANDARD
DTSTART:16010101T000000
TZOFFSETFROM:+0000
TZOFFSETTO:+0000
END:STANDARD
BEGIN:DAYLIGHT
DTSTART:16010101T000000
TZOFFSETFROM:+0000
TZOFFSETTO:+0000
END:DAYLIGHT
END:VTIMEZONE
BEGIN:VEVENT
ORGANIZER;CN=Kimberly Carlson:MAILTO:kimberly.carlson@icann.org
ATTENDEE;ROLE=REQ-PARTICIPANT;PARTSTAT=NEEDS-ACTION;RSVP=TRUE;CN=IFRT@icann
 .org:MAILTO:IFRT@icann.org
ATTENDEE;ROLE=REQ-PARTICIPANT;PARTSTAT=NEEDS-ACTION;RSVP=TRUE;CN=Ifrt-leade
 rship:MAILTO:mailman-bounces@icann.org
ATTENDEE;ROLE=OPT-PARTICIPANT;PARTSTAT=NEEDS-ACTION;RSVP=TRUE;CN=James Gann
 on:MAILTO:james@cyberinvasion.net
ATTENDEE;ROLE=OPT-PARTICIPANT;PARTSTAT=NEEDS-ACTION;RSVP=TRUE;CN=Steve Cont
 e:MAILTO:steve.conte@icann.org
ATTENDEE;ROLE=OPT-PARTICIPANT;PARTSTAT=NEEDS-ACTION;RSVP=TRUE;CN=Kim Davies
 :MAILTO:kim.davies@iana.org
ATTENDEE;ROLE=OPT-PARTICIPANT;PARTSTAT=NEEDS-ACTION;RSVP=TRUE;CN=Amy Creame
 r:MAILTO:amy.creamer@icann.org
ATTENDEE;ROLE=OPT-PARTICIPANT;PARTSTAT=NEEDS-ACTION;RSVP=TRUE;CN=Danko Jevt
 ović:MAILTO:danko@jevtovic.rs
ATTENDEE;ROLE=OPT-PARTICIPANT;PARTSTAT=NEEDS-ACTION;RSVP=TRUE;CN=paf@netnod
 .se:MAILTO:paf@netnod.se
ATTENDEE;ROLE=OPT-PARTICIPANT;PARTSTAT=NEEDS-ACTION;RSVP=TRUE;CN=mesumbesli
 n@gmail.com:MAILTO:mesumbeslin@gmail.com
ATTENDEE;ROLE=OPT-PARTICIPANT;PARTSTAT=NEEDS-ACTION;RSVP=TRUE;CN=Samantha E
 isner:MAILTO:Samantha.Eisner@icann.org
ATTENDEE;ROLE=OPT-PARTICIPANT;PARTSTAT=NEEDS-ACTION;RSVP=TRUE;CN="Wilhelm, R
 ichard":MAILTO:rwilhelm@verisign.com
DESCRIPTION;LANGUAGE=en-US:***STARTING NOW***\n\n\n\nDear IFRT\,\n\n\n\nPur
 suant to the Doodle\, the IANA Function Review Team (IFRT) teleconference 
 is scheduled for 18 February\, at 17:00 UTC for 90 minutes.\n\n\n\nPlease 
 find the call details below:\n\n\n\nJoin Zoom Meeting\n\nhttps://icann.zoo
 m.us/j/756865211\n\nwiki space: https://community.icann.org/x/sQ_JBw (reco
 rding\, notes\, attendance will be published as it becomes available)\n\nM
 eeting ID: 756 865 211\n\nFind your local number: https://icann.zoom.us/u/
 aAAP6aGAx\n\n\n\nAn agenda will be circulated prior to the call.\n\n\n
SUMMARY;LANGUAGE=en-US:IANA Function Review Team (IFRT) teleconference | 18
  February\, at 17:00 UTC 
DTSTART;TZID=UTC:20200218T170000
DTEND;TZID=UTC:20200218T183000
UID:E4C5672A-EF61-4F88-A774-D1DFFAE24116
CLASS:PUBLIC
PRIORITY:5
DTSTAMP:20200218T165718Z
TRANSP:OPAQUE
STATUS:CONFIRMED
SEQUENCE:1
LOCATION;LANGUAGE=en-US:https://icann.zoom.us/j/756865211 
X-MICROSOFT-CDO-APPT-SEQUENCE:1
X-MICROSOFT-CDO-OWNERAPPTID:2118251612
X-MICROSOFT-CDO-BUSYSTATUS:TENTATIVE
X-MICROSOFT-CDO-INTENDEDSTATUS:BUSY
X-MICROSOFT-CDO-ALLDAYEVENT:FALSE
X-MICROSOFT-CDO-IMPORTANCE:1
X-MICROSOFT-CDO-INSTTYPE:0
X-MICROSOFT-DISALLOW-COUNTER:FALSE
END:VEVENT
END:VCALENDAR
