BEGIN:VCALENDAR
METHOD:REQUEST
PRODID:Microsoft Exchange Server 2010
VERSION:2.0
BEGIN:VTIMEZONE
TZID:UTC
BEGIN:STANDARD
DTSTART:16010101T000000
TZOFFSETFROM:+0000
TZOFFSETTO:+0000
END:STANDARD
BEGIN:DAYLIGHT
DTSTART:16010101T000000
TZOFFSETFROM:+0000
TZOFFSETTO:+0000
END:DAYLIGHT
END:VTIMEZONE
BEGIN:VEVENT
ORGANIZER;CN=Kimberly Carlson:MAILTO:kimberly.carlson@icann.org
ATTENDEE;ROLE=REQ-PARTICIPANT;PARTSTAT=NEEDS-ACTION;RSVP=TRUE;CN=ifrt-leade
 rship@icann.org:MAILTO:ifrt-leadership@icann.org
ATTENDEE;ROLE=REQ-PARTICIPANT;PARTSTAT=NEEDS-ACTION;RSVP=TRUE;CN=IFRT@icann
 .org:MAILTO:IFRT@icann.org
ATTENDEE;ROLE=REQ-PARTICIPANT;PARTSTAT=NEEDS-ACTION;RSVP=TRUE;CN=Samantha E
 isner:MAILTO:Samantha.Eisner@icann.org
ATTENDEE;ROLE=OPT-PARTICIPANT;PARTSTAT=NEEDS-ACTION;RSVP=TRUE;CN=paf@netnod
 .se:MAILTO:paf@netnod.se
ATTENDEE;ROLE=OPT-PARTICIPANT;PARTSTAT=NEEDS-ACTION;RSVP=TRUE;CN=Steve Cont
 e:MAILTO:steve.conte@icann.org
ATTENDEE;ROLE=OPT-PARTICIPANT;PARTSTAT=NEEDS-ACTION;RSVP=TRUE;CN=Danko Jevt
 ović:MAILTO:danko@jevtovic.rs
ATTENDEE;ROLE=OPT-PARTICIPANT;PARTSTAT=NEEDS-ACTION;RSVP=TRUE;CN=Kim Davies
 :MAILTO:kim.davies@iana.org
ATTENDEE;ROLE=OPT-PARTICIPANT;PARTSTAT=NEEDS-ACTION;RSVP=TRUE;CN="Wilhelm, R
 ichard":MAILTO:rwilhelm@verisign.com
ATTENDEE;ROLE=OPT-PARTICIPANT;PARTSTAT=NEEDS-ACTION;RSVP=TRUE;CN=mesumbesli
 n@gmail.com:MAILTO:mesumbeslin@gmail.com
ATTENDEE;ROLE=OPT-PARTICIPANT;PARTSTAT=NEEDS-ACTION;RSVP=TRUE;CN=Amy Creame
 r:MAILTO:amy.creamer@icann.org
ATTENDEE;ROLE=OPT-PARTICIPANT;PARTSTAT=NEEDS-ACTION;RSVP=TRUE;CN=James Gann
 on:MAILTO:james@cyberinvasion.net
DESCRIPTION;LANGUAGE=en-US:**STARTING IN 20 MINUTES****\n\n\n\nDear IFRT\,\
 n\n\n\nThe special IFRT teleconference with ICANN Legal is scheduled for 2
 5 February at 16:00 UTC. (time zone<https://www.timeanddate.com/worldclock
 /fixedtime.html?msg=Special+IFRT+teleconference+with+ICANN+Legal&iso=20200
 225T16&ah=1>)\n\n\n\nPlease find the call details below:\n\nJoin Zoom Meet
 ing\n\nhttps://icann.zoom.us/j/431728698\n\n\n\nMeeting ID: 431 728 698\n\
 n\n\nOne tap mobile\n\n+16699006833\,\,431728698# US (San Jose)\n\n+192943
 62866\,\,431728698# US (New York)\n\nFind your local number: https://icann
 .zoom.us/u/aAAP6aGAx\n
SUMMARY;LANGUAGE=en-US:Special IFRT teleconference with ICANN Legal | 25 Fe
 bruary at 16:00 UTC. (time zone)    
DTSTART;TZID=UTC:20200225T160000
DTEND;TZID=UTC:20200225T170000
UID:920F19E5-EB28-4AD2-AC60-BE8C85E0357B
CLASS:PUBLIC
PRIORITY:5
DTSTAMP:20200225T153831Z
TRANSP:OPAQUE
STATUS:CONFIRMED
SEQUENCE:1
LOCATION;LANGUAGE=en-US:https://icann.zoom.us/j/431728698 
X-MICROSOFT-CDO-APPT-SEQUENCE:1
X-MICROSOFT-CDO-OWNERAPPTID:2118292704
X-MICROSOFT-CDO-BUSYSTATUS:TENTATIVE
X-MICROSOFT-CDO-INTENDEDSTATUS:BUSY
X-MICROSOFT-CDO-ALLDAYEVENT:FALSE
X-MICROSOFT-CDO-IMPORTANCE:1
X-MICROSOFT-CDO-INSTTYPE:0
X-MICROSOFT-DISALLOW-COUNTER:FALSE
BEGIN:VALARM
DESCRIPTION:REMINDER
TRIGGER;RELATED=START:-PT15M
ACTION:DISPLAY
END:VALARM
END:VEVENT
END:VCALENDAR
