BEGIN:VCALENDAR
METHOD:REQUEST
PRODID:Microsoft Exchange Server 2010
VERSION:2.0
BEGIN:VTIMEZONE
TZID:UTC
BEGIN:STANDARD
DTSTART:16010101T000000
TZOFFSETFROM:+0000
TZOFFSETTO:+0000
END:STANDARD
BEGIN:DAYLIGHT
DTSTART:16010101T000000
TZOFFSETFROM:+0000
TZOFFSETTO:+0000
END:DAYLIGHT
END:VTIMEZONE
BEGIN:VEVENT
ORGANIZER;CN=Kimberly Carlson:MAILTO:kimberly.carlson@icann.org
ATTENDEE;ROLE=REQ-PARTICIPANT;PARTSTAT=NEEDS-ACTION;RSVP=TRUE;CN=IFRT@icann
 .org:MAILTO:IFRT@icann.org
ATTENDEE;ROLE=REQ-PARTICIPANT;PARTSTAT=NEEDS-ACTION;RSVP=TRUE;CN=ifrt-leade
 rship@icann.org:MAILTO:ifrt-leadership@icann.org
ATTENDEE;ROLE=OPT-PARTICIPANT;PARTSTAT=NEEDS-ACTION;RSVP=TRUE;CN=Steve Cont
 e:MAILTO:steve.conte@icann.org
ATTENDEE;ROLE=OPT-PARTICIPANT;PARTSTAT=NEEDS-ACTION;RSVP=TRUE;CN=dawson@i2c
 oalition.com:MAILTO:dawson@i2coalition.com
ATTENDEE;ROLE=OPT-PARTICIPANT;PARTSTAT=NEEDS-ACTION;RSVP=TRUE;CN=James Gann
 on:MAILTO:james@cyberinvasion.net
ATTENDEE;ROLE=OPT-PARTICIPANT;PARTSTAT=NEEDS-ACTION;RSVP=TRUE;CN=Danko Jevt
 ović:MAILTO:danko@jevtovic.rs
ATTENDEE;ROLE=OPT-PARTICIPANT;PARTSTAT=NEEDS-ACTION;RSVP=TRUE;CN=Amy Creame
 r:MAILTO:amy.creamer@icann.org
ATTENDEE;ROLE=OPT-PARTICIPANT;PARTSTAT=NEEDS-ACTION;RSVP=TRUE;CN=mesumbesli
 n@gmail.com:MAILTO:mesumbeslin@gmail.com
ATTENDEE;ROLE=OPT-PARTICIPANT;PARTSTAT=NEEDS-ACTION;RSVP=TRUE;CN=paf@netnod
 .se:MAILTO:paf@netnod.se
DESCRIPTION;LANGUAGE=en-US:****STARTING IN 10 MINUTES****\n\n\n\n\n\nDear I
 FRT\,\n\n\n\nThe last IANA Function Review Team (IFRT) teleconference befo
 re ICANN67-Cancún will be March 3 at 17:00 UTC. (time zone<https://www.ti
 meanddate.com/worldclock/fixedtime.html?msg=IANA+Function+Review+Team+%28I
 FRT%29+Teleconference&iso=20200303T17&p1=1440>)\n\n\n\nAn agenda will be c
 irculated prior to the call.\n\n\n\nPlease find the call details below:\n\
 n\n\nJoin Zoom Meeting\n\nhttps://icann.zoom.us/j/756865211\n\n\n\nMeeting
  ID: 756 865 211\n\n\n\nOne tap mobile\n\n+16699006833\,\,756865211# US (S
 an Jose)\n\n+19294362866\,\,756865211# US (New York)\n\nFind your local nu
 mber: https://icann.zoom.us/u/aAAP6aGAx\n
SUMMARY;LANGUAGE=en-US:IANA Function Review Team (IFRT) |  March 3 at 17:00
  UTC
DTSTART;TZID=UTC:20200303T170000
DTEND;TZID=UTC:20200303T183000
UID:7E88D9A3-4226-4003-8CE2-62689301A555
CLASS:PUBLIC
PRIORITY:5
DTSTAMP:20200303T165059Z
TRANSP:OPAQUE
STATUS:CONFIRMED
SEQUENCE:1
LOCATION;LANGUAGE=en-US:https://icann.zoom.us/j/756865211 
X-MICROSOFT-CDO-APPT-SEQUENCE:1
X-MICROSOFT-CDO-OWNERAPPTID:2118267562
X-MICROSOFT-CDO-BUSYSTATUS:TENTATIVE
X-MICROSOFT-CDO-INTENDEDSTATUS:BUSY
X-MICROSOFT-CDO-ALLDAYEVENT:FALSE
X-MICROSOFT-CDO-IMPORTANCE:1
X-MICROSOFT-CDO-INSTTYPE:0
X-MICROSOFT-DISALLOW-COUNTER:FALSE
END:VEVENT
END:VCALENDAR
