BEGIN:VCALENDAR
METHOD:REQUEST
PRODID:Microsoft Exchange Server 2010
VERSION:2.0
BEGIN:VTIMEZONE
TZID:UTC
BEGIN:STANDARD
DTSTART:16010101T000000
TZOFFSETFROM:+0000
TZOFFSETTO:+0000
END:STANDARD
BEGIN:DAYLIGHT
DTSTART:16010101T000000
TZOFFSETFROM:+0000
TZOFFSETTO:+0000
END:DAYLIGHT
END:VTIMEZONE
BEGIN:VEVENT
ORGANIZER;CN=Kimberly Carlson:MAILTO:kimberly.carlson@icann.org
ATTENDEE;ROLE=REQ-PARTICIPANT;PARTSTAT=NEEDS-ACTION;RSVP=TRUE;CN=IFRT@icann
 .org:MAILTO:IFRT@icann.org
ATTENDEE;ROLE=REQ-PARTICIPANT;PARTSTAT=NEEDS-ACTION;RSVP=TRUE;CN=ifrt-leade
 rship@icann.org:MAILTO:ifrt-leadership@icann.org
DESCRIPTION;LANGUAGE=en-US:Dear all\,\n\n\n\nThe next IANA Function Review 
 Team (IFRT) teleconference will be 31 March at 17:00 UTC.  (time zone<http
 s://www.timeanddate.com/worldclock/fixedtime.html?msg=next+IANA+Function+R
 eview+Team+%28IFRT%29+%238&iso=20200331T17&ah=1&am=30>)\n\n\n\nAn agenda w
 ill be circulated prior to the call.\n\n\n\nCall details:\n\nJoin Zoom Mee
 ting\n\nhttps://icann.zoom.us/j/670198242\n\n\n\nMeeting ID: 670 198 242\n
 \nWiki page:  https://community.icann.org/x/RSiJBw (attendance\, backgroun
 d material\, recording and notes will be posted here as it becomes availab
 le)\n\nOne tap mobile\n\n+16699006833\,\,670198242# US (San Jose)\n\n+1346
 2487799\,\,670198242# US (Houston)\n\nFind your local number: https://ican
 n.zoom.us/u/aAAP6aGAx\n\n\n\n\n
SUMMARY;LANGUAGE=en-US:NEXT:  IANA Function Review Team (IFRT) teleconferen
 ce | 31 March at 17:00 UTC
DTSTART;TZID=UTC:20200331T170000
DTEND;TZID=UTC:20200331T183000
UID:1CDF6A37-608A-4E10-AFED-4DAC560D84F5
CLASS:PUBLIC
PRIORITY:5
DTSTAMP:20200318T150839Z
TRANSP:OPAQUE
STATUS:CONFIRMED
SEQUENCE:0
LOCATION;LANGUAGE=en-US:https://icann.zoom.us/j/670198242 
X-MICROSOFT-CDO-APPT-SEQUENCE:0
X-MICROSOFT-CDO-OWNERAPPTID:2118357475
X-MICROSOFT-CDO-BUSYSTATUS:TENTATIVE
X-MICROSOFT-CDO-INTENDEDSTATUS:BUSY
X-MICROSOFT-CDO-ALLDAYEVENT:FALSE
X-MICROSOFT-CDO-IMPORTANCE:1
X-MICROSOFT-CDO-INSTTYPE:0
X-MICROSOFT-DISALLOW-COUNTER:FALSE
BEGIN:VALARM
DESCRIPTION:REMINDER
TRIGGER;RELATED=START:-PT15M
ACTION:DISPLAY
END:VALARM
END:VEVENT
END:VCALENDAR
